Benchmark-Timer v0.7108 Perl 5 v5.24.4 amd64-freebsd
- Status
- Pass
- From
- Nigel Horne
- Dist
-
Benchmark-Timer v0.7108
- Platform
- Perl 5 v5.24.4 amd64-freebsd
- Date
- 2018-07-03 15:09:41
- ID
- 1c76b72e-7ed3-11e8-80c1-a1d5b8d57a06
This distribution has been tested as part of the CPAN Testers
project, supporting the Perl programming language. See
http://wiki.cpantesters.org/ for more information or email
questions to cpan-testers-discuss@perl.org
--
Dear David Coppit,
This is a computer-generated report for Benchmark-Timer-0.7108
on perl 5.24.4, created by CPAN-Reporter-1.2018.
Thank you for uploading your work to CPAN. Congratulations!
All tests were successful.
Sections of this report:
* Tester comments
* Program output
* Prerequisites
* Environment and other context
------------------------------
TESTER COMMENTS
------------------------------
Additional comments from tester:
this report is from an automated smoke testing program
and was not reviewed by a human for accuracy
------------------------------
PROGRAM OUTPUT
------------------------------
Output from '/usr/bin/make test':
PERL_DL_NONLAZY=1 "/usr/home/njh/perl5/perlbrew/perls/perl-5.24.4/bin/perl5.24.4" "-MExtUtils::Command::MM" "-MTest::Harness" "-e" "undef *Test::Harness::Switches; test_harness(1, 'blib/lib', 'blib/arch')" t/*.t
t/000_standard__compile.t .......
1..1
ok 1 - Compile test for blib/lib/Benchmark/Timer.pm
ok
t/000_standard__perl_critic.t ... skipped: Author test. Set $ENV{TEST_AUTHOR} to a true value to run.
t/000_standard__pod.t ...........
1..2
ok 1 - POD test for blib/lib/Benchmark/Timer.pm
ok 2 - POD test for blib/lib/Benchmark/delta.pl
ok
t/000_standard__pod_coverage.t ..
1..1
ok 1 - Pod coverage on Benchmark::Timer
ok
t/01_basic.t ....................
1..11
ok 1 - use Benchmark::Timer;
ok 2 - Construct Benchmark::Timer
ok 3 - reset
ok 4 - Start/stop a tag
ok 5 - Nonzero single result
ok 6 - Multiple results
ok 7 - 'Array ref results' isa 'ARRAY'
ok 8 - tag data array
ok 9 - 'Array ref data' isa 'ARRAY'
ok 10 - all tags data array
ok 11 - 'all tags data ref' isa 'ARRAY'
ok
t/02_skip.t .....................
1..5
ok 1 - Data size two tags
ok 2 - Data size skip 1
ok 3 - Data size 1 trial only
ok 4 - Data size no trials
ok 5 - Data size no trials (n+1)
ok
t/03_statistical.t .............. skipped: Statistics::PointEstimation is not installed
t/04_reports.t ..................
1..10
ok 1 - Start/stop a tag
ok 2 - Single timing report
ok 3 - Multiple timing report
ok 4 - Multiple timing report--scalar
ok 5 - Multiple timing report--hash
ok 6 - Single timing report--last tag used
ok 7 - Multiple timing report--scalar
ok 8 - Multiple timing report--hash
ok 9 - Multiple timing report--hash element 1
ok 10 - Multiple timing report--hash element 2
ok
t/99_errors.t ...................
1..6
ok 1 - Must call start first
ok 2 - Out of sync
ok 3 - Argument skip 1
ok 4 - Argument skip 2
ok 5 - Argument skip 3
ok 6 - Invalid argument
ok
All tests successful.
Files=9, Tests=36, 0 wallclock secs ( 0.02 usr 0.03 sys + 0.47 cusr 0.12 csys = 0.65 CPU)
Result: PASS
------------------------------
PREREQUISITES
------------------------------
Prerequisite modules loaded:
requires:
Module Need Have
------------------- ----- --------
perl 5.005 5.024004
Time::HiRes 0 1.9741
build_requires:
Module Need Have
------------------- ----- --------
ExtUtils::MakeMaker 6.36 7.10_02
Test::Compile 0 v1.3.0
Test::More 0 1.302136
UNIVERSAL::require 0 0.18
URI::Escape 0 3.31
configure_requires:
Module Need Have
------------------- ----- --------
ExtUtils::MakeMaker 6.36 7.10_02
URI::Escape 0 3.31
------------------------------
ENVIRONMENT AND OTHER CONTEXT
------------------------------
Environment variables:
AUTOMATED_TESTING = 1
PATH = /home/njh/perl5/perlbrew/bin:/home/njh/perl5/perlbrew/perls/perl-5.24.4/bin:/home/njh/src/njh/smoker/bin:/sbin:/bin:/usr/sbin:/usr/bin:/usr/local/sbin:/usr/local/bin
PERL5LIB = /home/njh/.cpan/build/Polyglot-1.003-0/blib/arch:/home/njh/.cpan/build/Polyglot-1.003-0/blib/lib
PERL5OPT =
PERL5_CPANPLUS_IS_RUNNING = 84500
PERL5_CPAN_IS_RUNNING = 84500
PERLBREW_HOME = /home/njh/.perlbrew
PERLBREW_MANPATH = /home/njh/perl5/perlbrew/perls/perl-5.24.4/man
PERLBREW_PATH = /home/njh/perl5/perlbrew/bin:/home/njh/perl5/perlbrew/perls/perl-5.24.4/bin
PERLBREW_PERL = perl-5.24.4
PERLBREW_ROOT = /home/njh/perl5/perlbrew
PERLBREW_SHELLRC_VERSION = 0.83
PERLBREW_VERSION = 0.83
SHELL = /bin/sh
TMPDIR = /tmp/testwrapper.84489
Perl special variables (and OS-specific diagnostics, for MSWin32):
$^X = /usr/home/njh/perl5/perlbrew/perls/perl-5.24.4/bin/perl5.24.4
$UID/$EUID = 1000 / 1000
$GID = 1000 1000 0
$EGID = 1000 1000 0
Perl module toolchain versions installed:
Module Have
------------------- ----------
CPAN 2.16
CPAN::Meta 2.150005
Cwd 3.63_01
ExtUtils::CBuilder 0.280225
ExtUtils::Command 7.10_02
ExtUtils::Install 2.04
ExtUtils::MakeMaker 7.10_02
ExtUtils::Manifest 1.70
ExtUtils::ParseXS 3.31
File::Spec 3.63_01
JSON 2.97001
JSON::PP 2.27300_01
Module::Build 0.4224
Module::Signature n/a
Parse::CPAN::Meta 1.4417_001
Test::Harness 3.36_01
Test::More 1.302136
YAML 1.26
YAML::Syck 1.30
version 0.9916
--
Summary of my perl5 (revision 5 version 24 subversion 4) configuration:
Platform:
osname=freebsd, osvers=11.1-release-p4, archname=amd64-freebsd
uname='freebsd njh3.vultr.com 11.1-release-p4 freebsd 11.1-release-p4 #0: tue nov 14 06:12:40 utc 2017 root@amd64-builder.daemonology.net:usrobjusrsrcsysgeneric amd64 '
config_args='-de -Dprefix=/home/njh/perl5/perlbrew/perls/perl-5.24.4 -Aeval:scriptdir=/home/njh/perl5/perlbrew/perls/perl-5.24.4/bin'
hint=recommended, useposix=true, d_sigaction=define
useithreads=undef, usemultiplicity=undef
use64bitint=define, use64bitall=define, uselongdouble=undef
usemymalloc=n, bincompat5005=undef
Compiler:
cc='cc', ccflags ='-DHAS_FPSETMASK -DHAS_FLOATINGPOINT_H -fno-strict-aliasing -pipe -fstack-protector-strong -I/usr/local/include -D_FORTIFY_SOURCE=2',
optimize='-O',
cppflags='-DHAS_FPSETMASK -DHAS_FLOATINGPOINT_H -fno-strict-aliasing -pipe -fstack-protector-strong -I/usr/local/include'
ccversion='', gccversion='4.2.1 Compatible FreeBSD Clang 4.0.0 (tags/RELEASE_400/final 297347)', gccosandvers=''
intsize=4, longsize=8, ptrsize=8, doublesize=8, byteorder=12345678, doublekind=3
d_longlong=define, longlongsize=8, d_longdbl=define, longdblsize=16, longdblkind=3
ivtype='long', ivsize=8, nvtype='double', nvsize=8, Off_t='off_t', lseeksize=8
alignbytes=8, prototype=define
Linker and Libraries:
ld='cc', ldflags ='-Wl,-E -fstack-protector-strong -L/usr/local/lib'
libpth=/usr/lib /usr/local/lib /usr/bin/../lib/clang/4.0.0/lib /usr/lib
libs=-lpthread -lm -lcrypt -lutil -lc
perllibs=-lpthread -lm -lcrypt -lutil -lc
libc=, so=so, useshrplib=false, libperl=libperl.a
gnulibc_version=''
Dynamic Linking:
dlsrc=dl_dlopen.xs, dlext=so, d_dlsymun=undef, ccdlflags=' '
cccdlflags='-DPIC -fPIC', lddlflags='-shared -L/usr/local/lib -fstack-protector-strong'
Characteristics of this binary (from libperl):
Compile-time options: HAS_TIMES PERLIO_LAYERS PERL_COPY_ON_WRITE
PERL_DONT_CREATE_GVSV
PERL_HASH_FUNC_ONE_AT_A_TIME_HARD PERL_MALLOC_WRAP
PERL_PRESERVE_IVUV USE_64_BIT_ALL USE_64_BIT_INT
USE_LARGE_FILES USE_LOCALE USE_LOCALE_COLLATE
USE_LOCALE_CTYPE USE_LOCALE_NUMERIC USE_LOCALE_TIME
USE_PERLIO USE_PERL_ATOF
Locally applied patches:
Devel::PatchPerl 1.48
Built under freebsd
Compiled at Jun 3 2018 16:01:43
%ENV:
PERL5LIB="/home/njh/.cpan/build/Polyglot-1.003-0/blib/arch:/home/njh/.cpan/build/Polyglot-1.003-0/blib/lib"
PERL5OPT=""
PERL5_CPANPLUS_IS_RUNNING="84500"
PERL5_CPAN_IS_RUNNING="84500"
PERLBREW_HOME="/home/njh/.perlbrew"
PERLBREW_MANPATH="/home/njh/perl5/perlbrew/perls/perl-5.24.4/man"
PERLBREW_PATH="/home/njh/perl5/perlbrew/bin:/home/njh/perl5/perlbrew/perls/perl-5.24.4/bin"
PERLBREW_PERL="perl-5.24.4"
PERLBREW_ROOT="/home/njh/perl5/perlbrew"
PERLBREW_SHELLRC_VERSION="0.83"
PERLBREW_VERSION="0.83"
@INC:
/home/njh/.cpan/build/Polyglot-1.003-0/blib/arch
/home/njh/.cpan/build/Polyglot-1.003-0/blib/lib
/home/njh/perl5/perlbrew/perls/perl-5.24.4/lib/site_perl/5.24.4/amd64-freebsd
/home/njh/perl5/perlbrew/perls/perl-5.24.4/lib/site_perl/5.24.4
/home/njh/perl5/perlbrew/perls/perl-5.24.4/lib/5.24.4/amd64-freebsd
/home/njh/perl5/perlbrew/perls/perl-5.24.4/lib/5.24.4
.