Back
From: metabase:user:320bfe00-2aae-11df-837a-5e0a49663a4f
Subject: PASS POE-Loop-AnyEvent-0.004 v5.21.11 GNU/Linux
Date: 2015-04-01T04:46:50Z
This distribution has been tested as part of the CPAN Testers
project, supporting the Perl programming language. See
http://wiki.cpantesters.org/ for more information or email
questions to cpan-testers-discuss@perl.org
--
Dear Chris Williams,
This is a computer-generated report for POE-Loop-AnyEvent-0.004
on perl 5.21.11, created by CPAN-Reporter-1.2011.
Thank you for uploading your work to CPAN. Congratulations!
All tests were successful.
Sections of this report:
* Tester comments
* Program output
* Prerequisites
* Environment and other context
------------------------------
TESTER COMMENTS
------------------------------
Additional comments from tester:
this report is from an automated smoke testing program
and was not reviewed by a human for accuracy
------------------------------
PROGRAM OUTPUT
------------------------------
Output from '/usr/bin/make test':
PERL_DL_NONLAZY=1 "/tmp/basesmoker-reloperl-Kej3/bin/perl" "-MExtUtils::Command::MM" "-MTest::Harness" "-e" "undef *Test::Harness::Switches; test_harness(0, 'blib/lib', 'blib/arch')" t/*.t t/poe_loop_anyevent/*.t
# Testing POE 1.366, Perl 5.021011, /tmp/basesmoker-reloperl-Kej3/bin/perl on linux
t/00_info.t ......................................... ok
# Testing POE 1.366, POE::Test::Loops 1.360, Using Loop(POE::Loop::AnyEvent), Perl 5.021011, /tmp/basesmoker-reloperl-Kej3/bin/perl on linux
t/poe_loop_anyevent/00_info.t ....................... ok
t/poe_loop_anyevent/all_errors.t .................... skipped: most of these should move into other test files
t/poe_loop_anyevent/comp_tcp.t ...................... ok
# You might see a 'disconnect' error during this test.
# It may be ignored.
t/poe_loop_anyevent/comp_tcp_concurrent.t ........... ok
t/poe_loop_anyevent/connect_errors.t ................ ok
t/poe_loop_anyevent/k_alarms.t ...................... ok
t/poe_loop_anyevent/k_aliases.t ..................... ok
t/poe_loop_anyevent/k_detach.t ...................... ok
t/poe_loop_anyevent/k_run_returns.t ................. ok
t/poe_loop_anyevent/k_selects.t ..................... ok
t/poe_loop_anyevent/k_sig_child.t ................... ok
t/poe_loop_anyevent/k_signals.t ..................... ok
t/poe_loop_anyevent/k_signals_rerun.t ............... ok
t/poe_loop_anyevent/sbk_signal_init.t ............... ok
t/poe_loop_anyevent/ses_nfa.t ....................... ok
# This test generates some STDERR during trace testing.
=== 7110 === 23 -> _start (from /home/sand/src/perl/repoperls/installed-perls/perl/v5.21.10-48-g0145df7/9980/lib/site_perl/5.21.11/POE/Kernel.pm at 1485)
=== 7110 === 23 -> woot (from /home/sand/src/perl/repoperls/installed-perls/perl/v5.21.10-48-g0145df7/9980/lib/site_perl/5.21.11/POE/Test/Loops/ses_session.pm at 691)
=== 7110 === 23 -> narf (from /home/sand/src/perl/repoperls/installed-perls/perl/v5.21.10-48-g0145df7/9980/lib/site_perl/5.21.11/POE/Test/Loops/ses_session.pm at 692)
=== 7110 === 23 -> _stop (from /home/sand/src/perl/repoperls/installed-perls/perl/v5.21.10-48-g0145df7/9980/lib/site_perl/5.21.11/POE/Resource/Sessions.pm at 571)
t/poe_loop_anyevent/ses_session.t ................... ok
t/poe_loop_anyevent/wheel_accept.t .................. ok
t/poe_loop_anyevent/wheel_curses.t .................. skipped: Need help with Curses functions blocking under ptys
t/poe_loop_anyevent/wheel_readline.t ................ ok
t/poe_loop_anyevent/wheel_readwrite.t ............... ok
t/poe_loop_anyevent/wheel_run.t ..................... ok
t/poe_loop_anyevent/wheel_run_size.t ................ ok
t/poe_loop_anyevent/wheel_sf_ipv6.t ................. skipped: Socket::GetAddrInfo is needed for IPv6 tests
t/poe_loop_anyevent/wheel_sf_tcp.t .................. ok
t/poe_loop_anyevent/wheel_sf_udp.t .................. ok
t/poe_loop_anyevent/wheel_sf_unix.t ................. ok
t/poe_loop_anyevent/wheel_tail.t .................... ok
t/poe_loop_anyevent/z_kogman_sig_order.t ............ ok
t/poe_loop_anyevent/z_leolo_wheel_run.t ............. ok
# Using '/bin/true' as our thing to run under system()
t/poe_loop_anyevent/z_merijn_sigchld_system.t ....... ok
t/poe_loop_anyevent/z_rt39872_sigchld.t ............. ok
# Parent 7168 waiting 3sec for slow systems to settle.
# sending sigusr1
# sent sigusr1
t/poe_loop_anyevent/z_rt39872_sigchld_stop.t ........ ok
t/poe_loop_anyevent/z_rt53302_fh_watchers.t ......... ok
t/poe_loop_anyevent/z_rt54319_bazerka_followtail.t .. ok
t/poe_loop_anyevent/z_steinert_signal_integrity.t ... ok
t/release-pod-syntax.t .............................. skipped: these tests are for release candidate testing
All tests successful.
Files=37, Tests=490, 31 wallclock secs ( 0.18 usr 0.19 sys + 5.79 cusr 1.72 csys = 7.88 CPU)
Result: PASS
------------------------------
PREREQUISITES
------------------------------
Prerequisite modules loaded:
requires:
Module Need Have
------------------- ----- -----
AnyEvent 0 7.08
POE 1.289 1.366
build_requires:
Module Need Have
------------------- ----- -----
ExtUtils::MakeMaker 0 7.04
configure_requires:
Module Need Have
------------------- ----- -----
ExtUtils::MakeMaker 6.30 7.04
POE::Test::Loops 1.035 1.360
------------------------------
ENVIRONMENT AND OTHER CONTEXT
------------------------------
Environment variables:
AUTOMATED_TESTING = 1
LANG = en_US.UTF-8
LANGUAGE = en_US:en
PATH = /home/sand/bin:/usr/local/bin:/usr/bin:/bin:/usr/games:/usr/local/perl/bin:/usr/X11/bin:/sbin:/usr/sbin
PERL5LIB =
PERL5OPT =
PERL5_CPANPLUS_IS_RUNNING = 18288
PERL5_CPAN_IS_RUNNING = 18288
PERL_MM_USE_DEFAULT = 1
SHELL = /usr/bin/zsh
TERM = screen
Perl special variables (and OS-specific diagnostics, for MSWin32):
$^X = /tmp/basesmoker-reloperl-Kej3/bin/perl
$UID/$EUID = 1005 / 1005
$GID = 1005 1005
$EGID = 1005 1005
Perl module toolchain versions installed:
Module Have
------------------- --------
CPAN 2.10
CPAN::Meta 2.150001
Cwd 3.56
ExtUtils::CBuilder 0.280221
ExtUtils::Command 1.20
ExtUtils::Install 2.04
ExtUtils::MakeMaker 7.04
ExtUtils::Manifest 1.70
ExtUtils::ParseXS 3.28
File::Spec 3.56
JSON 2.90
JSON::PP 2.27300
Module::Build 0.4211
Module::Signature 0.73
Parse::CPAN::Meta 1.4414
Test::Harness 3.35
Test::More 1.001014
YAML 1.14
YAML::Syck 1.29
version 0.9909
--
Summary of my perl5 (revision 5 version 21 subversion 11) configuration:
Commit id: 0145df7dd5b968b40a7863a706f0ede54ad4249d
Platform:
osname=linux, osvers=3.16.0-4-amd64, archname=x86_64-linux-thread-multi
uname='linux k83 3.16.0-4-amd64 #1 smp debian 3.16.7-ckt7-1 (2015-03-01) x86_64 gnulinux '
config_args='-Dprefix=/home/sand/src/perl/repoperls/installed-perls/perl/v5.21.10-48-g0145df7/9980 -Dmyhostname=k83 -Dinstallusrbinperl=n -Uversiononly -Dusedevel -des -Ui_db -Duseithreads -Uuselongdouble -DDEBUGGING=-g'
hint=recommended, useposix=true, d_sigaction=define
useithreads=define, usemultiplicity=define
use64bitint=define, use64bitall=define, uselongdouble=undef
usemymalloc=n, bincompat5005=undef
Compiler:
cc='cc', ccflags ='-D_REENTRANT -D_GNU_SOURCE -fwrapv -fno-strict-aliasing -pipe -fstack-protector-strong -I/usr/local/include -D_LARGEFILE_SOURCE -D_FILE_OFFSET_BITS=64 -D_FORTIFY_SOURCE=2',
optimize='-O2 -g',
cppflags='-D_REENTRANT -D_GNU_SOURCE -fwrapv -fno-strict-aliasing -pipe -fstack-protector-strong -I/usr/local/include'
ccversion='', gccversion='4.9.2', gccosandvers=''
intsize=4, longsize=8, ptrsize=8, doublesize=8, byteorder=12345678, doublekind=3
d_longlong=define, longlongsize=8, d_longdbl=define, longdblsize=16, longdblkind=3
ivtype='long', ivsize=8, nvtype='double', nvsize=8, Off_t='off_t', lseeksize=8
alignbytes=8, prototype=define
Linker and Libraries:
ld='cc', ldflags =' -fstack-protector-strong -L/usr/local/lib'
libpth=/usr/local/lib /usr/lib/gcc/x86_64-linux-gnu/4.9/include-fixed /usr/include/x86_64-linux-gnu /usr/lib /lib/x86_64-linux-gnu /lib/../lib /usr/lib/x86_64-linux-gnu /usr/lib/../lib /lib
libs=-lpthread -lnsl -lgdbm -ldb -ldl -lm -lcrypt -lutil -lc -lgdbm_compat
perllibs=-lpthread -lnsl -ldl -lm -lcrypt -lutil -lc
libc=libc-2.19.so, so=so, useshrplib=false, libperl=libperl.a
gnulibc_version='2.19'
Dynamic Linking:
dlsrc=dl_dlopen.xs, dlext=so, d_dlsymun=undef, ccdlflags='-Wl,-E'
cccdlflags='-fPIC', lddlflags='-shared -O2 -g -L/usr/local/lib -fstack-protector-strong'
Characteristics of this binary (from libperl):
Compile-time options: HAS_TIMES MULTIPLICITY PERLIO_LAYERS
PERL_DONT_CREATE_GVSV
PERL_HASH_FUNC_ONE_AT_A_TIME_HARD
PERL_IMPLICIT_CONTEXT PERL_MALLOC_WRAP
PERL_NEW_COPY_ON_WRITE PERL_PRESERVE_IVUV
PERL_USE_DEVEL USE_64_BIT_ALL USE_64_BIT_INT
USE_ITHREADS USE_LARGE_FILES USE_LOCALE
USE_LOCALE_COLLATE USE_LOCALE_CTYPE
USE_LOCALE_NUMERIC USE_LOCALE_TIME USE_PERLIO
USE_PERL_ATOF USE_REENTRANT_API
Built under linux
Compiled at Mar 31 2015 06:04:54
%ENV:
PERL5LIB=""
PERL5OPT=""
PERL5_CPANPLUS_IS_RUNNING="18288"
PERL5_CPAN_IS_RUNNING="18288"
PERL_MM_USE_DEFAULT="1"
@INC:
/home/sand/src/perl/repoperls/installed-perls/perl/v5.21.10-48-g0145df7/9980/lib/site_perl/5.21.11/x86_64-linux-thread-multi
/home/sand/src/perl/repoperls/installed-perls/perl/v5.21.10-48-g0145df7/9980/lib/site_perl/5.21.11
/home/sand/src/perl/repoperls/installed-perls/perl/v5.21.10-48-g0145df7/9980/lib/5.21.11/x86_64-linux-thread-multi
/home/sand/src/perl/repoperls/installed-perls/perl/v5.21.10-48-g0145df7/9980/lib/5.21.11
.