IO-Stringy v2.113 Perl 5 v5.34.0 RC1 armv7l-linux
- Status
- Pass
- From
- John SJ Anderson
- Dist
-
IO-Stringy v2.113
- Platform
- Perl 5 v5.34.0 RC1 armv7l-linux
- Date
- 2021-05-13 07:01:59
- ID
- 1c92fbf0-b3b9-11eb-852f-969cfbd4778d
This distribution has been tested as part of the CPAN Testers
project, supporting the Perl programming language. See
http://wiki.cpantesters.org/ for more information or email
questions to cpan-testers-discuss@perl.org
--
Dear CAPOEIRAB,
This is a computer-generated report for IO-Stringy-2.113
on perl 5.34.0, created by App::cpanminus::reporter 0.17 (1.7044).
Thank you for uploading your work to CPAN. Congratulations!
All tests were successful.
Sections of this report:
* Tester comments
* Program output
* Prerequisites
* Environment and other context
------------------------------
TESTER COMMENTS
------------------------------
Additional comments from tester:
none provided
------------------------------
PROGRAM OUTPUT
------------------------------
Output from '':
Building and testing IO-Stringy-2.113
cp lib/IO/WrapTie.pm blib/lib/IO/WrapTie.pm
cp lib/IO/Lines.pm blib/lib/IO/Lines.pm
cp lib/IO/Wrap.pm blib/lib/IO/Wrap.pm
cp lib/IO/AtomicFile.pm blib/lib/IO/AtomicFile.pm
cp lib/IO/Stringy.pm blib/lib/IO/Stringy.pm
cp lib/IO/Scalar.pm blib/lib/IO/Scalar.pm
cp lib/IO/InnerFile.pm blib/lib/IO/InnerFile.pm
cp lib/IO/ScalarArray.pm blib/lib/IO/ScalarArray.pm
Manifying 8 pod documents
PERL_DL_NONLAZY=1 "/opt/plenv/versions/5.34.0-RC1/bin/perl5.34.0" "-MExtUtils::Command::MM" "-MTest::Harness" "-e" "undef *Test::Harness::Switches; test_harness(0, 'blib/lib', 'blib/arch')" t/*.t
#
# Versions for all modules listed in MYMETA.json (including optional ones):
#
# === Configure Requires ===
#
# Module Want Have
# ------------------- ---- ----
# ExtUtils::MakeMaker any 7.62
#
# === Build Requires ===
#
# Module Want Have
# ------------------- ---- ----
# ExtUtils::MakeMaker any 7.62
#
# === Test Requires ===
#
# Module Want Have
# ------------------- ---- --------
# ExtUtils::MakeMaker any 7.62
# File::Basename any 2.85
# File::Spec any 3.80
# File::Temp any 0.2311
# FileHandle any 2.03
# IO::File any 1.46
# IO::Handle any 1.46
# Symbol any 1.09
# Test::More 0.88 1.302183
# Test::Tester any 1.302183
# strict any 1.12
# warnings any 1.51
#
# === Test Recommends ===
#
# Module Want Have
# ---------- -------- --------
# CPAN::Meta 2.120900 2.150010
#
# === Runtime Requires ===
#
# Module Want Have
# ---------- ---- -----
# Carp any 1.52
# Exporter 5.57 5.76
# File::Spec any 3.80
# FileHandle any 2.03
# IO::File any 1.46
# IO::Handle any 1.46
# Symbol any 1.09
# overload any 1.33
# parent any 0.238
# strict any 1.12
# warnings any 1.51
#
t/00-report-prereqs.t .. ok
t/IO_InnerFile.t ....... ok
t/IO_Lines.t ........... ok
t/IO_Scalar.t .......... ok
t/IO_ScalarArray.t ..... ok
t/IO_WrapTie.t ......... ok
t/simple.t ............. ok
t/two.t ................ ok
All tests successful.
Files=8, Tests=127, 2 wallclock secs ( 0.11 usr 0.03 sys + 1.83 cusr 0.22 csys = 2.19 CPU)
Result: PASS
------------------------------
PREREQUISITES
------------------------------
Prerequisite modules loaded:
No requirements found
------------------------------
ENVIRONMENT AND OTHER CONTEXT
------------------------------
Environment variables:
LANG = en_US.UTF-8
LC_ALL = en_US.UTF-8
LC_TERMINAL = iTerm2
LC_TERMINAL_VERSION = 3.4.4
PATH = /opt/plenv/versions/5.34.0-RC1/bin:/opt/plenv/libexec:/opt/plenv/plugins/Perl-Build/bin:/opt/plenv/shims:/opt/plenv/shims:/opt/plenv/bin:/home/genehack/bin:/opt/nvm/versions/node/v12.17.0/bin:/opt/git/bin:/opt/emacs/bin:/opt/local/bin:/usr/local/bin:/usr/bin:/bin:/usr/games
PERL_CPANM_OPT = --skip-installed --prompt
SHELL = /bin/zsh
TERM = screen-256color
Perl special variables (and OS-specific diagnostics, for MSWin32):
EGID = 1001 27 1001
EUID = 1000
EXECUTABLE_NAME = /opt/plenv/versions/5.34.0-RC1/bin/perl5.34.0
GID = 1001 27 1001
UID = 1000
Perl module toolchain versions installed:
Module Have
------------------- --------
CPAN 2.28
CPAN::Meta 2.150010
Cwd 3.80
ExtUtils::CBuilder 0.280236
ExtUtils::Command 7.62
ExtUtils::Install 2.20
ExtUtils::MakeMaker 7.62
ExtUtils::Manifest 1.73
ExtUtils::ParseXS 3.43
File::Spec 3.80
JSON 4.03
JSON::PP 4.06
Module::Build 0.4231
Module::Signature n/a
Parse::CPAN::Meta 2.150010
Test::Harness 3.43
Test::More 1.302183
YAML 1.30
YAML::Syck n/a
version 0.9928
--
Summary of my perl5 (revision 5 version 34 subversion 0) configuration:
Platform:
osname=linux
osvers=5.10.11-v7l+
archname=armv7l-linux
uname='linux weefree 5.10.11-v7l+ #1399 smp thu jan 28 12:09:48 gmt 2021 armv7l gnulinux '
config_args='-Dprefix=/opt/plenv/versions/5.34.0-RC1 -de -Dversiononly -A'eval:scriptdir=/opt/plenv/versions/5.34.0-RC1/bin''
hint=recommended
useposix=true
d_sigaction=define
useithreads=undef
usemultiplicity=undef
use64bitint=undef
use64bitall=undef
uselongdouble=undef
usemymalloc=n
default_inc_excludes_dot=define
Compiler:
cc='cc'
ccflags ='-fwrapv -fno-strict-aliasing -pipe -fstack-protector-strong -I/usr/local/include -D_LARGEFILE_SOURCE -D_FILE_OFFSET_BITS=64 -D_FORTIFY_SOURCE=2'
optimize='-O2'
cppflags='-fwrapv -fno-strict-aliasing -pipe -fstack-protector-strong -I/usr/local/include'
ccversion=''
gccversion='8.3.0'
gccosandvers=''
intsize=4
longsize=4
ptrsize=4
doublesize=8
byteorder=1234
doublekind=3
d_longlong=define
longlongsize=8
d_longdbl=define
longdblsize=8
longdblkind=0
ivtype='long'
ivsize=4
nvtype='double'
nvsize=8
Off_t='off_t'
lseeksize=8
alignbytes=8
prototype=define
Linker and Libraries:
ld='cc'
ldflags =' -fstack-protector-strong -L/usr/local/lib'
libpth=/usr/local/lib /usr/lib/arm-linux-gnueabihf /usr/lib /lib/arm-linux-gnueabihf /lib
libs=-lpthread -lnsl -ldl -lm -lcrypt -lutil -lc
perllibs=-lpthread -lnsl -ldl -lm -lcrypt -lutil -lc
libc=libc-2.28.so
so=so
useshrplib=false
libperl=libperl.a
gnulibc_version='2.28'
Dynamic Linking:
dlsrc=dl_dlopen.xs
dlext=so
d_dlsymun=undef
ccdlflags='-Wl,-E'
cccdlflags='-fPIC'
lddlflags='-shared -O2 -L/usr/local/lib -fstack-protector-strong'
Characteristics of this binary (from libperl):
Compile-time options:
HAS_TIMES
PERLIO_LAYERS
PERL_COPY_ON_WRITE
PERL_DONT_CREATE_GVSV
PERL_MALLOC_WRAP
PERL_OP_PARENT
PERL_PRESERVE_IVUV
USE_LARGE_FILES
USE_LOCALE
USE_LOCALE_COLLATE
USE_LOCALE_CTYPE
USE_LOCALE_NUMERIC
USE_LOCALE_TIME
USE_PERLIO
USE_PERL_ATOF
Locally applied patches:
RC1
Built under linux
Compiled at May 12 2021 20:55:53
%ENV:
PERL_CPANM_OPT="--skip-installed --prompt"
@INC:
/opt/plenv/versions/5.34.0-RC1/lib/perl5/site_perl/5.34.0/armv7l-linux
/opt/plenv/versions/5.34.0-RC1/lib/perl5/site_perl/5.34.0
/opt/plenv/versions/5.34.0-RC1/lib/perl5/5.34.0/armv7l-linux
/opt/plenv/versions/5.34.0-RC1/lib/perl5/5.34.0