Report for Net-Object-Peer-0.06-TRIAL

Back
From: metabase:user:320bfe00-2aae-11df-837a-5e0a49663a4f
Subject: PASS Net-Object-Peer-0.06-TRIAL v5.25.9 GNU/Linux
Date: 2017-01-27T00:32:41Z

This distribution has been tested as part of the CPAN Testers
project, supporting the Perl programming language.  See
http://wiki.cpantesters.org/ for more information or email
questions to cpan-testers-discuss@perl.org


--
Dear Diab Jerius,

This is a computer-generated report for Net-Object-Peer-0.06-TRIAL
on perl 5.25.9, created by CPAN-Reporter-1.2018.

Thank you for uploading your work to CPAN.  Congratulations!
All tests were successful.

Sections of this report:

    * Tester comments
    * Program output
    * Prerequisites
    * Environment and other context

------------------------------
TESTER COMMENTS
------------------------------

Additional comments from tester:

this report is from an automated smoke testing program
and was not reviewed by a human for accuracy

------------------------------
PROGRAM OUTPUT
------------------------------

Output from '/usr/bin/make test':

PERL_DL_NONLAZY=1 "/home/sand/src/perl/repoperls/installed-perls/host/k93msid/v5.25.9/d2d1/bin/perl" "-MExtUtils::Command::MM" "-MTest::Harness" "-e" "undef *Test::Harness::Switches; test_harness(0, 'blib/lib', 'blib/arch')" t/*.t t/Net/Object/Peer/*.t t/api/*.t t/api/Peer/*.t t/attributes/*.t t/unsubscribe/*.t
t/00-compile.t ................. ok
# 
# Versions for all modules listed in MYMETA.json (including optional ones):
# 
# === Configure Requires ===
# 
#     Module              Want Have
#     ------------------- ---- ----
#     ExtUtils::MakeMaker  any 7.24
# 
# === Build Requires ===
# 
#     Module              Want Have
#     ------------------- ---- ----
#     ExtUtils::MakeMaker  any 7.24
# 
# === Test Requires ===
# 
#     Module                       Want     Have
#     ------------------------ -------- --------
#     Algorithm::Combinatorics      any     0.27
#     ExtUtils::MakeMaker           any     7.24
#     File::Spec                    any     3.66
#     IO::Handle                    any     1.36
#     IPC::Open3                    any     1.20
#     Moo                           any 2.003000
#     Sub::Quote               2.002002 2.003001
#     Test2::Bundle::Extended       any 0.000067
#     Test2::Bundle::More           any 0.000067
#     Test::API                     any    0.005
#     Test::Lib                     any    0.002
#     Test::More                    any 1.302075
#     Types::Standard               any 1.000005
#     namespace::clean              any     0.27
# 
# === Test Recommends ===
# 
#     Module         Want     Have
#     ---------- -------- --------
#     CPAN::Meta 2.120900 2.150010
# 
# === Runtime Requires ===
# 
#     Module                        Want     Have
#     ------------------------- -------- --------
#     Beam::Emitter                1.005    1.006
#     BeamX::Peer::Emitter           any    0.003
#     BeamX::Peer::Listener          any    0.003
#     Data::OptList                  any    0.110
#     List::Util                    1.45  1.46_02
#     Moo                            any 2.003000
#     MooX::ProtectedAttributes      any     0.03
#     Ref::Util                      any    0.113
#     Safe::Isa                      any 1.000006
#     Scalar::Util                   any  1.46_02
#     Sub::Quote                2.002002 2.003001
#     Sub::QuoteX::Utils            0.03     0.03
#     Types::Standard                any 1.000005
#     namespace::clean               any     0.27
#     strict                         any     1.11
#     strictures                       2 2.000003
#     warnings                       any     1.37
# 
t/00-report-prereqs.t .......... ok
t/api.t ........................ ok
t/api/Peer.t ................... ok
t/api/Peer/Emitter.t ........... ok
t/api/Peer/Event.t ............. ok
t/api/Peer/Listener.t .......... ok
t/api/Peer/RefAddr.t ........... ok
t/api/Peer/Subscription.t ...... ok
t/api/Peer/Subscriptions.t ..... ok
t/api/Peer/UnsubscribeEvent.t .. ok
t/attributes/events.t .......... ok
t/attributes/prefix.t .......... ok
t/demolish.t ................... ok
t/ephemeral.t .................. ok
t/event_registry.t ............. ok
t/loops.t ...................... ok
t/mix_it_up.t .................. ok
t/Net/Object/Peer/RefAddr.t .... ok
t/subscriptions.t .............. ok
t/unsubscribe/all.t ............ ok
t/unsubscribe/event_object.t ... ok
t/unsubscribe/events.t ......... ok
t/unsubscribe/peer.t ........... ok
t/unsubscribe/peer_events.t .... ok
t/unsubscribe/refaddr.t ........ ok
t/weak_references.t ............ ok
All tests successful.
Files=27, Tests=54, 21 wallclock secs ( 0.09 usr  0.13 sys +  7.73 cusr  1.28 csys =  9.23 CPU)
Result: PASS

------------------------------
PREREQUISITES
------------------------------

Prerequisite modules loaded:

requires:

    Module                    Need     Have    
    ------------------------- -------- --------
    Beam::Emitter             1.005    1.006   
    BeamX::Peer::Emitter      0        0.003   
    BeamX::Peer::Listener     0        0.003   
    Data::OptList             0        0.110   
    List::Util                1.45     1.46_02 
    Moo                       0        2.003000
    MooX::ProtectedAttributes 0        0.03    
    namespace::clean          0        0.27    
    Ref::Util                 0        0.113   
    Safe::Isa                 0        1.000006
    Scalar::Util              0        1.46_02 
    strict                    0        1.11    
    strictures                2        2.000003
    Sub::Quote                2.002002 2.003001
    Sub::QuoteX::Utils        0.03     0.03    
    Types::Standard           0        1.000005
    warnings                  0        1.37    

build_requires:

    Module                    Need     Have    
    ------------------------- -------- --------
    Algorithm::Combinatorics  0        0.27    
    ExtUtils::MakeMaker       0        7.24    
    File::Spec                0        3.66    
    IO::Handle                0        1.36    
    IPC::Open3                0        1.20    
    Moo                       0        2.003000
    namespace::clean          0        0.27    
    Sub::Quote                2.002002 2.003001
    Test2::Bundle::Extended   0        0.000067
    Test2::Bundle::More       0        0.000067
    Test::API                 0        0.005   
    Test::Lib                 0        0.002   
    Test::More                0        1.302075
    Types::Standard           0        1.000005

configure_requires:

    Module                    Need     Have    
    ------------------------- -------- --------
    ExtUtils::MakeMaker       0        7.24    


------------------------------
ENVIRONMENT AND OTHER CONTEXT
------------------------------

Environment variables:

    AUTOMATED_TESTING = 1
    LANG = C
    PATH = /home/sand/bin:/usr/local/bin:/usr/bin:/bin:/usr/games:/usr/local/perl/bin:/usr/X11/bin:/sbin:/usr/sbin
    PERL5LIB = 
    PERL5OPT = 
    PERL5_CPANPLUS_IS_RUNNING = 15611
    PERL5_CPAN_IS_RUNNING = 15611
    PERL_CANARY_STABILITY_NOPROMPT = 1
    PERL_MM_USE_DEFAULT = 1
    SHELL = /usr/bin/zsh
    TERM = screen

Perl special variables (and OS-specific diagnostics, for MSWin32):

    $^X = /home/sand/src/perl/repoperls/installed-perls/host/k93msid/v5.25.9/d2d1/bin/perl
    $UID/$EUID = 1005 / 1005
    $GID = 1005 1005
    $EGID = 1005 1005

Perl module toolchain versions installed:

    Module              Have      
    ------------------- ----------
    CPAN                2.16      
    CPAN::Meta          2.150010  
    Cwd                 3.66      
    ExtUtils::CBuilder  0.280225  
    ExtUtils::Command   7.24      
    ExtUtils::Install   2.04      
    ExtUtils::MakeMaker 7.24      
    ExtUtils::Manifest  1.70      
    ExtUtils::ParseXS   3.33      
    File::Spec          3.66      
    JSON                2.90      
    JSON::PP            2.27400_02
    Module::Build       0.4220    
    Module::Signature   0.81      
    Parse::CPAN::Meta   2.150010  
    Test::Harness       3.36_01   
    Test::More          1.302075  
    YAML                1.21      
    YAML::Syck          1.29      
    version             0.9917    


--

Summary of my perl5 (revision 5 version 25 subversion 9) configuration:
  Commit id: 5d577b6f636aba916a1b0519669de4b2454c68ab
  Platform:
    osname=linux
    osvers=4.8.0-2-amd64
    archname=x86_64-linux
    uname='linux k93msid 4.8.0-2-amd64 #1 smp debian 4.8.11-1 (2016-12-02) x86_64 gnulinux '
    config_args='-Dprefix=/home/sand/src/perl/repoperls/installed-perls/host/k93msid/v5.25.9/d2d1 -Dmyhostname=k93msid -Dinstallusrbinperl=n -Uversiononly -Dusedevel -des -Ui_db -Dlibswanted=cl pthread socket inet nsl gdbm dbm malloc dl ld sun m crypt sec util c cposix posix ucb BSD gdbm_compat -Uuseithreads -Uuselongdouble -DDEBUGGING=both'
    hint=recommended
    useposix=true
    d_sigaction=define
    useithreads=undef
    usemultiplicity=undef
    use64bitint=define
    use64bitall=define
    uselongdouble=undef
    usemymalloc=n
    bincompat5005=undef
  Compiler:
    cc='cc'
    ccflags ='-fwrapv -DDEBUGGING -fno-strict-aliasing -pipe -fstack-protector-strong -I/usr/local/include -D_LARGEFILE_SOURCE -D_FILE_OFFSET_BITS=64'
    optimize='-O2 -g'
    cppflags='-fwrapv -DDEBUGGING -fno-strict-aliasing -pipe -fstack-protector-strong -I/usr/local/include'
    ccversion=''
    gccversion='6.2.1 20161124'
    gccosandvers=''
    intsize=4
    longsize=8
    ptrsize=8
    doublesize=8
    byteorder=12345678
    doublekind=3
    d_longlong=define
    longlongsize=8
    d_longdbl=define
    longdblsize=16
    longdblkind=3
    ivtype='long'
    ivsize=8
    nvtype='double'
    nvsize=8
    Off_t='off_t'
    lseeksize=8
    alignbytes=8
    prototype=define
  Linker and Libraries:
    ld='cc'
    ldflags =' -fstack-protector-strong -L/usr/local/lib'
    libpth=/usr/local/lib /usr/lib/gcc/x86_64-linux-gnu/6/include-fixed /usr/include/x86_64-linux-gnu /usr/lib /lib/x86_64-linux-gnu /lib/../lib /usr/lib/x86_64-linux-gnu /usr/lib/../lib /lib
    libs=-lpthread -lnsl -ldl -lm -lcrypt -lutil -lc
    perllibs=-lpthread -lnsl -ldl -lm -lcrypt -lutil -lc
    libc=libc-2.24.so
    so=so
    useshrplib=false
    libperl=libperl.a
    gnulibc_version='2.24'
  Dynamic Linking:
    dlsrc=dl_dlopen.xs
    dlext=so
    d_dlsymun=undef
    ccdlflags='-Wl,-E'
    cccdlflags='-fPIC'
    lddlflags='-shared -O2 -g -L/usr/local/lib -fstack-protector-strong'


Characteristics of this binary (from libperl): 
  Compile-time options:
    DEBUGGING
    HAS_TIMES
    PERLIO_LAYERS
    PERL_COPY_ON_WRITE
    PERL_DONT_CREATE_GVSV
    PERL_MALLOC_WRAP
    PERL_OP_PARENT
    PERL_PRESERVE_IVUV
    PERL_USE_DEVEL
    USE_64_BIT_ALL
    USE_64_BIT_INT
    USE_LARGE_FILES
    USE_LOCALE
    USE_LOCALE_COLLATE
    USE_LOCALE_CTYPE
    USE_LOCALE_NUMERIC
    USE_LOCALE_TIME
    USE_PERLIO
    USE_PERL_ATOF
  Built under linux
  Compiled at Jan 20 2017 18:24:24
  %ENV:
    PERL5LIB=""
    PERL5OPT=""
    PERL5_CPANPLUS_IS_RUNNING="15611"
    PERL5_CPAN_IS_RUNNING="15611"
    PERL_CANARY_STABILITY_NOPROMPT="1"
    PERL_MM_USE_DEFAULT="1"
  @INC:
    /home/sand/src/perl/repoperls/installed-perls/host/k93msid/v5.25.9/d2d1/lib/site_perl/5.25.9/x86_64-linux
    /home/sand/src/perl/repoperls/installed-perls/host/k93msid/v5.25.9/d2d1/lib/site_perl/5.25.9
    /home/sand/src/perl/repoperls/installed-perls/host/k93msid/v5.25.9/d2d1/lib/5.25.9/x86_64-linux
    /home/sand/src/perl/repoperls/installed-perls/host/k93msid/v5.25.9/d2d1/lib/5.25.9
    .