Back
From: metabase:user:fcf99560-6bf4-1014-86b3-1cf189224fdf
Subject: PASS Regexp-Common-2016060801 v5.24.0
Date: 2016-06-09T06:19:27Z
This distribution has been tested as part of the CPAN Testers
project, supporting the Perl programming language. See
http://wiki.cpantesters.org/ for more information or email
questions to cpan-testers-discuss@perl.org
--
Dear Abigail,
This is a computer-generated report for Regexp-Common-2016060801
on perl 5.24.0, created by CPAN-Reporter-1.2017.
Thank you for uploading your work to CPAN. Congratulations!
All tests were successful.
Sections of this report:
* Tester comments
* Program output
* Prerequisites
* Environment and other context
------------------------------
TESTER COMMENTS
------------------------------
Additional comments from tester:
this report is from an automated smoke testing program
and was not reviewed by a human for accuracy
------------------------------
PROGRAM OUTPUT
------------------------------
Output from 'C:\STRAWB~1\c\bin\dmake.exe test':
"C:\Strawberry\perl\bin\perl.exe" "-MExtUtils::Command::MM" "-MTest::Harness" "-e" "undef *Test::Harness::Switches; test_harness(0, 'blib\lib', 'blib\arch')" t/test___luhn.t t/test_balanced.t t/test_bases.t t/test_bases_sep.t t/test_comments.t t/test_curry.t t/test_i.t t/test_lingua_palindrome.t t/test_list.t t/test_no_import.t t/test_profanity.t t/test_sub.t t/test_sub_named.t t/test_ws.t t/comment/delimited.t t/comment/html.t t/comment/nested.t t/comment/pascal.t t/comment/single_line.t t/comment/single_or_multiline.t t/delimited/101_delimited.t t/delimited/111_bquoted.t t/net/101_ipv4.t t/net/102_ipv4_strict.t t/net/111_ipv6.t t/net/121_mac.t t/net/131_domain.t t/number/101_integer.t t/number/111_integer_base.t t/number/121_integer_places.t t/number/122_integer_places.t t/number/123_integer_places.t t/number/131_integer_sep.t t/number/141_integer_group.t t/number/701_squares.t t/number/801_roman.t t/number/decimal.t t/number/number.t t/SEN/usa_ssn.t t/URI/any.t t/URI/fax.t t/URI/file.t t/URI/ftp.t t/URI/gopher.t t/URI/http.t t/URI/news.t t/URI/nntp.t t/URI/pop.t t/URI/prospero.t t/URI/tel.t t/URI/telnet.t t/URI/tv.t t/URI/wais.t t/zip/101_austria.t t/zip/111_australia.t t/zip/112_australia.t t/zip/121_belgium.t t/zip/131_denmark.t t/zip/141_greenland.t t/zip/151_norway.t t/zip/161_liechtenstein.t t/zip/171_switzerland.t t/zip/181_italy.t t/zip/191_germany.t t/zip/201_luxembourg.t t/zip/211_france.t t/zip/221_monaco.t t/zip/231_san-marino.t t/zip/241_vatican-city.t t/zip/netherlands.t t/zip/spain.t t/zip/us.t t/zip/zip.t
t/comment/delimited.t ............ ok
t/comment/html.t ................. ok
t/comment/nested.t ............... ok
t/comment/pascal.t ............... ok
t/comment/single_line.t .......... ok
t/comment/single_or_multiline.t .. ok
t/delimited/101_delimited.t ...... ok
t/delimited/111_bquoted.t ........ ok
t/net/101_ipv4.t ................. ok
t/net/102_ipv4_strict.t .......... ok
t/net/111_ipv6.t ................. ok
t/net/121_mac.t .................. ok
t/net/131_domain.t ............... ok
t/number/101_integer.t ........... ok
t/number/111_integer_base.t ...... ok
t/number/121_integer_places.t .... ok
t/number/122_integer_places.t .... ok
t/number/123_integer_places.t .... ok
t/number/131_integer_sep.t ....... ok
t/number/141_integer_group.t ..... ok
t/number/701_squares.t ........... ok
t/number/801_roman.t ............. ok
t/number/decimal.t ............... ok
t/number/number.t ................ ok
t/SEN/usa_ssn.t .................. ok
t/test___luhn.t .................. ok
t/test_balanced.t ................ ok
t/test_bases.t ................... ok
t/test_bases_sep.t ............... ok
t/test_comments.t ................ ok
t/test_curry.t ................... ok
t/test_i.t ....................... ok
t/test_lingua_palindrome.t ....... ok
t/test_list.t .................... ok
t/test_no_import.t ............... ok
t/test_profanity.t ............... ok
t/test_sub.t ..................... ok
t/test_sub_named.t ............... ok
t/test_ws.t ...................... ok
t/URI/any.t ...................... ok
t/URI/fax.t ...................... ok
t/URI/file.t ..................... ok
t/URI/ftp.t ...................... ok
t/URI/gopher.t ................... ok
t/URI/http.t ..................... ok
t/URI/news.t ..................... ok
t/URI/nntp.t ..................... ok
t/URI/pop.t ...................... ok
t/URI/prospero.t ................. ok
t/URI/tel.t ...................... ok
t/URI/telnet.t ................... ok
t/URI/tv.t ....................... ok
t/URI/wais.t ..................... ok
t/zip/101_austria.t .............. ok
t/zip/111_australia.t ............ ok
t/zip/112_australia.t ............ ok
t/zip/121_belgium.t .............. ok
t/zip/131_denmark.t .............. ok
t/zip/141_greenland.t ............ ok
t/zip/151_norway.t ............... ok
t/zip/161_liechtenstein.t ........ ok
t/zip/171_switzerland.t .......... ok
t/zip/181_italy.t ................ ok
t/zip/191_germany.t .............. ok
t/zip/201_luxembourg.t ........... ok
t/zip/211_france.t ............... ok
t/zip/221_monaco.t ............... ok
t/zip/231_san-marino.t ........... ok
t/zip/241_vatican-city.t ......... ok
t/zip/netherlands.t .............. ok
t/zip/spain.t .................... ok
t/zip/us.t ....................... ok
t/zip/zip.t ...................... ok
All tests successful.
Files=73, Tests=2315992, 32454 wallclock secs (229.44 usr + 12.20 sys = 241.64 CPU)
Result: PASS
------------------------------
PREREQUISITES
------------------------------
Prerequisite modules loaded:
requires:
Module Need Have
------------------- ---- ----------
Config 0 5.024000
perl 5.01 5.024000
strict 0 1.11
vars 0 1.03
warnings 0 1.36
build_requires:
Module Need Have
------------------- ---- ----------
Config 0 5.024000
strict 0 1.11
Test::More 0 1.302026
vars 0 1.03
warnings 0 1.36
configure_requires:
Module Need Have
------------------- ---- ----------
Config 0 5.024000
ExtUtils::MakeMaker 0 7.19_01
perl 5.01 5.024000
strict 0 1.11
vars 0 1.03
warnings 0 1.36
opt_build_requires:
Module Need Have
------------------- ---- ----------
Test::Regexp 0 2016060501
------------------------------
ENVIRONMENT AND OTHER CONTEXT
------------------------------
Environment variables:
AUTOMATED_TESTING = 1
COMSPEC = C:\Windows\system32\cmd.exe
NUMBER_OF_PROCESSORS = 1
PATH = C:\Windows\system32;C:\Windows;C:\Windows\System32\Wbem;C:\Windows\System32\WindowsPowerShell\v1.0\;C:\Program Files\OpenSSH\bin;C:\Strawberry\c\bin;C:\Strawberry\perl\site\bin;C:\Strawberry\perl\bin
PERL5LIB =
PERL5OPT =
PERL5_CPANPLUS_IS_RUNNING = 1440
PERL5_CPAN_IS_RUNNING = 1440
PERL5_CPAN_IS_RUNNING_IN_RECURSION = 4592,1440
PERL_CR_SMOKER_CURRENT = Regexp-Common-2016060801
PERL_EXTUTILS_AUTOINSTALL = --defaultdeps
PERL_MM_USE_DEFAULT = 1
PROCESSOR_IDENTIFIER = Intel64 Family 6 Model 61 Stepping 4, GenuineIntel
TEMP = C:\Users\IEUser\AppData\Local\Temp
Perl special variables (and OS-specific diagnostics, for MSWin32):
$^X = C:\Strawberry\perl\bin\perl.exe
$UID/$EUID = 0 / 0
$GID = 0
$EGID = 0
Win32::GetOSName = Win10
Win32::GetOSVersion = , 10, 0, 14295, 2, 0, 0, 256, 1
Win32::FsType = NTFS
Win32::IsAdminUser = 0
Perl module toolchain versions installed:
Module Have
------------------- --------
CPAN 2.14
CPAN::Meta 2.150005
Cwd 3.63
ExtUtils::CBuilder 0.280225
ExtUtils::Command 7.19_01
ExtUtils::Install 2.04
ExtUtils::MakeMaker 7.19_01
ExtUtils::Manifest 1.70
ExtUtils::ParseXS 3.31
File::Spec 3.63
JSON 2.90
JSON::PP 2.27400
Module::Build 0.4218
Module::Signature 0.80
Parse::CPAN::Meta 1.4417
Test::Harness 3.36
Test::More 1.302026
YAML 1.15
YAML::Syck 1.29
version 0.9917
--
Summary of my perl5 (revision 5 version 24 subversion 0) configuration:
Platform:
osname=MSWin32, osvers=6.3, archname=MSWin32-x64-multi-thread
uname='Win32 strawberry-perl 5.24.0.1 #1 Tue May 10 21:30:49 2016 x64'
config_args='undef'
hint=recommended, useposix=true, d_sigaction=undef
useithreads=define, usemultiplicity=define
use64bitint=define, use64bitall=undef, uselongdouble=undef
usemymalloc=n, bincompat5005=undef
Compiler:
cc='gcc', ccflags =' -s -O2 -DWIN32 -DWIN64 -DCONSERVATIVE -DPERL_TEXTMODE_SCRIPTS -DPERL_IMPLICIT_CONTEXT -DPERL_IMPLICIT_SYS -fwrapv -fno-strict-aliasing -mms-bitfields',
optimize='-s -O2',
cppflags='-DWIN32'
ccversion='', gccversion='4.9.2', gccosandvers=''
intsize=4, longsize=4, ptrsize=8, doublesize=8, byteorder=12345678, doublekind=3
d_longlong=define, longlongsize=8, d_longdbl=define, longdblsize=16, longdblkind=3
ivtype='long long', ivsize=8, nvtype='double', nvsize=8, Off_t='long long', lseeksize=8
alignbytes=8, prototype=define
Linker and Libraries:
ld='g++', ldflags ='-s -L"C:\STRAWB~1\perl\lib\CORE" -L"C:\STRAWB~1\c\lib"'
libpth=C:\STRAWB~1\c\lib C:\STRAWB~1\c\x86_64-w64-mingw32\lib C:\STRAWB~1\c\lib\gcc\x86_64-w64-mingw32\4.9.2
libs=-lmoldname -lkernel32 -luser32 -lgdi32 -lwinspool -lcomdlg32 -ladvapi32 -lshell32 -lole32 -loleaut32 -lnetapi32 -luuid -lws2_32 -lmpr -lwinmm -lversion -lodbc32 -lodbccp32 -lcomctl32
perllibs=-lmoldname -lkernel32 -luser32 -lgdi32 -lwinspool -lcomdlg32 -ladvapi32 -lshell32 -lole32 -loleaut32 -lnetapi32 -luuid -lws2_32 -lmpr -lwinmm -lversion -lodbc32 -lodbccp32 -lcomctl32
libc=, so=dll, useshrplib=true, libperl=libperl524.a
gnulibc_version=''
Dynamic Linking:
dlsrc=dl_win32.xs, dlext=xs.dll, d_dlsymun=undef, ccdlflags=' '
cccdlflags=' ', lddlflags='-mdll -s -L"C:\STRAWB~1\perl\lib\CORE" -L"C:\STRAWB~1\c\lib"'
Characteristics of this binary (from libperl):
Compile-time options: HAS_TIMES HAVE_INTERP_INTERN MULTIPLICITY
PERLIO_LAYERS PERL_COPY_ON_WRITE
PERL_DONT_CREATE_GVSV
PERL_HASH_FUNC_ONE_AT_A_TIME_HARD
PERL_IMPLICIT_CONTEXT PERL_IMPLICIT_SYS
PERL_MALLOC_WRAP PERL_PRESERVE_IVUV USE_64_BIT_INT
USE_ITHREADS USE_LARGE_FILES USE_LOCALE
USE_LOCALE_COLLATE USE_LOCALE_CTYPE
USE_LOCALE_NUMERIC USE_LOCALE_TIME USE_PERLIO
USE_PERL_ATOF
Built under MSWin32
Compiled at May 10 2016 21:42:01
%ENV:
PERL5_CPANPLUS_IS_RUNNING="1440"
PERL5_CPAN_IS_RUNNING="1440"
PERL5_CPAN_IS_RUNNING_IN_RECURSION="4592,1440"
PERL_CR_SMOKER_CURRENT="Regexp-Common-2016060801"
PERL_EXTUTILS_AUTOINSTALL="--defaultdeps"
PERL_MM_USE_DEFAULT="1"
@INC:
C:/Strawberry/perl/site/lib/MSWin32-x64-multi-thread
C:/Strawberry/perl/site/lib
C:/Strawberry/perl/vendor/lib
C:/Strawberry/perl/lib
.