Report for Dist-Zilla-PluginBundle-Author-CSSON-0.1103

Back
From: metabase:user:314402c4-2aae-11df-837a-5e0a49663a4f
Subject: PASS Dist-Zilla-PluginBundle-Author-CSSON-0.1103 v5.14.4 FreeBSD
Date: 2016-02-18T22:22:35Z

This distribution has been tested as part of the CPAN Testers
project, supporting the Perl programming language.  See
http://wiki.cpantesters.org/ for more information or email
questions to cpan-testers-discuss@perl.org


--
Dear Erik Carlsson,

This is a computer-generated report for Dist-Zilla-PluginBundle-Author-CSSON-0.1103
on perl 5.14.4, created by CPAN-Reporter-1.2015.

Thank you for uploading your work to CPAN.  Congratulations!
All tests were successful.

Sections of this report:

    * Tester comments
    * Program output
    * Prerequisites
    * Environment and other context

------------------------------
TESTER COMMENTS
------------------------------

Additional comments from tester:

none provided

------------------------------
PROGRAM OUTPUT
------------------------------

Output from '/usr/bin/make test':

PERL_DL_NONLAZY=1 "/usr/perl5.14.4/bin/perl" "-MExtUtils::Command::MM" "-MTest::Harness" "-e" "undef *Test::Harness::Switches; test_harness(0, 'blib/lib', 'blib/arch')" t/*.t
t/00-compile.t ......... ok
# 
# Versions for all modules listed in MYMETA.json (including optional ones):
# 
# === Configure Requires ===
# 
#     Module              Want Have
#     ------------------- ---- ----
#     ExtUtils::MakeMaker  any 7.10
# 
# === Build Requires ===
# 
#     Module              Want Have
#     ------------------- ---- ----
#     ExtUtils::MakeMaker  any 7.10
# 
# === Test Requires ===
# 
#     Module              Want     Have
#     ------------------- ---- --------
#     ExtUtils::MakeMaker  any     7.10
#     File::Spec           any     3.62
#     IO::Handle           any     1.31
#     IPC::Open3           any   1.0901
#     Test::More          0.96 1.001014
# 
# === Test Recommends ===
# 
#     Module         Want     Have
#     ---------- -------- --------
#     CPAN::Meta 2.120900 2.150005
# 
# === Runtime Requires ===
# 
#     Module                                              Want     Have
#     ----------------------------------------------- -------- --------
#     Config::INI                                          any    0.025
#     Dist::Zilla::Role::PluginBundle::Config::Slicer      any    0.201
#     Dist::Zilla::Role::PluginBundle::Easy                any    5.042
#     Dist::Zilla::Role::PluginBundle::PluginRemover       any    0.103
#     List::AllUtils                                       any     0.09
#     Moose                                             2.1405   2.1605
#     MooseX::AttributeShortcuts                         0.028    0.028
#     Path::Tiny                                         0.072    0.081
#     Types::Standard                                 1.000005 1.000005
#     namespace::autoclean                                0.22     0.28
# 
t/00-report-prereqs.t .. ok
t/basic.t .............. ok
All tests successful.
Files=3, Tests=4,  8 wallclock secs ( 0.12 usr  0.02 sys +  6.57 cusr  1.12 csys =  7.84 CPU)
Result: PASS

------------------------------
PREREQUISITES
------------------------------

Prerequisite modules loaded:

requires:

    Module                                          Need     Have    
    ----------------------------------------------- -------- --------
    Config::INI                                     0        0.025   
    Dist::Zilla::Role::PluginBundle::Config::Slicer 0        0.201   
    Dist::Zilla::Role::PluginBundle::Easy           0        5.042   
    Dist::Zilla::Role::PluginBundle::PluginRemover  0        0.103   
    List::AllUtils                                  0        0.09    
    Moose                                           2.1405   2.1605  
    MooseX::AttributeShortcuts                      0.028    0.028   
    namespace::autoclean                            0.22     0.28    
    Path::Tiny                                      0.072    0.081   
    perl                                            5.010000 5.014004
    Types::Standard                                 1.000005 1.000005

build_requires:

    Module                                          Need     Have    
    ----------------------------------------------- -------- --------
    ExtUtils::MakeMaker                             0        7.10    
    File::Spec                                      0        3.62    
    IO::Handle                                      0        1.31    
    IPC::Open3                                      0        1.0901  
    Test::More                                      0.96     1.001014

configure_requires:

    Module                                          Need     Have    
    ----------------------------------------------- -------- --------
    ExtUtils::MakeMaker                             0        7.10    


------------------------------
ENVIRONMENT AND OTHER CONTEXT
------------------------------

Environment variables:

    LC_ALL = de_DE.ISO8859-1
    PATH = /usr/local/bin:/usr/bin:/bin:/usr/local/sbin:/usr/sbin:/sbin:/home/cpansand/bin/freebsd9.3:/home/cpansand/bin/sh:/home/cpansand/bin:/usr/games:/home/cpansand/devel:/usr/home/eserte/src/srezic-misc/scripts
    PERL5LIB = /home/eserte/.cpan/build/2016021821/Path-Tiny-0.081-B6EvlB/blib/arch:/home/eserte/.cpan/build/2016021821/Path-Tiny-0.081-B6EvlB/blib/lib:/home/eserte/.cpan/build/2016021821/Consul-0.016-dI735N/blib/arch:/home/eserte/.cpan/build/2016021821/Consul-0.016-dI735N/blib/lib:/home/eserte/.cpan/build/2016021821/Test-Consul-0.003-6As6Ds/blib/arch:/home/eserte/.cpan/build/2016021821/Test-Consul-0.003-6As6Ds/blib/lib
    PERL5OPT = 
    PERL5_CPANPLUS_IS_RUNNING = 96701
    PERL5_CPAN_IS_RUNNING = 96701
    PERL5_CPAN_IS_RUNNING_IN_RECURSION = 96649,96701
    PERLDOC = -MPod::Perldoc::ToTextOverstrike
    PERL_BATCH = yes
    PERL_CANARY_STABILITY_NOPROMPT = 1
    PERL_CPAN_REPORTER_CONFIG = /var/tmp/cpansmoker-1023/2016021821/cpanreporter_000_config.ini
    PERL_EXTUTILS_AUTOINSTALL = --defaultdeps
    SHELL = /usr/local/bin/zsh
    TERM = screen
    TMPDIR = /var/tmp/cpansmoker-1023/2016021821

Perl special variables (and OS-specific diagnostics, for MSWin32):

    $^X = /usr/perl5.14.4/bin/perl
    $UID/$EUID = 1023 / 1023
    $GID = 1023 1023
    $EGID = 1023 1023

Perl module toolchain versions installed:

    Module              Have    
    ------------------- --------
    CPAN                2.10    
    CPAN::Meta          2.150005
    Cwd                 3.62    
    ExtUtils::CBuilder  0.280224
    ExtUtils::Command   7.10    
    ExtUtils::Install   2.04    
    ExtUtils::MakeMaker 7.10    
    ExtUtils::Manifest  1.70    
    ExtUtils::ParseXS   3.30    
    File::Spec          3.62    
    JSON                2.90    
    JSON::PP            2.27300 
    Module::Build       0.4214  
    Module::Signature   0.79    
    Parse::CPAN::Meta   1.4414  
    Test::Harness       3.36    
    Test::More          1.001014
    YAML                1.15    
    YAML::Syck          1.29    
    version             0.9912  


--

Summary of my perl5 (revision 5 version 14 subversion 4) configuration:
   
  Platform:
    osname=freebsd, osvers=9.2-release-p4, archname=amd64-freebsd
    uname='freebsd cvrsnica-freebsd-92 9.2-release-p4 freebsd 9.2-release-p4 #0: tue apr 8 18:08:22 utc 2014 root@amd64-builder.daemonology.net:usrobjusrsrcsysgeneric amd64 '
    config_args='-ds -e -Dprefix=/usr/perl5.14.4'
    hint=recommended, useposix=true, d_sigaction=define
    useithreads=undef, usemultiplicity=undef
    useperlio=define, d_sfio=undef, uselargefiles=define, usesocks=undef
    use64bitint=define, use64bitall=define, uselongdouble=undef
    usemymalloc=n, bincompat5005=undef
  Compiler:
    cc='cc', ccflags ='-DHAS_FPSETMASK -DHAS_FLOATINGPOINT_H -fno-strict-aliasing -pipe -fstack-protector -I/usr/local/include',
    optimize='-O',
    cppflags='-DHAS_FPSETMASK -DHAS_FLOATINGPOINT_H -fno-strict-aliasing -pipe -fstack-protector -I/usr/local/include'
    ccversion='', gccversion='4.2.1 20070831 patched [FreeBSD]', gccosandvers=''
    intsize=4, longsize=8, ptrsize=8, doublesize=8, byteorder=12345678
    d_longlong=define, longlongsize=8, d_longdbl=define, longdblsize=16
    ivtype='long', ivsize=8, nvtype='double', nvsize=8, Off_t='off_t', lseeksize=8
    alignbytes=8, prototype=define
  Linker and Libraries:
    ld='cc', ldflags ='-Wl,-E  -fstack-protector -L/usr/local/lib'
    libpth=/usr/lib /usr/local/lib
    libs=-lgdbm -lm -lcrypt -lutil -lc
    perllibs=-lm -lcrypt -lutil -lc
    libc=, so=so, useshrplib=false, libperl=libperl.a
    gnulibc_version=''
  Dynamic Linking:
    dlsrc=dl_dlopen.xs, dlext=so, d_dlsymun=undef, ccdlflags=' '
    cccdlflags='-DPIC -fPIC', lddlflags='-shared  -L/usr/local/lib -fstack-protector'


Characteristics of this binary (from libperl): 
  Compile-time options: PERL_DONT_CREATE_GVSV PERL_MALLOC_WRAP
                        PERL_PRESERVE_IVUV USE_64_BIT_ALL USE_64_BIT_INT
                        USE_LARGE_FILES USE_PERLIO USE_PERL_ATOF
  Built under freebsd
  Compiled at May 16 2014 00:20:44
  %ENV:
    PERL5LIB="/home/eserte/.cpan/build/2016021821/Path-Tiny-0.081-B6EvlB/blib/arch:/home/eserte/.cpan/build/2016021821/Path-Tiny-0.081-B6EvlB/blib/lib:/home/eserte/.cpan/build/2016021821/Consul-0.016-dI735N/blib/arch:/home/eserte/.cpan/build/2016021821/Consul-0.016-dI735N/blib/lib:/home/eserte/.cpan/build/2016021821/Test-Consul-0.003-6As6Ds/blib/arch:/home/eserte/.cpan/build/2016021821/Test-Consul-0.003-6As6Ds/blib/lib"
    PERL5OPT=""
    PERL5_CPANPLUS_IS_RUNNING="96701"
    PERL5_CPAN_IS_RUNNING="96701"
    PERL5_CPAN_IS_RUNNING_IN_RECURSION="96649,96701"
    PERLDOC="-MPod::Perldoc::ToTextOverstrike"
    PERL_BATCH="yes"
    PERL_CANARY_STABILITY_NOPROMPT="1"
    PERL_CPAN_REPORTER_CONFIG="/var/tmp/cpansmoker-1023/2016021821/cpanreporter_000_config.ini"
    PERL_EXTUTILS_AUTOINSTALL="--defaultdeps"
  @INC:
    /home/eserte/.cpan/build/2016021821/Path-Tiny-0.081-B6EvlB/blib/arch
    /home/eserte/.cpan/build/2016021821/Path-Tiny-0.081-B6EvlB/blib/lib
    /home/eserte/.cpan/build/2016021821/Consul-0.016-dI735N/blib/arch
    /home/eserte/.cpan/build/2016021821/Consul-0.016-dI735N/blib/lib
    /home/eserte/.cpan/build/2016021821/Test-Consul-0.003-6As6Ds/blib/arch
    /home/eserte/.cpan/build/2016021821/Test-Consul-0.003-6As6Ds/blib/lib
    /usr/perl5.14.4/lib/site_perl/5.14.4/amd64-freebsd
    /usr/perl5.14.4/lib/site_perl/5.14.4
    /usr/perl5.14.4/lib/5.14.4/amd64-freebsd
    /usr/perl5.14.4/lib/5.14.4
    .