Report for Task-MapMetro-Maps-0.1302

Back
From: metabase:user:314402c4-2aae-11df-837a-5e0a49663a4f
Subject: PASS Task-MapMetro-Maps-0.1302 v5.20.2 GNU/Linux
Date: 2016-05-14T22:27:59Z

This distribution has been tested as part of the CPAN Testers
project, supporting the Perl programming language.  See
http://wiki.cpantesters.org/ for more information or email
questions to cpan-testers-discuss@perl.org


--
Dear Erik Carlsson,

This is a computer-generated report for Task-MapMetro-Maps-0.1302
on perl 5.20.2, created by CPAN-Reporter-1.2016.

Thank you for uploading your work to CPAN.  Congratulations!
All tests were successful.

Sections of this report:

    * Tester comments
    * Program output
    * Prerequisites
    * Environment and other context

------------------------------
TESTER COMMENTS
------------------------------

Additional comments from tester:

none provided

------------------------------
PROGRAM OUTPUT
------------------------------

Output from '/usr/bin/make test':

PERL_DL_NONLAZY=1 "/bbbike/perl-5.20.2/bin/perl5.20.2" "-MExtUtils::Command::MM" "-MTest::Harness" "-e" "undef *Test::Harness::Switches; test_harness(0, 'blib/lib', 'blib/arch')" t/*.t
t/00-compile.t ......... ok
# 
# Versions for all modules listed in MYMETA.json (including optional ones):
# 
# === Configure Requires ===
# 
#     Module              Want Have
#     ------------------- ---- ----
#     ExtUtils::MakeMaker  any 7.14
# 
# === Build Requires ===
# 
#     Module              Want Have
#     ------------------- ---- ----
#     ExtUtils::MakeMaker  any 7.14
# 
# === Test Requires ===
# 
#     Module              Want     Have
#     ------------------- ---- --------
#     ExtUtils::MakeMaker  any     7.14
#     File::Spec           any     3.62
#     IO::Handle           any     1.35
#     IPC::Open3           any     1.16
#     Test::More          0.96 1.302015
# 
# === Test Recommends ===
# 
#     Module         Want     Have
#     ---------- -------- --------
#     CPAN::Meta 2.120900 2.150005
# 
# === Runtime Requires ===
# 
#     Module                                Want   Have
#     ----------------------------------- ------ ------
#     Map::Metro                          0.2404 0.2404
#     Map::Metro::Plugin::Map::Amsterdam     any 0.1101
#     Map::Metro::Plugin::Map::Athens        any 0.1101
#     Map::Metro::Plugin::Map::Barcelona     any 0.1007
#     Map::Metro::Plugin::Map::Berlin        any   0.03
#     Map::Metro::Plugin::Map::Brussels      any 0.1001
#     Map::Metro::Plugin::Map::Budapest      any 0.1001
#     Map::Metro::Plugin::Map::Copenhagen    any 0.2006
#     Map::Metro::Plugin::Map::Gothenburg    any 0.1003
#     Map::Metro::Plugin::Map::Helsinki      any 0.1985
#     Map::Metro::Plugin::Map::Lille         any 0.1002
#     Map::Metro::Plugin::Map::Lyon          any  1.000
#     Map::Metro::Plugin::Map::Madrid        any 0.1001
#     Map::Metro::Plugin::Map::Oslo          any 0.1103
#     Map::Metro::Plugin::Map::Stockholm     any 0.1971
# 
t/00-report-prereqs.t .. ok
t/basic.t .............. ok
t/placeholder.t ........ ok
All tests successful.
Files=4, Tests=4,  0 wallclock secs ( 0.01 usr  0.03 sys +  0.23 cusr  0.09 csys =  0.36 CPU)
Result: PASS

------------------------------
PREREQUISITES
------------------------------

Prerequisite modules loaded:

requires:

    Module                              Need     Have    
    ----------------------------------- -------- --------
    Map::Metro                          0.2404   0.2404  
    Map::Metro::Plugin::Map::Amsterdam  0        0.1101  
    Map::Metro::Plugin::Map::Athens     0        0.1101  
    Map::Metro::Plugin::Map::Barcelona  0        0.1007  
    Map::Metro::Plugin::Map::Berlin     0        0.03    
    Map::Metro::Plugin::Map::Brussels   0        0.1001  
    Map::Metro::Plugin::Map::Budapest   0        0.1001  
    Map::Metro::Plugin::Map::Copenhagen 0        0.2006  
    Map::Metro::Plugin::Map::Gothenburg 0        0.1003  
    Map::Metro::Plugin::Map::Helsinki   0        0.1985  
    Map::Metro::Plugin::Map::Lille      0        0.1002  
    Map::Metro::Plugin::Map::Lyon       0        1.000   
    Map::Metro::Plugin::Map::Madrid     0        0.1001  
    Map::Metro::Plugin::Map::Oslo       0        0.1103  
    Map::Metro::Plugin::Map::Stockholm  0        0.1971  
    perl                                5.010000 5.020002

build_requires:

    Module                              Need     Have    
    ----------------------------------- -------- --------
    ExtUtils::MakeMaker                 0        7.14    
    File::Spec                          0        3.62    
    IO::Handle                          0        1.35    
    IPC::Open3                          0        1.16    
    Test::More                          0.96     1.302015

configure_requires:

    Module                              Need     Have    
    ----------------------------------- -------- --------
    ExtUtils::MakeMaker                 0        7.14    


------------------------------
ENVIRONMENT AND OTHER CONTEXT
------------------------------

Environment variables:

    LANG = C
    LC_ALL = de_DE.UTF-8
    PATH = /usr/local/bin:/usr/bin:/bin:/usr/local/sbin:/usr/sbin:/sbin:/home/cpansand/bin/linux-gnu:/home/cpansand/bin/sh:/home/cpansand/bin:/usr/games:/home/cpansand/devel:/home/eserte/src/srezic-misc/scripts
    PERL5LIB = /home/cpansand/.cpan/build/2016051421/Map-Metro-0.2404-opcTip/blib/arch:/home/cpansand/.cpan/build/2016051421/Map-Metro-0.2404-opcTip/blib/lib:/home/cpansand/.cpan/build/2016051421/Mojolicious-6.62-Ti9q17/blib/arch:/home/cpansand/.cpan/build/2016051421/Mojolicious-6.62-Ti9q17/blib/lib
    PERL5OPT = 
    PERL5_CPANPLUS_IS_RUNNING = 25572
    PERL5_CPAN_IS_RUNNING = 25572
    PERL5_CPAN_IS_RUNNING_IN_RECURSION = 25493,25572
    PERLDOC = -MPod::Perldoc::ToTextOverstrike
    PERL_BATCH = yes
    PERL_CANARY_STABILITY_NOPROMPT = 1
    PERL_CPAN_REPORTER_CONFIG = /var/tmp/cpansmoker-1023/2016051421/cpanreporter_000_config.ini
    PERL_EXTUTILS_AUTOINSTALL = --defaultdeps
    PERL_PARALLEL_SMOKER = yes
    SHELL = /bin/zsh
    TERM = screen
    TMPDIR = /var/tmp/cpansmoker-1023/2016051421

Perl special variables (and OS-specific diagnostics, for MSWin32):

    $^X = /bbbike/perl-5.20.2/bin/perl5.20.2
    $UID/$EUID = 1023 / 1023
    $GID = 1023 1023
    $EGID = 1023 1023

Perl module toolchain versions installed:

    Module              Have    
    ------------------- --------
    CPAN                2.10    
    CPAN::Meta          2.150005
    Cwd                 3.62    
    ExtUtils::CBuilder  0.280217
    ExtUtils::Command   7.14    
    ExtUtils::Install   1.67    
    ExtUtils::MakeMaker 7.14    
    ExtUtils::Manifest  1.70    
    ExtUtils::ParseXS   3.30    
    File::Spec          3.62    
    JSON                2.90    
    JSON::PP            2.27300 
    Module::Build       0.4218  
    Module::Signature   0.73    
    Parse::CPAN::Meta   1.4414  
    Test::Harness       3.36    
    Test::More          1.302015
    YAML                1.15    
    YAML::Syck          1.29    
    version             0.9916  


--

Summary of my perl5 (revision 5 version 20 subversion 2) configuration:
   
  Platform:
    osname=linux, osvers=3.2.0-4-amd64, archname=x86_64-linux
    uname='linux eserte 3.2.0-4-amd64 #1 smp debian 3.2.65-1+deb7u1 x86_64 gnulinux '
    config_args='-ds -e -Dprefix=/opt/perl-5.20.2'
    hint=recommended, useposix=true, d_sigaction=define
    useithreads=undef, usemultiplicity=undef
    use64bitint=define, use64bitall=define, uselongdouble=undef
    usemymalloc=n, bincompat5005=undef
  Compiler:
    cc='cc', ccflags ='-fwrapv -fno-strict-aliasing -pipe -fstack-protector -I/usr/local/include -D_LARGEFILE_SOURCE -D_FILE_OFFSET_BITS=64',
    optimize='-O2',
    cppflags='-fwrapv -fno-strict-aliasing -pipe -fstack-protector -I/usr/local/include'
    ccversion='', gccversion='4.7.2', gccosandvers=''
    intsize=4, longsize=8, ptrsize=8, doublesize=8, byteorder=12345678
    d_longlong=define, longlongsize=8, d_longdbl=define, longdblsize=16
    ivtype='long', ivsize=8, nvtype='double', nvsize=8, Off_t='off_t', lseeksize=8
    alignbytes=8, prototype=define
  Linker and Libraries:
    ld='cc', ldflags =' -fstack-protector -L/usr/local/lib'
    libpth=/usr/local/lib /usr/lib/gcc/x86_64-linux-gnu/4.7/include-fixed /usr/include/x86_64-linux-gnu /usr/lib /lib/x86_64-linux-gnu /lib/../lib /usr/lib/x86_64-linux-gnu /usr/lib/../lib /lib
    libs=-lnsl -ldb -ldl -lm -lcrypt -lutil -lc
    perllibs=-lnsl -ldl -lm -lcrypt -lutil -lc
    libc=libc-2.13.so, so=so, useshrplib=false, libperl=libperl.a
    gnulibc_version='2.13'
  Dynamic Linking:
    dlsrc=dl_dlopen.xs, dlext=so, d_dlsymun=undef, ccdlflags='-Wl,-E'
    cccdlflags='-fPIC', lddlflags='-shared -O2 -L/usr/local/lib -fstack-protector'


Characteristics of this binary (from libperl): 
  Compile-time options: HAS_TIMES PERLIO_LAYERS PERL_DONT_CREATE_GVSV
                        PERL_HASH_FUNC_ONE_AT_A_TIME_HARD PERL_MALLOC_WRAP
                        PERL_NEW_COPY_ON_WRITE PERL_PRESERVE_IVUV
                        USE_64_BIT_ALL USE_64_BIT_INT USE_LARGE_FILES
                        USE_LOCALE USE_LOCALE_COLLATE USE_LOCALE_CTYPE
                        USE_LOCALE_NUMERIC USE_PERLIO USE_PERL_ATOF
  Built under linux
  Compiled at Feb 14 2015 18:42:05
  %ENV:
    PERL5LIB="/home/cpansand/.cpan/build/2016051421/Map-Metro-0.2404-opcTip/blib/arch:/home/cpansand/.cpan/build/2016051421/Map-Metro-0.2404-opcTip/blib/lib:/home/cpansand/.cpan/build/2016051421/Mojolicious-6.62-Ti9q17/blib/arch:/home/cpansand/.cpan/build/2016051421/Mojolicious-6.62-Ti9q17/blib/lib"
    PERL5OPT=""
    PERL5_CPANPLUS_IS_RUNNING="25572"
    PERL5_CPAN_IS_RUNNING="25572"
    PERL5_CPAN_IS_RUNNING_IN_RECURSION="25493,25572"
    PERLDOC="-MPod::Perldoc::ToTextOverstrike"
    PERL_BATCH="yes"
    PERL_CANARY_STABILITY_NOPROMPT="1"
    PERL_CPAN_REPORTER_CONFIG="/var/tmp/cpansmoker-1023/2016051421/cpanreporter_000_config.ini"
    PERL_EXTUTILS_AUTOINSTALL="--defaultdeps"
    PERL_PARALLEL_SMOKER="yes"
  @INC:
    /home/cpansand/.cpan/build/2016051421/Map-Metro-0.2404-opcTip/blib/arch
    /home/cpansand/.cpan/build/2016051421/Map-Metro-0.2404-opcTip/blib/lib
    /home/cpansand/.cpan/build/2016051421/Mojolicious-6.62-Ti9q17/blib/arch
    /home/cpansand/.cpan/build/2016051421/Mojolicious-6.62-Ti9q17/blib/lib
    /opt/perl-5.20.2/lib/site_perl/5.20.2/x86_64-linux
    /opt/perl-5.20.2/lib/site_perl/5.20.2
    /opt/perl-5.20.2/lib/5.20.2/x86_64-linux
    /opt/perl-5.20.2/lib/5.20.2
    .