Report for Perl-MinimumVersion-1.32

Back
From: metabase:user:54e0c0aa-1dbf-11e0-954a-ebd05a6ea7f6
Subject: PASS Perl-MinimumVersion-1.32 v5.18.1 GNU/Linux
Date: 2013-09-08T07:56:05Z

This distribution has been tested as part of the CPAN Testers
project, supporting the Perl programming language.  See
http://wiki.cpantesters.org/ for more information or email
questions to cpan-testers-discuss@perl.org


--
Dear Alexandr Ciornii,

This is a computer-generated report for Perl-MinimumVersion-1.32
on perl 5.18.1, created by CPAN-Reporter-1.2010.

Thank you for uploading your work to CPAN.  Congratulations!
All tests were successful.

Sections of this report:

    * Tester comments
    * Program output
    * Prerequisites
    * Environment and other context

------------------------------
TESTER COMMENTS
------------------------------

Additional comments from tester:

none provided

------------------------------
PROGRAM OUTPUT
------------------------------

Output from '/usr/bin/make test':

PERL_DL_NONLAZY=1 /home/mauke/usr/local/bin/perl "-MExtUtils::Command::MM" "-e" "test_harness(0, 'inc', 'blib/lib', 'blib/arch')" t/*.t
t/01_compile.t ........... ok
t/02_main.t .............. ok
t/03_open_3arg.t ......... ok
t/04_substr.t ............ ok
t/05_foreach.t ........... ok
t/06_weaken.t ............ ok
t/07_splice.t ............ ok
t/08_mkdir.t ............. ok
t/09_pkg_name_version.t .. ok
t/10_yada_yada_yada.t .... ok
t/11_feature_bundle.t .... ok
t/12_double_colon.t ...... ok
t/13_perl_510.t .......... ok
t/14_regex.t ............. ok
t/15_each.t .............. ok
t/16_binmode.t ........... ok
t/17_when.t .............. ok
t/18_exists_subr.t ....... ok
t/19_opentemp.t .......... ok
t/20_sort_subref.t ....... ok
t/21_openscalar.t ........ ok
All tests successful.
Files=21, Tests=311,  8 wallclock secs ( 0.14 usr  0.02 sys +  4.65 cusr  0.46 csys =  5.27 CPU)
Result: PASS

------------------------------
PREREQUISITES
------------------------------

Prerequisite modules loaded:

requires:

    Module                 Need  Have    
    ---------------------- ----- --------
    File::Find::Rule       0.32  0.33    
    File::Find::Rule::Perl 1.04  1.13    
    List::Util             1.20  1.32    
    Params::Util           0.25  1.07    
    perl                   5.006 5.018001
    Perl::Critic::Utils    1.104 1.118   
    PPI                    1.215 1.215   
    PPIx::Regexp           0.029 0.034   
    version                0.76  0.9904  

build_requires:

    Module                 Need  Have    
    ---------------------- ----- --------
    ExtUtils::MakeMaker    6.59  6.74    
    File::Spec             0.80  3.40    
    Test::More             0.47  0.98    
    Test::Script           1.03  1.07    

configure_requires:

    Module                 Need  Have    
    ---------------------- ----- --------
    ExtUtils::MakeMaker    6.59  6.74    


------------------------------
ENVIRONMENT AND OTHER CONTEXT
------------------------------

Environment variables:

    LANG = en_US.UTF-8
    LC_COLLATE = POSIX
    LD_LIBRARY_PATH = /home/mauke/usr/local/lib
    MANPATH_WITHOUT_PERLBREW = /home/mauke/usr/local/share/man:/home/mauke/usr/local/man:/home/mauke/.gentoo/java-config-2/current-user-vm/man:/usr/local/share/man:/usr/share/man:/usr/share/gcc-data/i686-pc-linux-gnu/4.6.3/man:/usr/share/binutils-data/i686-pc-linux-gnu/2.23.1/man:/opt/sun-jdk-1.4.2.13/man:/etc/java-config-2/current-system-vm/man/:/usr/lib/php5.4/man/:/usr/share/postgresql/man/:/usr/share/postgresql-9.3/man/:/usr/share/postgresql-9.2/man/
    PATH = /home/mauke/usr/perlbrew/bin:/home/mauke/usr/local/bin:/usr/local/bin:/usr/bin:/bin:/opt/bin:/usr/i686-pc-linux-gnu/gcc-bin/4.6.3:/opt/sun-jdk-1.4.2.13/bin:/opt/sun-jdk-1.4.2.13/jre/bin:/opt/sun-jdk-1.4.2.13/jre/javaws:/opt/dmd/bin:/usr/games/bin
    PATH_WITHOUT_PERLBREW = /home/mauke/usr/local/bin:/usr/local/bin:/usr/bin:/bin:/opt/bin:/usr/i686-pc-linux-gnu/gcc-bin/4.6.3:/opt/sun-jdk-1.4.2.13/bin:/opt/sun-jdk-1.4.2.13/jre/bin:/opt/sun-jdk-1.4.2.13/jre/javaws:/opt/dmd/bin:/usr/games/bin
    PERL5LIB = 
    PERL5OPT = 
    PERL5_CPANPLUS_IS_RUNNING = 1821
    PERL5_CPAN_IS_RUNNING = 1821
    PERLBREW_BASHRC_VERSION = 0.43
    PERLBREW_HOME = /home/mauke/.perlbrew
    PERLBREW_PATH = /home/mauke/usr/perlbrew/bin
    PERLBREW_ROOT = /home/mauke/usr/perlbrew
    PERLBREW_VERSION = 0.27
    PERL_UNICODE = SAL
    SHELL = /bin/bash
    TERM = tmux

Perl special variables (and OS-specific diagnostics, for MSWin32):

    $^X = /home/mauke/usr/local/bin/perl
    $UID/$EUID = 1000 / 1000
    $GID = 100 5 7 10 11 16 18 19 27 35 85 100 250 407 1006
    $EGID = 100 5 7 10 11 16 18 19 27 35 85 100 250 407 1006

Perl module toolchain versions installed:

    Module              Have    
    ------------------- --------
    CPAN                2.00    
    CPAN::Meta          2.132140
    Cwd                 3.40    
    ExtUtils::CBuilder  0.280210
    ExtUtils::Command   1.17    
    ExtUtils::Install   1.59    
    ExtUtils::MakeMaker 6.74    
    ExtUtils::Manifest  1.63    
    ExtUtils::ParseXS   3.22    
    File::Spec          3.40    
    JSON                2.59    
    JSON::PP            2.27202 
    Module::Build       0.4007  
    Module::Signature   n/a     
    Parse::CPAN::Meta   1.4405  
    Test::Harness       3.28    
    Test::More          0.98    
    YAML                0.84    
    YAML::Syck          n/a     
    version             0.9904  


--

Summary of my perl5 (revision 5 version 18 subversion 1) configuration:
   
  Platform:
    osname=linux, osvers=3.5.7-gentoo, archname=i686-linux
    uname='linux nora 3.5.7-gentoo #5 preempt sat jan 26 16:46:10 cet 2013 i686 amd athlon(tm) 64 processor 3200+ authenticamd gnulinux '
    config_args=''
    hint=recommended, useposix=true, d_sigaction=define
    useithreads=undef, usemultiplicity=undef
    useperlio=define, d_sfio=undef, uselargefiles=define, usesocks=undef
    use64bitint=undef, use64bitall=undef, uselongdouble=undef
    usemymalloc=n, bincompat5005=undef
  Compiler:
    cc='cc', ccflags ='-fno-strict-aliasing -pipe -fstack-protector -I/usr/local/include -D_LARGEFILE_SOURCE -D_FILE_OFFSET_BITS=64',
    optimize='-O2 -flto',
    cppflags='-fno-strict-aliasing -pipe -fstack-protector -I/usr/local/include'
    ccversion='', gccversion='4.8.1', gccosandvers=''
    intsize=4, longsize=4, ptrsize=4, doublesize=8, byteorder=1234
    d_longlong=define, longlongsize=8, d_longdbl=define, longdblsize=12
    ivtype='long', ivsize=4, nvtype='double', nvsize=8, Off_t='off_t', lseeksize=8
    alignbytes=4, prototype=define
  Linker and Libraries:
    ld='cc', ldflags ='-O2 -flto -fstack-protector -L/usr/local/lib'
    libpth=/usr/local/lib /lib/../lib /usr/lib/../lib /lib /usr/lib
    libs=-lnsl -lgdbm -ldb -ldl -lm -lcrypt -lutil -lc -lgdbm_compat
    perllibs=-lnsl -ldl -lm -lcrypt -lutil -lc
    libc=/lib/libc-2.15.so, so=so, useshrplib=false, libperl=libperl.a
    gnulibc_version='2.15'
  Dynamic Linking:
    dlsrc=dl_dlopen.xs, dlext=so, d_dlsymun=undef, ccdlflags='-Wl,-E'
    cccdlflags='-fPIC', lddlflags='-shared -O2 -flto -L/usr/local/lib -fstack-protector'


Characteristics of this binary (from libperl): 
  Compile-time options: HAS_TIMES PERLIO_LAYERS PERL_DONT_CREATE_GVSV
                        PERL_HASH_FUNC_ONE_AT_A_TIME_HARD PERL_MALLOC_WRAP
                        PERL_PRESERVE_IVUV PERL_SAWAMPERSAND USE_LARGE_FILES
                        USE_LOCALE USE_LOCALE_COLLATE USE_LOCALE_CTYPE
                        USE_LOCALE_NUMERIC USE_PERLIO USE_PERL_ATOF
  Locally applied patches:
	SAFEARGV0 - disable magic open in <ARGV>
  Built under linux
  Compiled at Aug 13 2013 07:22:45
  %ENV:
    PERL5LIB=""
    PERL5OPT=""
    PERL5_CPANPLUS_IS_RUNNING="1821"
    PERL5_CPAN_IS_RUNNING="1821"
    PERLBREW_BASHRC_VERSION="0.43"
    PERLBREW_HOME="/home/mauke/.perlbrew"
    PERLBREW_PATH="/home/mauke/usr/perlbrew/bin"
    PERLBREW_ROOT="/home/mauke/usr/perlbrew"
    PERLBREW_VERSION="0.27"
    PERL_UNICODE="SAL"
  @INC:
    /home/mauke/usr/local/lib/perl5/site_perl/5.18.1/i686-linux
    /home/mauke/usr/local/lib/perl5/site_perl/5.18.1
    /home/mauke/usr/local/lib/perl5/5.18.1/i686-linux
    /home/mauke/usr/local/lib/perl5/5.18.1
    .