File-KDBX v0.906 Perl 5 v5.32.1 x86_64-linux-thread-multi-ld

Status
Pass
From
Andreas J. König (ANDK)
Dist
File-KDBX v0.906
Platform
Perl 5 v5.32.1 x86_64-linux-thread-multi-ld
Date
2022-08-17 08:10:53
ID
1cd47f92-1e04-11ed-940d-c903d53cefac
This distribution has been tested as part of the CPAN Testers
project, supporting the Perl programming language.  See
http://wiki.cpantesters.org/ for more information or email
questions to cpan-testers-discuss@perl.org


--
Dear Charles McGarvey,

This is a computer-generated report for File-KDBX-0.906
on perl 5.32.1, created by CPAN-Reporter-1.2018.

Thank you for uploading your work to CPAN.  Congratulations!
All tests were successful.

Sections of this report:

    * Tester comments
    * Program output
    * Prerequisites
    * Environment and other context

------------------------------
TESTER COMMENTS
------------------------------

Additional comments from tester:

this report is from an automated smoke testing program
and was not reviewed by a human for accuracy

------------------------------
PROGRAM OUTPUT
------------------------------

Output from '/usr/bin/make test':

PERL_DL_NONLAZY=1 "/home/sand/src/perl/repoperls/installed-perls/host/k93stretch/v5.32.1/4a88/bin/perl" "-MExtUtils::Command::MM" "-MTest::Harness" "-e" "undef *Test::Harness::Switches; test_harness(0, 'blib/lib', 'blib/arch')" t/*.t
t/00-compile.t ......... ok
# 
# Versions for all modules listed in MYMETA.json (including optional ones):
# 
# === Configure Requires ===
# 
#     Module              Want Have
#     ------------------- ---- ----
#     ExtUtils::MakeMaker  any 7.64
# 
# === Build Requires ===
# 
#     Module              Want Have
#     ------------------- ---- ----
#     ExtUtils::MakeMaker  any 7.64
# 
# === Test Requires ===
# 
#     Module                      Want     Have
#     ------------------- ------------ --------
#     ExtUtils::MakeMaker          any     7.64
#     File::Spec                   any     3.78
#     FindBin                      any     1.51
#     Getopt::Std                  any     1.12
#     IO::Handle                   any     1.48
#     IPC::Open3                   any     1.21
#     Math::BigInt               1.993 1.999830
#     Test::Deep                   any    1.130
#     Test::Fatal                  any    0.016
#     Test::More          1.001004_001 1.302190
#     Test::Warnings               any    0.031
#     lib                          any     0.65
#     utf8                         any     1.22
# 
# === Test Recommends ===
# 
#     Module         Want     Have
#     ---------- -------- --------
#     CPAN::Meta 2.120900 2.150010
#     Pass::OTP       any      1.5
# 
# === Test Suggests ===
# 
#     Module      Want    Have
#     ----------- ---- -------
#     POSIX::1003  any missing
# 
# === Runtime Requires ===
# 
#     Module                    Want     Have
#     ------------------------ ----- --------
#     Carp                       any     1.50
#     Crypt::Argon2              any    0.012
#     Crypt::Cipher              any    0.076
#     Crypt::Cipher::AES         any    0.076
#     Crypt::Digest              any    0.076
#     Crypt::Mac::HMAC           any    0.076
#     Crypt::Misc              0.049    0.076
#     Crypt::Mode::CBC           any    0.076
#     Crypt::PRNG                any    0.076
#     Crypt::Stream::ChaCha    0.048    0.076
#     Crypt::Stream::Salsa20   0.055    0.076
#     Data::Dumper               any    2.183
#     Devel::GlobalDestruction   any     0.14
#     Encode                     any     3.17
#     Exporter                   any     5.74
#     File::Temp                 any   0.2311
#     Hash::Util::FieldHash      any     1.20
#     IO::Handle                 any     1.48
#     IPC::Cmd                  0.84     1.04
#     Iterator::Simple           any     0.07
#     List::Util                1.33     1.62
#     Math::BigInt             1.993 1.999830
#     Module::Load               any     0.36
#     Module::Loaded             any     0.08
#     POSIX                      any     1.94
#     Ref::Util                  any    0.204
#     Scalar::Util               any     1.62
#     Scope::Guard               any     0.21
#     Storable                   any     3.21
#     Symbol                     any     1.08
#     Text::ParseWords           any     3.30
#     Time::Local               1.19     1.28
#     Time::Piece               1.33   1.3401
#     XML::LibXML                any   2.0207
#     XML::LibXML::Reader        any   2.0207
#     boolean                    any     0.46
#     namespace::clean           any     0.27
#     overload                   any     1.31
#     strict                     any     1.11
#     warnings                   any     1.47
# 
# === Runtime Recommends ===
# 
#     Module                 Want  Have
#     ---------------------- ---- -----
#     Compress::Raw::Zlib     any 2.103
#     File::KDBX::XS          any 0.900
#     File::Spec              any  3.78
#     IO::Compress::Gzip      any 2.106
#     IO::Uncompress::Gunzip  any 2.106
#     Pass::OTP               any   1.5
# 
# === Runtime Suggests ===
# 
#     Module                  Want    Have
#     ---------------------- ----- -------
#     Crypt::Stream::Serpent 0.055 missing
#     Crypt::Stream::Twofish   any missing
# 
t/00-report-prereqs.t .. ok
t/crypt.t .............. ok
t/database.t ........... ok
t/entry.t .............. ok
t/erase.t .............. ok
t/error.t .............. ok
t/group.t .............. ok
t/hash-block.t ......... ok
t/hmac-block.t ......... ok
t/iterator.t ........... ok
t/kdb.t ................ skipped: File::KeePass and File::KeePass::KDBX required to test KDB files
t/kdbx2.t .............. ok
t/kdbx3.t .............. ok
t/kdbx4.t .............. ok
t/kdf-aes-pp.t ......... ok
t/kdf.t ................ ok
t/keys.t ............... ok
t/memory-protection.t .. skipped: AUTHOR_TESTING required to test memory protection
t/object.t ............. ok
t/otp.t ................ ok
t/placeholders.t ....... ok
t/query.t .............. ok
t/references.t ......... ok
t/safe.t ............... ok
t/util.t ............... ok
t/yubikey.t ............ ok
All tests successful.
Files=27, Tests=250, 25 wallclock secs ( 0.20 usr  0.03 sys + 11.12 cusr  2.00 csys = 13.35 CPU)
Result: PASS

------------------------------
PREREQUISITES
------------------------------

Prerequisite modules loaded:

requires:

    Module                   Need         Have    
    ------------------------ ------------ --------
    boolean                  0            0.46    
    Carp                     0            1.50    
    Crypt::Argon2            0            0.012   
    Crypt::Cipher            0            0.076   
    Crypt::Cipher::AES       0            0.076   
    Crypt::Digest            0            0.076   
    Crypt::Mac::HMAC         0            0.076   
    Crypt::Misc              0.049        0.076   
    Crypt::Mode::CBC         0            0.076   
    Crypt::PRNG              0            0.076   
    Crypt::Stream::ChaCha    0.048        0.076   
    Crypt::Stream::Salsa20   0.055        0.076   
    Data::Dumper             0            2.183   
    Devel::GlobalDestruction 0            0.14    
    Encode                   0            3.17    
    Exporter                 0            5.74    
    File::Temp               0            0.2311  
    Hash::Util::FieldHash    0            1.20    
    IO::Handle               0            1.48    
    IPC::Cmd                 0.84         1.04    
    Iterator::Simple         0            0.07    
    List::Util               1.33         1.62    
    Math::BigInt             1.993        1.999830
    Module::Load             0            0.36    
    Module::Loaded           0            0.08    
    namespace::clean         0            0.27    
    overload                 0            1.31    
    perl                     5.010        5.032001
    POSIX                    0            1.94    
    Ref::Util                0            0.204   
    Scalar::Util             0            1.62    
    Scope::Guard             0            0.21    
    Storable                 0            3.21    
    strict                   0            1.11    
    Symbol                   0            1.08    
    Text::ParseWords         0            3.30    
    Time::Local              1.19         1.28    
    Time::Piece              1.33         1.3401  
    warnings                 0            1.47    
    XML::LibXML              0            2.0207  
    XML::LibXML::Reader      0            2.0207  

build_requires:

    Module                   Need         Have    
    ------------------------ ------------ --------
    ExtUtils::MakeMaker      0            7.64    
    File::Spec               0            3.78    
    FindBin                  0            1.51    
    Getopt::Std              0            1.12    
    IO::Handle               0            1.48    
    IPC::Open3               0            1.21    
    lib                      0            0.65    
    Math::BigInt             1.993        1.999830
    Test::Deep               0            1.130   
    Test::Fatal              0            0.016   
    Test::More               1.001004_001 1.302190
    Test::Warnings           0            0.031   
    utf8                     0            1.22    

configure_requires:

    Module                   Need         Have    
    ------------------------ ------------ --------
    ExtUtils::MakeMaker      0            7.64    

opt_requires:

    Module                   Need         Have    
    ------------------------ ------------ --------
    Compress::Raw::Zlib      0            2.103   
    File::KDBX::XS           0            0.900   
    File::Spec               0            3.78    
    IO::Compress::Gzip       0            2.106   
    IO::Uncompress::Gunzip   0            2.106   
    Pass::OTP                0            1.5     


------------------------------
ENVIRONMENT AND OTHER CONTEXT
------------------------------

Environment variables:

    AUTOMATED_TESTING = 1
    LANG = en_US.UTF-8
    LANGUAGE = en_US:en
    PATH = /home/sand/bin:/usr/local/bin:/usr/bin:/bin:/usr/games:/usr/local/perl/bin:/usr/X11/bin:/sbin:/usr/sbin
    PERL5LIB = /tmp/loop_over_bdir-30477-ygN2WW/File-KDBX-XS-0.900-0/blib/arch:/tmp/loop_over_bdir-30477-ygN2WW/File-KDBX-XS-0.900-0/blib/lib:/tmp/loop_over_bdir-30477-ygN2WW/Pass-OTP-1.5-0/blib/arch:/tmp/loop_over_bdir-30477-ygN2WW/Pass-OTP-1.5-0/blib/lib:/tmp/loop_over_bdir-30477-ygN2WW/Crypt-Argon2-0.012-0/blib/arch:/tmp/loop_over_bdir-30477-ygN2WW/Crypt-Argon2-0.012-0/blib/lib
    PERL5OPT = 
    PERL5_CPANPLUS_IS_RUNNING = 32087
    PERL5_CPAN_IS_RUNNING = 32087
    PERL_CANARY_STABILITY_NOPROMPT = 1
    PERL_MM_USE_DEFAULT = 1
    PERL_USE_UNSAFE_INC = 1
    SHELL = /usr/bin/zsh
    TERM = screen

Perl special variables (and OS-specific diagnostics, for MSWin32):

    $^X = /home/sand/src/perl/repoperls/installed-perls/host/k93stretch/v5.32.1/4a88/bin/perl
    $UID/$EUID = 1005 / 1005
    $GID = 1005 1005
    $EGID = 1005 1005

Perl module toolchain versions installed:

    Module              Have    
    ------------------- --------
    CPAN                2.34    
    CPAN::Meta          2.150010
    Cwd                 3.78    
    ExtUtils::CBuilder  0.280236
    ExtUtils::Command   7.64    
    ExtUtils::Install   2.20    
    ExtUtils::MakeMaker 7.64    
    ExtUtils::Manifest  1.72    
    ExtUtils::ParseXS   3.40    
    File::Spec          3.78    
    JSON                4.05    
    JSON::PP            4.08    
    Module::Build       0.4231  
    Module::Signature   0.88    
    Parse::CPAN::Meta   2.150010
    Test::Harness       3.44    
    Test::More          1.302190
    YAML                1.30    
    YAML::Syck          1.34    
    version             0.9929  


--

Summary of my perl5 (revision 5 version 32 subversion 1) configuration:
  Commit id: df9d952d734ef94233ed84af97ca318d7972eed0
  Platform:
    osname=linux
    osvers=4.9.0-18-amd64
    archname=x86_64-linux-thread-multi-ld
    uname='linux k93stretch 4.9.0-18-amd64 #1 smp debian 4.9.303-1 (2022-03-07) x86_64 gnulinux '
    config_args='-Dprefix=/home/sand/src/perl/repoperls/installed-perls/host/k93stretch/v5.32.1/4a88 -Dmyhostname=k93stretch -Dinstallusrbinperl=n -Uversiononly -Dusedevel -des -Ui_db -Dlibswanted=cl pthread socket inet nsl gdbm dbm malloc dl ld sun m crypt sec util c cposix posix ucb BSD gdbm_compat -Duseithreads -Duselongdouble -DEBUGGING=both'
    hint=recommended
    useposix=true
    d_sigaction=define
    useithreads=define
    usemultiplicity=define
    use64bitint=define
    use64bitall=define
    uselongdouble=define
    usemymalloc=n
    default_inc_excludes_dot=define
    bincompat5005=undef
  Compiler:
    cc='cc'
    ccflags ='-D_REENTRANT -D_GNU_SOURCE -fwrapv -DDEBUGGING -fno-strict-aliasing -pipe -fstack-protector-strong -I/usr/local/include -D_LARGEFILE_SOURCE -D_FILE_OFFSET_BITS=64 -D_FORTIFY_SOURCE=2'
    optimize='-O2 -g'
    cppflags='-D_REENTRANT -D_GNU_SOURCE -fwrapv -DDEBUGGING -fno-strict-aliasing -pipe -fstack-protector-strong -I/usr/local/include'
    ccversion=''
    gccversion='6.3.0 20170516'
    gccosandvers=''
    intsize=4
    longsize=8
    ptrsize=8
    doublesize=8
    byteorder=12345678
    doublekind=3
    d_longlong=define
    longlongsize=8
    d_longdbl=define
    longdblsize=16
    longdblkind=3
    ivtype='long'
    ivsize=8
    nvtype='long double'
    nvsize=16
    Off_t='off_t'
    lseeksize=8
    alignbytes=16
    prototype=define
  Linker and Libraries:
    ld='cc'
    ldflags =' -fstack-protector-strong -L/usr/local/lib'
    libpth=/usr/local/lib /usr/lib/gcc/x86_64-linux-gnu/6/include-fixed /usr/include/x86_64-linux-gnu /usr/lib /lib/x86_64-linux-gnu /lib/../lib /usr/lib/x86_64-linux-gnu /usr/lib/../lib /lib
    libs=-lpthread -lnsl -ldl -lm -lcrypt -lutil -lc
    perllibs=-lpthread -lnsl -ldl -lm -lcrypt -lutil -lc
    libc=libc-2.24.so
    so=so
    useshrplib=false
    libperl=libperl.a
    gnulibc_version='2.24'
  Dynamic Linking:
    dlsrc=dl_dlopen.xs
    dlext=so
    d_dlsymun=undef
    ccdlflags='-Wl,-E'
    cccdlflags='-fPIC'
    lddlflags='-shared -O2 -g -L/usr/local/lib -fstack-protector-strong'


Characteristics of this binary (from libperl): 
  Compile-time options:
    DEBUGGING
    HAS_TIMES
    MULTIPLICITY
    PERLIO_LAYERS
    PERL_COPY_ON_WRITE
    PERL_DONT_CREATE_GVSV
    PERL_IMPLICIT_CONTEXT
    PERL_MALLOC_WRAP
    PERL_OP_PARENT
    PERL_PRESERVE_IVUV
    PERL_TRACK_MEMPOOL
    PERL_USE_DEVEL
    USE_64_BIT_ALL
    USE_64_BIT_INT
    USE_ITHREADS
    USE_LARGE_FILES
    USE_LOCALE
    USE_LOCALE_COLLATE
    USE_LOCALE_CTYPE
    USE_LOCALE_NUMERIC
    USE_LOCALE_TIME
    USE_LONG_DOUBLE
    USE_PERLIO
    USE_PERL_ATOF
    USE_REENTRANT_API
    USE_THREAD_SAFE_LOCALE
  Built under linux
  Compiled at May  4 2022 03:29:57
  %ENV:
    PERL5LIB="/tmp/loop_over_bdir-30477-ygN2WW/File-KDBX-XS-0.900-0/blib/arch:/tmp/loop_over_bdir-30477-ygN2WW/File-KDBX-XS-0.900-0/blib/lib:/tmp/loop_over_bdir-30477-ygN2WW/Pass-OTP-1.5-0/blib/arch:/tmp/loop_over_bdir-30477-ygN2WW/Pass-OTP-1.5-0/blib/lib:/tmp/loop_over_bdir-30477-ygN2WW/Crypt-Argon2-0.012-0/blib/arch:/tmp/loop_over_bdir-30477-ygN2WW/Crypt-Argon2-0.012-0/blib/lib"
    PERL5OPT=""
    PERL5_CPANPLUS_IS_RUNNING="32087"
    PERL5_CPAN_IS_RUNNING="32087"
    PERL_CANARY_STABILITY_NOPROMPT="1"
    PERL_MM_USE_DEFAULT="1"
    PERL_USE_UNSAFE_INC="1"
  @INC:
    /tmp/loop_over_bdir-30477-ygN2WW/File-KDBX-XS-0.900-0/blib/arch
    /tmp/loop_over_bdir-30477-ygN2WW/File-KDBX-XS-0.900-0/blib/lib
    /tmp/loop_over_bdir-30477-ygN2WW/Pass-OTP-1.5-0/blib/arch
    /tmp/loop_over_bdir-30477-ygN2WW/Pass-OTP-1.5-0/blib/lib
    /tmp/loop_over_bdir-30477-ygN2WW/Crypt-Argon2-0.012-0/blib/arch
    /tmp/loop_over_bdir-30477-ygN2WW/Crypt-Argon2-0.012-0/blib/lib
    /home/sand/src/perl/repoperls/installed-perls/host/k93stretch/v5.32.1/4a88/lib/site_perl/5.32.1/x86_64-linux-thread-multi-ld
    /home/sand/src/perl/repoperls/installed-perls/host/k93stretch/v5.32.1/4a88/lib/site_perl/5.32.1
    /home/sand/src/perl/repoperls/installed-perls/host/k93stretch/v5.32.1/4a88/lib/5.32.1/x86_64-linux-thread-multi-ld
    /home/sand/src/perl/repoperls/installed-perls/host/k93stretch/v5.32.1/4a88/lib/5.32.1
    .