Report for Dist-Zilla-Plugin-OnlyCorePrereqs-0.019

Back
From: metabase:user:314402c4-2aae-11df-837a-5e0a49663a4f
Subject: PASS Dist-Zilla-Plugin-OnlyCorePrereqs-0.019 v5.10.1 FreeBSD
Date: 2014-12-18T07:18:49Z

This distribution has been tested as part of the CPAN Testers
project, supporting the Perl programming language.  See
http://wiki.cpantesters.org/ for more information or email
questions to cpan-testers-discuss@perl.org


--
Dear Karen Etheridge,

This is a computer-generated report for Dist-Zilla-Plugin-OnlyCorePrereqs-0.019
on perl 5.10.1, created by CPAN-Reporter-1.2011.

Thank you for uploading your work to CPAN.  Congratulations!
All tests were successful.

Sections of this report:

    * Tester comments
    * Program output
    * Prerequisites
    * Environment and other context

------------------------------
TESTER COMMENTS
------------------------------

Additional comments from tester:

none provided

------------------------------
PROGRAM OUTPUT
------------------------------

Output from './Build test':

# 
# Versions for all modules listed in MYMETA.json (including optional ones):
# 
# === Configure Requires ===
# 
#     Module               Want  Have
#     ------------------- ----- -----
#     Module::Build::Tiny 0.039 0.039
# 
# === Test Requires ===
# 
#     Module              Want     Have
#     ------------------- ---- --------
#     ExtUtils::MakeMaker  any     7.04
#     File::Spec           any     3.47
#     List::Util           any     1.41
#     Moose::Util          any   2.1403
#     Path::Tiny           any    0.061
#     Test::DZil           any    5.028
#     Test::Deep           any    0.113
#     Test::Fatal          any    0.014
#     Test::More           any 1.001009
#     if                   any     0.05
# 
# === Test Recommends ===
# 
#     Module         Want     Have
#     ---------- -------- --------
#     CPAN::Meta 2.120900 2.143240
# 
# === Runtime Requires ===
# 
#     Module                                 Want       Have
#     ---------------------------------- -------- ----------
#     CPAN::DistnameInfo                      any       0.12
#     CPAN::Meta::Requirements              2.121      2.130
#     Dist::Zilla::Plugin::MetaResources 4.300039      5.028
#     Dist::Zilla::Role::AfterBuild           any      5.028
#     Encode                                  any       2.67
#     HTTP::Headers                           any       6.05
#     HTTP::Tiny                              any      0.053
#     Module::CoreList                       3.10 5.20141120
#     Moose                                   any     2.1403
#     Moose::Util::TypeConstraints            any     2.1403
#     MooseX::Types::Perl                0.101340   0.101343
#     YAML::Tiny                              any       1.64
#     namespace::autoclean                    any       0.22
#     strict                                  any       1.04
#     version                                 any     0.9909
#     warnings                                any       1.06
# 
# === Other Modules ===
# 
#     Module                Want     Have
#     --------------------- ---- --------
#     CPAN::Meta::Validator  any 2.143240
#     feature                any     1.13
# 
t/00-report-prereqs.t ............ ok
Warning: Use of "localtime" without parentheses is ambiguous at /usr/perl5.10.1/lib/site_perl/5.10.1/Log/Dispatchouli.pm line 189.
t/01-basic.t ..................... ok
Warning: Use of "localtime" without parentheses is ambiguous at /usr/perl5.10.1/lib/site_perl/5.10.1/Log/Dispatchouli.pm line 189.
t/02-deprecated.t ................ ok
Warning: Use of "localtime" without parentheses is ambiguous at /usr/perl5.10.1/lib/site_perl/5.10.1/Log/Dispatchouli.pm line 189.
t/03-specific-version.t .......... ok
Warning: Use of "localtime" without parentheses is ambiguous at /usr/perl5.10.1/lib/site_perl/5.10.1/Log/Dispatchouli.pm line 189.
t/04-no-check-module-versions.t .. skipped: the check_module_versions option has been removed
Warning: Use of "localtime" without parentheses is ambiguous at /usr/perl5.10.1/lib/site_perl/5.10.1/Log/Dispatchouli.pm line 189.
t/05-check-dual-life-versions.t .. ok
Warning: Use of "localtime" without parentheses is ambiguous at /usr/perl5.10.1/lib/site_perl/5.10.1/Log/Dispatchouli.pm line 189.
t/06-phases.t .................... ok
Warning: Use of "localtime" without parentheses is ambiguous at /usr/perl5.10.1/lib/site_perl/5.10.1/Log/Dispatchouli.pm line 189.
t/07-skip.t ...................... ok
Warning: Use of "localtime" without parentheses is ambiguous at /usr/perl5.10.1/lib/site_perl/5.10.1/Log/Dispatchouli.pm line 189.
t/08-perl-prereq.t ............... ok
All tests successful.
Files=9, Tests=41, 15 wallclock secs ( 0.07 usr  0.05 sys + 12.65 cusr  0.99 csys = 13.76 CPU)
Result: PASS

------------------------------
PREREQUISITES
------------------------------

Prerequisite modules loaded:

requires:

    Module                             Need     Have      
    ---------------------------------- -------- ----------
    CPAN::DistnameInfo                 0        0.12      
    CPAN::Meta::Requirements           2.121    2.130     
    Dist::Zilla::Plugin::MetaResources 4.300039 5.028     
    Dist::Zilla::Role::AfterBuild      0        5.028     
    Encode                             0        2.67      
    HTTP::Headers                      0        6.05      
    HTTP::Tiny                         0        0.053     
    Module::CoreList                   3.10     5.20141120
    Moose                              0        2.1403    
    Moose::Util::TypeConstraints       0        2.1403    
    MooseX::Types::Perl                0.101340 0.101343  
    namespace::autoclean               0        0.22      
    perl                               5.010    5.010001  
    strict                             0        1.04      
    version                            0        0.9909    
    warnings                           0        1.06      
    YAML::Tiny                         0        1.64      

build_requires:

    Module                             Need     Have      
    ---------------------------------- -------- ----------
    ExtUtils::MakeMaker                0        7.04      
    File::Spec                         0        3.47      
    if                                 0        0.05      
    List::Util                         0        1.41      
    Moose::Util                        0        2.1403    
    Path::Tiny                         0        0.061     
    perl                               5.010    5.010001  
    Test::Deep                         0        0.113     
    Test::DZil                         0        5.028     
    Test::Fatal                        0        0.014     
    Test::More                         0        1.001009  

configure_requires:

    Module                             Need     Have      
    ---------------------------------- -------- ----------
    Module::Build::Tiny                0.039    0.039     
    perl                               5.010    5.010001  


------------------------------
ENVIRONMENT AND OTHER CONTEXT
------------------------------

Environment variables:

    DBIC_NO_WARN_BAD_PERL = 1
    LC_ALL = de_DE.ISO8859-1
    PATH = /usr/local/bin:/usr/bin:/bin:/usr/local/sbin:/usr/sbin:/sbin:/home/cpansand/bin/freebsd9.1:/home/cpansand/bin/sh:/home/cpansand/bin:/usr/games:/home/cpansand/devel:/usr/home/eserte/src/srezic-misc/scripts
    PERL5LIB = 
    PERL5OPT = 
    PERL5_CPANPLUS_IS_RUNNING = 14200
    PERL5_CPAN_IS_RUNNING = 14200
    PERL5_CPAN_IS_RUNNING_IN_RECURSION = 14139,14200
    PERLDOC = -MPod::Perldoc::ToTextOverstrike
    PERL_BATCH = yes
    PERL_CPAN_REPORTER_CONFIG = /var/tmp/cpansmoker-1023/mG7Ov_yMpF_config.ini
    PERL_EXTUTILS_AUTOINSTALL = --defaultdeps
    PERL_HTML_DISPLAY_CLASS = HTML::Display::Mozilla
    SHELL = /usr/local/bin/zsh
    TERM = screen
    TMPDIR = /var/tmp/cpansmoker-1023

Perl special variables (and OS-specific diagnostics, for MSWin32):

    $^X = /usr/perl5.10.1/bin/perl
    $UID/$EUID = 1023 / 1023
    $GID = 1023 1023
    $EGID = 1023 1023

Perl module toolchain versions installed:

    Module              Have    
    ------------------- --------
    CPAN                1.9402  
    CPAN::Meta          2.143240
    Cwd                 3.47    
    ExtUtils::CBuilder  0.280220
    ExtUtils::Command   1.16    
    ExtUtils::Install   2.04    
    ExtUtils::MakeMaker 7.04    
    ExtUtils::Manifest  1.69    
    ExtUtils::ParseXS   3.24    
    File::Spec          3.47    
    JSON                2.90    
    JSON::PP            2.27203 
    Module::Build       0.4210  
    Module::Signature   0.73    
    Parse::CPAN::Meta   1.4414  
    Test::Harness       3.34    
    Test::More          1.001009
    YAML                1.12    
    YAML::Syck          1.29    
    version             0.9909  


--

Summary of my perl5 (revision 5 version 10 subversion 1) configuration:
   
  Platform:
    osname=freebsd, osvers=9.2-release-p4, archname=amd64-freebsd
    uname='freebsd cvrsnica-freebsd-92 9.2-release-p4 freebsd 9.2-release-p4 #0: tue apr 8 18:08:22 utc 2014 root@amd64-builder.daemonology.net:usrobjusrsrcsysgeneric amd64 '
    config_args='-ds -e -Dprefix=/usr/perl5.10.1'
    hint=recommended, useposix=true, d_sigaction=define
    useithreads=undef, usemultiplicity=undef
    useperlio=define, d_sfio=undef, uselargefiles=define, usesocks=undef
    use64bitint=define, use64bitall=define, uselongdouble=undef
    usemymalloc=n, bincompat5005=undef
  Compiler:
    cc='cc', ccflags ='-DHAS_FPSETMASK -DHAS_FLOATINGPOINT_H -fno-strict-aliasing -pipe -fstack-protector -I/usr/local/include',
    optimize='-O',
    cppflags='-DHAS_FPSETMASK -DHAS_FLOATINGPOINT_H -fno-strict-aliasing -pipe -fstack-protector -I/usr/local/include'
    ccversion='', gccversion='4.2.1 20070831 patched [FreeBSD]', gccosandvers=''
    intsize=4, longsize=8, ptrsize=8, doublesize=8, byteorder=12345678
    d_longlong=define, longlongsize=8, d_longdbl=define, longdblsize=16
    ivtype='long', ivsize=8, nvtype='double', nvsize=8, Off_t='off_t', lseeksize=8
    alignbytes=8, prototype=define
  Linker and Libraries:
    ld='cc', ldflags ='-Wl,-E  -fstack-protector -L/usr/local/lib'
    libpth=/usr/lib /usr/local/lib
    libs=-lgdbm -lm -lcrypt -lutil -lc
    perllibs=-lm -lcrypt -lutil -lc
    libc=, so=so, useshrplib=false, libperl=libperl.a
    gnulibc_version=''
  Dynamic Linking:
    dlsrc=dl_dlopen.xs, dlext=so, d_dlsymun=undef, ccdlflags=' '
    cccdlflags='-DPIC -fPIC', lddlflags='-shared  -L/usr/local/lib -fstack-protector'


Characteristics of this binary (from libperl): 
  Compile-time options: PERL_DONT_CREATE_GVSV PERL_MALLOC_WRAP USE_64_BIT_ALL
                        USE_64_BIT_INT USE_LARGE_FILES USE_PERLIO
  Built under freebsd
  Compiled at May 15 2014 23:30:26
  %ENV:
    PERL5LIB=""
    PERL5OPT=""
    PERL5_CPANPLUS_IS_RUNNING="14200"
    PERL5_CPAN_IS_RUNNING="14200"
    PERL5_CPAN_IS_RUNNING_IN_RECURSION="14139,14200"
    PERLDOC="-MPod::Perldoc::ToTextOverstrike"
    PERL_BATCH="yes"
    PERL_CPAN_REPORTER_CONFIG="/var/tmp/cpansmoker-1023/mG7Ov_yMpF_config.ini"
    PERL_EXTUTILS_AUTOINSTALL="--defaultdeps"
    PERL_HTML_DISPLAY_CLASS="HTML::Display::Mozilla"
  @INC:
    /usr/perl5.10.1/lib/5.10.1/amd64-freebsd
    /usr/perl5.10.1/lib/5.10.1
    /usr/perl5.10.1/lib/site_perl/5.10.1/amd64-freebsd
    /usr/perl5.10.1/lib/site_perl/5.10.1
    .