Report for CGI-Application-Plugin-Authentication-0.19

Back
From: metabase:user:320bfe00-2aae-11df-837a-5e0a49663a4f
Subject: PASS CGI-Application-Plugin-Authentication-0.19 v5.13.8 GNU/Linux
Date: 2011-01-12T05:52:17Z

This distribution has been tested as part of the CPAN Testers
project, supporting the Perl programming language.  See
http://wiki.cpantesters.org/ for more information or email
questions to cpan-testers-discuss@perl.org


--
Dear Nicholas Bamber,

This is a computer-generated report for CGI-Application-Plugin-Authentication-0.19
on perl 5.13.8, created by CPAN-Reporter-1.1803.

Thank you for uploading your work to CPAN.  Congratulations!
All tests were successful.

Sections of this report:

    * Tester comments
    * Program output
    * Prerequisites
    * Environment and other context

------------------------------
TESTER COMMENTS
------------------------------

Additional comments from tester:

none provided

------------------------------
PROGRAM OUTPUT
------------------------------

Output from './Build test':

t/01_basic.t ........................ ok
t/02_config.t ....................... ok
Use of qw(...) as parentheses is deprecated at /home/src/perl/repoperls/installed-perls/perl/v5.13.8-274-g211dff6/lib/site_perl/5.13.8/CGI/Session.pm line 804.
t/03_authenticate.t ................. ok
authen config warning:  parameter POST_LOGIN_URL ignored since we already have POST_LOGIN_RUNMODE at t/03_destination.t line 43
t/03_destination.t .................. ok
t/03_login_box.t .................... ok
t/03_login_box_basic.t .............. ok
t/03_login_box_other.t .............. ok
t/03_missing_color.t ................ ok
t/04_attributes.t ................... ok
t/05_autorunmode.t .................. skipped: CGI::Application::Plugin::AutoRunmode required for this test
# The following tests have some small time delays
t/06_timeout.t ...................... ok
t/07_protected_runmodes.t ........... ok
Use of uninitialized value in lc at /home/sand/.cpan/build/CGI-Application-Plugin-Authentication-0.19-GnyB0E/blib/lib/CGI/Application/Plugin/Authentication/Driver/Filter/crypt.pm line 17.
Use of uninitialized value in lc at /home/sand/.cpan/build/CGI-Application-Plugin-Authentication-0.19-GnyB0E/blib/lib/CGI/Application/Plugin/Authentication/Driver/Filter/crypt.pm line 17.
Use of uninitialized value in lc at /home/sand/.cpan/build/CGI-Application-Plugin-Authentication-0.19-GnyB0E/blib/lib/CGI/Application/Plugin/Authentication/Driver/Filter/crypt.pm line 17.
t/40_encoder_crypt.t ................ ok
t/40_encoder_lc.t ................... ok
Use of uninitialized value in lc at /home/sand/.cpan/build/CGI-Application-Plugin-Authentication-0.19-GnyB0E/blib/lib/CGI/Application/Plugin/Authentication/Driver/Filter/md5.pm line 27.
Use of uninitialized value in lc at /home/sand/.cpan/build/CGI-Application-Plugin-Authentication-0.19-GnyB0E/blib/lib/CGI/Application/Plugin/Authentication/Driver/Filter/md5.pm line 27.
Use of uninitialized value in lc at /home/sand/.cpan/build/CGI-Application-Plugin-Authentication-0.19-GnyB0E/blib/lib/CGI/Application/Plugin/Authentication/Driver/Filter/md5.pm line 27.
t/40_encoder_md5.t .................. ok
Use of uninitialized value in lc at /home/sand/.cpan/build/CGI-Application-Plugin-Authentication-0.19-GnyB0E/blib/lib/CGI/Application/Plugin/Authentication/Driver/Filter/sha1.pm line 27.
Use of uninitialized value in lc at /home/sand/.cpan/build/CGI-Application-Plugin-Authentication-0.19-GnyB0E/blib/lib/CGI/Application/Plugin/Authentication/Driver/Filter/sha1.pm line 27.
Use of uninitialized value in lc at /home/sand/.cpan/build/CGI-Application-Plugin-Authentication-0.19-GnyB0E/blib/lib/CGI/Application/Plugin/Authentication/Driver/Filter/sha1.pm line 27.
t/40_encoder_sha1.t ................. ok
t/40_encoder_strip.t ................ ok
t/40_encoder_uc.t ................... ok
Use of uninitialized value in lc at /home/sand/.cpan/build/CGI-Application-Plugin-Authentication-0.19-GnyB0E/blib/lib/CGI/Application/Plugin/Authentication/Driver/Filter/md5.pm line 27.
Use of uninitialized value in lc at /home/sand/.cpan/build/CGI-Application-Plugin-Authentication-0.19-GnyB0E/blib/lib/CGI/Application/Plugin/Authentication/Driver/Filter/sha1.pm line 27.
t/50_driver_missing_modules.t ....... ok
t/50_driver_undefined.t ............. ok
t/51_driver_dummy.t ................. ok
t/52_driver_generic.t ............... ok
Use of uninitialized value in lc at /home/sand/.cpan/build/CGI-Application-Plugin-Authentication-0.19-GnyB0E/blib/lib/CGI/Application/Plugin/Authentication/Driver/Filter/crypt.pm line 17.
Use of uninitialized value in lc at /home/sand/.cpan/build/CGI-Application-Plugin-Authentication-0.19-GnyB0E/blib/lib/CGI/Application/Plugin/Authentication/Driver/Filter/crypt.pm line 17.
Use of uninitialized value in lc at /home/sand/.cpan/build/CGI-Application-Plugin-Authentication-0.19-GnyB0E/blib/lib/CGI/Application/Plugin/Authentication/Driver/Filter/md5.pm line 27.
Use of uninitialized value in lc at /home/sand/.cpan/build/CGI-Application-Plugin-Authentication-0.19-GnyB0E/blib/lib/CGI/Application/Plugin/Authentication/Driver/Filter/crypt.pm line 17.
Use of uninitialized value in lc at /home/sand/.cpan/build/CGI-Application-Plugin-Authentication-0.19-GnyB0E/blib/lib/CGI/Application/Plugin/Authentication/Driver/Filter/md5.pm line 27.
Use of uninitialized value in lc at /home/sand/.cpan/build/CGI-Application-Plugin-Authentication-0.19-GnyB0E/blib/lib/CGI/Application/Plugin/Authentication/Driver/Filter/md5.pm line 27.
Use of uninitialized value in lc at /home/sand/.cpan/build/CGI-Application-Plugin-Authentication-0.19-GnyB0E/blib/lib/CGI/Application/Plugin/Authentication/Driver/Filter/crypt.pm line 17.
Use of uninitialized value in lc at /home/sand/.cpan/build/CGI-Application-Plugin-Authentication-0.19-GnyB0E/blib/lib/CGI/Application/Plugin/Authentication/Driver/Filter/crypt.pm line 17.
t/53_driver_dbi.t ................... ok
t/53_driver_dbi_bad.t ............... ok
t/53_driver_dbi_die.t ............... ok
t/53_driver_dbi_syntax.t ............ ok
t/54_driver_htpasswd.t .............. ok
t/55_driver_authensimple.t .......... ok
t/55_driver_authensimple_die.t ...... ok
t/55_driver_missing_authensimple.t .. ok
Use of qw(...) as parentheses is deprecated at /home/src/perl/repoperls/installed-perls/perl/v5.13.8-274-g211dff6/lib/site_perl/5.13.8/CGI/Session.pm line 804.
t/60_parsimony.t .................... ok
t/60_store.t ........................ ok
t/60_store_cookie.t ................. ok
Use of qw(...) as parentheses is deprecated at /home/src/perl/repoperls/installed-perls/perl/v5.13.8-274-g211dff6/lib/site_perl/5.13.8/CGI/Session.pm line 804.
t/60_store_session.t ................ ok
t/70_action_dispatch.t .............. skipped: CGI::Application::Plugin::ActionDispatch required
t/80_devpopup.t ..................... ok
t/98_pod.t .......................... skipped: Author test.  Set $ENV{TEST_AUTHOR} to a true value to run.
t/99_pod_coverage.t ................. skipped: Author test.  Set $ENV{TEST_AUTHOR} to a true value to run.
t/changes.t ......................... skipped: Author test.  Set $ENV{TEST_AUTHOR} to a true value to run.
t/manifest.t ........................ skipped: Author test.  Set $ENV{TEST_AUTHOR} to a true value to run.
t/podspell.t ........................ skipped: Author test.  Set $ENV{TEST_AUTHOR} to a true value to run.
t/prereq.t .......................... skipped: Author test.  Set $ENV{TEST_PREREQ} to a true value to run.
All tests successful.
Files=42, Tests=518,  7 wallclock secs ( 0.18 usr  0.08 sys +  3.14 cusr  0.52 csys =  3.92 CPU)
Result: PASS

------------------------------
PREREQUISITES
------------------------------

Prerequisite modules loaded:

requires:

    Module                Need  Have    
    --------------------- ----- --------
    Attribute::Handlers   0     0.88    
    CGI                   3.16  3.51    
    CGI::Application      4     4.31    
    Class::ISA            0     0.36    
    Digest::SHA1          0     2.13    
    MIME::Base64          0     3.13    
    perl                  5.006 5.013008
    Scalar::Util          0     1.23    
    UNIVERSAL::require    0     0.13    

build_requires:

    Module                Need  Have    
    --------------------- ----- --------
    Test::Exception       0     0.31    
    Test::MockObject      0     1.09    
    Test::More            0.93  0.97_01 
    Test::NoWarnings      0     1.02    
    Test::Regression      0     0.06    
    Test::Taint           0     1.04    
    Test::Warn            0.11  0.22    
    Test::Without::Module 0     0.17    

configure_requires:

    Module                Need  Have    
    --------------------- ----- --------
    Module::Build         0.36  0.3607  


------------------------------
ENVIRONMENT AND OTHER CONTEXT
------------------------------

Environment variables:

    LANG = en_US.UTF-8
    PATH = /home/sand/bin:/usr/local/bin:/usr/bin:/bin:/usr/bin/X11:/usr/games:/usr/local/perl/bin:/usr/X11/bin:/sbin:/usr/sbin
    PERL5LIB = /home/sand/.cpan/build/WAP-wbxml-1.12-XhBE_B/blib/arch:/home/sand/.cpan/build/WAP-wbxml-1.12-XhBE_B/blib/lib:/home/sand/.cpan/build/ProjectBuilder-0.9.10-zws3as/blib/arch:/home/sand/.cpan/build/ProjectBuilder-0.9.10-zws3as/blib/lib
    PERL5OPT = 
    PERL5_CPANPLUS_IS_RUNNING = 29642
    PERL5_CPAN_IS_RUNNING = 29642
    SHELL = /usr/bin/zsh
    TERM = screen

Perl special variables (and OS-specific diagnostics, for MSWin32):

    $^X = /home/src/perl/repoperls/installed-perls/perl/v5.13.8-274-g211dff6/bin/perl
    $UID/$EUID = 1001 / 1001
    $GID = 1001 1001
    $EGID = 1001 1001

Perl module toolchain versions installed:

    Module              Have    
    ------------------- --------
    CPAN                1.94_62 
    Cwd                 3.35    
    ExtUtils::CBuilder  0.280201
    ExtUtils::Command   1.16    
    ExtUtils::Install   1.55    
    ExtUtils::MakeMaker 6.57_05 
    ExtUtils::Manifest  1.58    
    ExtUtils::ParseXS   2.2208  
    File::Spec          3.33    
    Module::Build       0.3607  
    Module::Signature   0.66    
    Test::Harness       3.22    
    Test::More          0.97_01 
    YAML                0.72    
    YAML::Syck          1.17    
    version             0.88    


--

Summary of my perl5 (revision 5 version 13 subversion 8) configuration:
  Commit id: 211dff67fdc23c274b7c373b1d8463c98361e11f
  Platform:
    osname=linux, osvers=2.6.32-5-amd64, archname=x86_64-linux
    uname='linux k81 2.6.32-5-amd64 #1 smp fri dec 10 15:35:08 utc 2010 x86_64 gnulinux '
    config_args='-Dprefix=/home/src/perl/repoperls/installed-perls/perl/v5.13.8-274-g211dff6 -Dinstallusrbinperl=n -Uversiononly -Dusedevel -des -Ui_db -Uuseithreads -Uuselongdouble'
    hint=recommended, useposix=true, d_sigaction=define
    useithreads=undef, usemultiplicity=undef
    useperlio=define, d_sfio=undef, uselargefiles=define, usesocks=undef
    use64bitint=define, use64bitall=define, uselongdouble=undef
    usemymalloc=n, bincompat5005=undef
  Compiler:
    cc='cc', ccflags ='-fno-strict-aliasing -pipe -fstack-protector -I/usr/local/include -D_LARGEFILE_SOURCE -D_FILE_OFFSET_BITS=64',
    optimize='-O2',
    cppflags='-fno-strict-aliasing -pipe -fstack-protector -I/usr/local/include'
    ccversion='', gccversion='4.4.5', gccosandvers=''
    intsize=4, longsize=8, ptrsize=8, doublesize=8, byteorder=12345678
    d_longlong=define, longlongsize=8, d_longdbl=define, longdblsize=16
    ivtype='long', ivsize=8, nvtype='double', nvsize=8, Off_t='off_t', lseeksize=8
    alignbytes=8, prototype=define
  Linker and Libraries:
    ld='cc', ldflags =' -fstack-protector -L/usr/local/lib'
    libpth=/usr/local/lib /lib /usr/lib /lib64 /usr/lib64
    libs=-lnsl -lgdbm -ldb -ldl -lm -lcrypt -lutil -lc -lgdbm_compat
    perllibs=-lnsl -ldl -lm -lcrypt -lutil -lc
    libc=/lib/libc-2.11.2.so, so=so, useshrplib=false, libperl=libperl.a
    gnulibc_version='2.11.2'
  Dynamic Linking:
    dlsrc=dl_dlopen.xs, dlext=so, d_dlsymun=undef, ccdlflags='-Wl,-E'
    cccdlflags='-fPIC', lddlflags='-shared -O2 -L/usr/local/lib -fstack-protector'


Characteristics of this binary (from libperl): 
  Compile-time options: PERL_DONT_CREATE_GVSV PERL_MALLOC_WRAP PERL_USE_DEVEL
                        USE_64_BIT_ALL USE_64_BIT_INT USE_LARGE_FILES
                        USE_PERLIO USE_PERL_ATOF
  Built under linux
  Compiled at Jan 11 2011 06:02:24
  %ENV:
    PERL5LIB="/home/sand/.cpan/build/WAP-wbxml-1.12-XhBE_B/blib/arch:/home/sand/.cpan/build/WAP-wbxml-1.12-XhBE_B/blib/lib:/home/sand/.cpan/build/ProjectBuilder-0.9.10-zws3as/blib/arch:/home/sand/.cpan/build/ProjectBuilder-0.9.10-zws3as/blib/lib"
    PERL5OPT=""
    PERL5_CPANPLUS_IS_RUNNING="29642"
    PERL5_CPAN_IS_RUNNING="29642"
  @INC:
    /home/sand/.cpan/build/WAP-wbxml-1.12-XhBE_B/blib/arch
    /home/sand/.cpan/build/WAP-wbxml-1.12-XhBE_B/blib/lib
    /home/sand/.cpan/build/ProjectBuilder-0.9.10-zws3as/blib/arch
    /home/sand/.cpan/build/ProjectBuilder-0.9.10-zws3as/blib/lib
    /home/src/perl/repoperls/installed-perls/perl/v5.13.8-274-g211dff6/lib/site_perl/5.13.8/x86_64-linux
    /home/src/perl/repoperls/installed-perls/perl/v5.13.8-274-g211dff6/lib/site_perl/5.13.8
    /home/src/perl/repoperls/installed-perls/perl/v5.13.8-274-g211dff6/lib/5.13.8/x86_64-linux
    /home/src/perl/repoperls/installed-perls/perl/v5.13.8-274-g211dff6/lib/5.13.8
    .