Report for MooseX-Types-Structured-0.30

Back
From: metabase:user:30f4dfbe-2aae-11df-837a-5e0a49663a4f
Subject: PASS MooseX-Types-Structured-0.30 v5.18.4 Mac OS X
Date: 2015-03-04T18:48:57Z

This distribution has been tested as part of the CPAN Testers
project, supporting the Perl programming language.  See
http://wiki.cpantesters.org/ for more information or email
questions to cpan-testers-discuss@perl.org


--
Dear Karen Etheridge,

This is a computer-generated report for MooseX-Types-Structured-0.30
on perl 5.18.4, created by CPAN-Reporter-1.2011.

Thank you for uploading your work to CPAN.  Congratulations!
All tests were successful.

Sections of this report:

    * Tester comments
    * Program output
    * Prerequisites
    * Environment and other context

------------------------------
TESTER COMMENTS
------------------------------

Additional comments from tester:

this report is from an automated smoke testing program
and was not reviewed by a human for accuracy

------------------------------
PROGRAM OUTPUT
------------------------------

Output from './Build test':

t/00-load.t .................... ok
# 
# Versions for all modules listed in MYMETA.json (including optional ones):
#    Version Module                                      
#   -------- --------------------------------------------
#   2.142690 CPAN::Meta                                  
#      2.127 CPAN::Meta::Requirements                    
#      2.154 Data::Dumper                                
#       1.12 DateTime                                    
#       0.17 Devel::PartialDump                          
#       7.04 ExtUtils::MakeMaker                         
#       3.47 File::Spec::Functions                       
#       1.41 List::Util                                  
#      0.039 Module::Build::Tiny                         
#     2.1402 Moose                                       
#     2.1402 Moose::Meta::TypeCoercion                   
#     2.1402 Moose::Meta::TypeConstraint                 
#     2.1402 Moose::Meta::TypeConstraint::Parameterizable
#     2.1402 Moose::Util::TypeConstraints                
#       0.45 MooseX::Types                               
#       0.10 MooseX::Types::DateTime                     
#       0.45 MooseX::Types::Moose                        
#       1.41 Scalar::Util                                
#      0.987 Sub::Exporter                               
#      0.013 Test::Fatal                                 
#   1.001014 Test::More                                  
#       1.22 overload                                    
#       1.07 strict                                      
#       1.18 warnings                                    
t/00-report-prereqs.t .......... ok
t/01-basic.t ................... ok
t/02-tuple.t ................... ok
t/03-dict.t .................... ok
t/04-combined.t ................ ok
t/04-map.t ..................... ok
t/05-advanced.t ................ ok
t/06-api.t ..................... ok
t/07-coerce.t .................. ok
t/08-examples.t ................ ok
t/09-optional.t ................ ok
t/10-recursion.t ............... ok
t/11-overflow.t ................ ok
t/12-error.t ................... ok
t/13-deeper_error.t ............ ok
t/bug-incorrect-message.t ...... ok
t/bug-is-subtype.t ............. ok
t/bug-mixed-stringy.t .......... ok
t/bug-optional.t ............... ok
t/regressions/01-is_type_of.t .. ok
All tests successful.
Files=21, Tests=357,  5 wallclock secs ( 0.06 usr  0.05 sys +  3.89 cusr  0.67 csys =  4.67 CPU)
Result: PASS

------------------------------
PREREQUISITES
------------------------------

Prerequisite modules loaded:

requires:

    Module                                       Need  Have    
    -------------------------------------------- ----- --------
    Devel::PartialDump                           0.13  0.17    
    Moose                                        1.08  2.1402  
    Moose::Meta::TypeCoercion                    0     2.1402  
    Moose::Meta::TypeConstraint                  0     2.1402  
    Moose::Meta::TypeConstraint::Parameterizable 0     2.1402  
    Moose::Util::TypeConstraints                 1.06  2.1402  
    MooseX::Types                                0.22  0.45    
    overload                                     0     1.22    
    perl                                         5.008 5.018004
    Scalar::Util                                 0     1.41    
    Sub::Exporter                                0.982 0.987   

build_requires:

    Module                                       Need  Have    
    -------------------------------------------- ----- --------
    Data::Dumper                                 0     2.154   
    DateTime                                     0     1.12    
    ExtUtils::MakeMaker                          0     7.04    
    File::Spec::Functions                        0     3.47    
    List::Util                                   0     1.41    
    MooseX::Types::DateTime                      0     0.10    
    MooseX::Types::Moose                         0     0.45    
    strict                                       0     1.07    
    Test::Fatal                                  0     0.013   
    Test::More                                   0.94  1.001014
    warnings                                     0     1.18    

configure_requires:

    Module                                       Need  Have    
    -------------------------------------------- ----- --------
    ExtUtils::MakeMaker                          6.30  7.04    
    Module::Build::Tiny                          0.030 0.039   


------------------------------
ENVIRONMENT AND OTHER CONTEXT
------------------------------

Environment variables:

    AUTOMATED_TESTING = 1
    LANG = en_US.UTF-8
    LC_ALL = POSIX
    LD_LIBRARY_PATH = :/net/traces01.be-md.ncbi.nlm.nih.gov/trace_software/vdb/mac/release/x86_64/lib
    PATH = /Users/hornenj/perl5/perlbrew/bin:/Users/hornenj/perl5/perlbrew/perls/perl-5.18.4/bin:/Users/hornenj/perl5/perlbrew/bin:/Users/hornenj/perl5/perlbrew/perls/perl-5.21.8/bin:/Users/hornenj/bin:/sw/lib/perl5/ExtUtils:/sw/bin:/am/ncbiapdata/bin:/usr/bin:/bin:/usr/X11R6/bin:/netopt/ncbi_tools/bin:/usr/local/ncbi/blast/bin:/net/traces01.be-md.ncbi.nlm.nih.gov/trace_software/vdb/mac/release/x86_64/bin
    PERL5LIB = /Users/hornenj/.cpan/build/MooseX-Types-DateTime-0.10-Jb1tef/blib/arch:/Users/hornenj/.cpan/build/MooseX-Types-DateTime-0.10-Jb1tef/blib/lib:/Users/hornenj/.cpan/build/Devel-PartialDump-0.17-JrJUpc/blib/arch:/Users/hornenj/.cpan/build/Devel-PartialDump-0.17-JrJUpc/blib/lib:/Users/hornenj/.cpan/build/Class-Tiny-1.001-Yj8fMr/blib/arch:/Users/hornenj/.cpan/build/Class-Tiny-1.001-Yj8fMr/blib/lib:/Users/hornenj/.cpan/build/aliased-0.34-0QoIwq/blib/arch:/Users/hornenj/.cpan/build/aliased-0.34-0QoIwq/blib/lib:/Users/hornenj/.cpan/build/Devel-Declare-0.006017-rizXxo/blib/arch:/Users/hornenj/.cpan/build/Devel-Declare-0.006017-rizXxo/blib/lib:/Users/hornenj/.cpan/build/B-Hooks-OP-PPAddr-0.03-Zu8Gnj/blib/arch:/Users/hornenj/.cpan/build/B-Hooks-OP-PPAddr-0.03-Zu8Gnj/blib/lib:/Users/hornenj/.cpan/build/Test-JSON-0.11-jbHNTT/blib/arch:/Users/hornenj/.cpan/build/Test-JSON-0.11-jbHNTT/blib/lib
    PERL5OPT = 
    PERL5_CPANPLUS_IS_RUNNING = 72915
    PERL5_CPAN_IS_RUNNING = 72915
    PERL5_MINISMOKEBOX = 0.58
    PERLBREW_BASHRC_VERSION = 0.69
    PERLBREW_HOME = /Users/hornenj/.perlbrew
    PERLBREW_LIB = 
    PERLBREW_MANPATH = /Users/hornenj/perl5/perlbrew/perls/perl-5.18.4/man
    PERLBREW_PATH = /Users/hornenj/perl5/perlbrew/bin:/Users/hornenj/perl5/perlbrew/perls/perl-5.18.4/bin
    PERLBREW_PERL = perl-5.18.4
    PERLBREW_ROOT = /Users/hornenj/perl5/perlbrew
    PERLBREW_VERSION = 0.73
    PERL_EXTUTILS_AUTOINSTALL = --defaultdeps
    PERL_LOCAL_LIB_ROOT = 
    PERL_MM_USE_DEFAULT = 1
    SHELL = /bin/bash
    TERM = xterm-256color
    TMPDIR = /var/folders/pz/pd7y1qjs6s3cbk170cw50fjc000c61/T/
    VERSIONER_PERL_PREFER_32_BIT = no
    VERSIONER_PERL_VERSION = 5.18
    ac_cv_path_INTLTOOL_PERL = /usr/bin/perl

Perl special variables (and OS-specific diagnostics, for MSWin32):

    $^X = /Users/hornenj/perl5/perlbrew/perls/perl-5.18.4/bin/perl5.18.4
    $UID/$EUID = 12481 / 12481
    $GID = 14 14 5344 527 241
    $EGID = 14 14 5344 527 241

Perl module toolchain versions installed:

    Module              Have    
    ------------------- --------
    CPAN                2.05    
    CPAN::Meta          2.142690
    Cwd                 3.47    
    ExtUtils::CBuilder  0.280220
    ExtUtils::Command   1.17    
    ExtUtils::Install   1.59    
    ExtUtils::MakeMaker 7.04    
    ExtUtils::Manifest  1.65    
    ExtUtils::ParseXS   3.18    
    File::Spec          3.47    
    JSON                2.90    
    JSON::PP            2.27203 
    Module::Build       0.4210  
    Module::Signature   n/a     
    Parse::CPAN::Meta   1.4414  
    Test::Harness       3.34    
    Test::More          1.001014
    YAML                1.13    
    YAML::Syck          1.29    
    version             0.9902  


--

Summary of my perl5 (revision 5 version 18 subversion 4) configuration:
   
  Platform:
    osname=darwin, osvers=13.4.0, archname=darwin-thread-multi-2level
    uname='darwin ncbimac2008.ncbi.nlm.nih.gov 13.4.0 darwin kernel version 13.4.0: sun aug 17 19:50:11 pdt 2014; root:xnu-2422.115.4~1release_x86_64 x86_64 '
    config_args='-de -Dprefix=/Users/hornenj/perl5/perlbrew/perls/perl-5.18.4 -Duseithreads -Dusemultiplicity -Dusedevel -Accflags=-O2 -W -Wformat=2 -Wswitch -Wshadow -Wwrite-strings -Wuninitialized -Wall -pipe -mtune=native -march=native -fomit-frame-pointer -msse2 -msse -mmmx -pedantic -D_FORTIFY_SOURCE=2 -Wpointer-arith -Wstrict-prototypes -fstack-protector -Wstack-protector -Wextra -Wbad-function-cast -Wcast-align -Wcast-qual -Wdisabled-optimization -Wendif-labels -Wfloat-equal -Wformat-nonliteral -Winline -Wmissing-declarations -Wmissing-prototypes -Wnested-externs -Wpointer-arith -Wundef -Wformat-security -fassociative-math -Acc=cc -Aeval:scriptdir=/Users/hornenj/perl5/perlbrew/perls/perl-5.18.4/bin'
    hint=recommended, useposix=true, d_sigaction=define
    useithreads=define, usemultiplicity=define
    useperlio=define, d_sfio=undef, uselargefiles=define, usesocks=undef
    use64bitint=define, use64bitall=define, uselongdouble=undef
    usemymalloc=n, bincompat5005=undef
  Compiler:
    cc=' cc', ccflags ='-fno-common -DPERL_DARWIN -O2 -W -Wformat=2 -Wswitch -Wshadow -Wwrite-strings -Wuninitialized -Wall -pipe -mtune=native -march=native -fomit-frame-pointer -msse2 -msse -mmmx -pedantic -D_FORTIFY_SOURCE=2 -Wpointer-arith -Wstrict-prototypes -fstack-protector -Wstack-protector -Wextra -Wbad-function-cast -Wcast-align -Wcast-qual -Wdisabled-optimization -Wendif-labels -Wfloat-equal -Wformat-nonliteral -Winline -Wmissing-declarations -Wmissing-prototypes -Wnested-externs -Wpointer-arith -Wundef -Wformat-security -fassociative-math -fno-strict-aliasing -I/usr/local/include',
    optimize='-O3',
    cppflags='-fno-common -DPERL_DARWIN -O2 -W -Wformat=2 -Wswitch -Wshadow -Wwrite-strings -Wuninitialized -Wall -pipe -mtune=native -march=native -fomit-frame-pointer -msse2 -msse -mmmx -pedantic -D_FORTIFY_SOURCE=2 -Wpointer-arith -Wstrict-prototypes -fstack-protector -Wstack-protector -Wextra -Wbad-function-cast -Wcast-align -Wcast-qual -Wdisabled-optimization -Wendif-labels -Wfloat-equal -Wformat-nonliteral -Winline -Wmissing-declarations -Wmissing-prototypes -Wnested-externs -Wpointer-arith -Wundef -Wformat-security -fassociative-math -fno-strict-aliasing -I/usr/local/include'
    ccversion='', gccversion='4.2.1 Compatible Apple LLVM 6.0 (clang-600.0.51)', gccosandvers=''
    intsize=4, longsize=8, ptrsize=8, doublesize=8, byteorder=12345678
    d_longlong=define, longlongsize=8, d_longdbl=define, longdblsize=16
    ivtype='long', ivsize=8, nvtype='double', nvsize=8, Off_t='off_t', lseeksize=8
    alignbytes=8, prototype=define
  Linker and Libraries:
    ld='env MACOSX_DEPLOYMENT_TARGET=10.3 cc', ldflags =' -fstack-protector -L/usr/local/lib'
    libpth=/usr/local/lib /usr/lib
    libs=-ldbm -ldl -lm -lutil -lc
    perllibs=-ldl -lm -lutil -lc
    libc=, so=dylib, useshrplib=false, libperl=libperl.a
    gnulibc_version=''
  Dynamic Linking:
    dlsrc=dl_dlopen.xs, dlext=bundle, d_dlsymun=undef, ccdlflags=' '
    cccdlflags=' ', lddlflags=' -bundle -undefined dynamic_lookup -L/usr/local/lib -fstack-protector'


Characteristics of this binary (from libperl): 
  Compile-time options: HAS_TIMES MULTIPLICITY PERLIO_LAYERS
                        PERL_DONT_CREATE_GVSV
                        PERL_HASH_FUNC_ONE_AT_A_TIME_HARD
                        PERL_IMPLICIT_CONTEXT PERL_MALLOC_WRAP
                        PERL_PRESERVE_IVUV PERL_SAWAMPERSAND PERL_USE_DEVEL
                        USE_64_BIT_ALL USE_64_BIT_INT USE_ITHREADS
                        USE_LARGE_FILES USE_LOCALE USE_LOCALE_COLLATE
                        USE_LOCALE_CTYPE USE_LOCALE_NUMERIC USE_PERLIO
                        USE_PERL_ATOF USE_REENTRANT_API
  Built under darwin
  Compiled at Nov 12 2014 08:22:09
  %ENV:
    PERL5LIB="/Users/hornenj/.cpan/build/MooseX-Types-DateTime-0.10-Jb1tef/blib/arch:/Users/hornenj/.cpan/build/MooseX-Types-DateTime-0.10-Jb1tef/blib/lib:/Users/hornenj/.cpan/build/Devel-PartialDump-0.17-JrJUpc/blib/arch:/Users/hornenj/.cpan/build/Devel-PartialDump-0.17-JrJUpc/blib/lib:/Users/hornenj/.cpan/build/Class-Tiny-1.001-Yj8fMr/blib/arch:/Users/hornenj/.cpan/build/Class-Tiny-1.001-Yj8fMr/blib/lib:/Users/hornenj/.cpan/build/aliased-0.34-0QoIwq/blib/arch:/Users/hornenj/.cpan/build/aliased-0.34-0QoIwq/blib/lib:/Users/hornenj/.cpan/build/Devel-Declare-0.006017-rizXxo/blib/arch:/Users/hornenj/.cpan/build/Devel-Declare-0.006017-rizXxo/blib/lib:/Users/hornenj/.cpan/build/B-Hooks-OP-PPAddr-0.03-Zu8Gnj/blib/arch:/Users/hornenj/.cpan/build/B-Hooks-OP-PPAddr-0.03-Zu8Gnj/blib/lib:/Users/hornenj/.cpan/build/Test-JSON-0.11-jbHNTT/blib/arch:/Users/hornenj/.cpan/build/Test-JSON-0.11-jbHNTT/blib/lib"
    PERL5OPT=""
    PERL5_CPANPLUS_IS_RUNNING="72915"
    PERL5_CPAN_IS_RUNNING="72915"
    PERL5_MINISMOKEBOX="0.58"
    PERLBREW_BASHRC_VERSION="0.69"
    PERLBREW_HOME="/Users/hornenj/.perlbrew"
    PERLBREW_LIB=""
    PERLBREW_MANPATH="/Users/hornenj/perl5/perlbrew/perls/perl-5.18.4/man"
    PERLBREW_PATH="/Users/hornenj/perl5/perlbrew/bin:/Users/hornenj/perl5/perlbrew/perls/perl-5.18.4/bin"
    PERLBREW_PERL="perl-5.18.4"
    PERLBREW_ROOT="/Users/hornenj/perl5/perlbrew"
    PERLBREW_VERSION="0.73"
    PERL_EXTUTILS_AUTOINSTALL="--defaultdeps"
    PERL_LOCAL_LIB_ROOT=""
    PERL_MM_USE_DEFAULT="1"
  @INC:
    /Users/hornenj/.cpan/build/MooseX-Types-DateTime-0.10-Jb1tef/blib/arch
    /Users/hornenj/.cpan/build/MooseX-Types-DateTime-0.10-Jb1tef/blib/lib
    /Users/hornenj/.cpan/build/Devel-PartialDump-0.17-JrJUpc/blib/arch
    /Users/hornenj/.cpan/build/Devel-PartialDump-0.17-JrJUpc/blib/lib
    /Users/hornenj/.cpan/build/Class-Tiny-1.001-Yj8fMr/blib/arch
    /Users/hornenj/.cpan/build/Class-Tiny-1.001-Yj8fMr/blib/lib
    /Users/hornenj/.cpan/build/aliased-0.34-0QoIwq/blib/arch
    /Users/hornenj/.cpan/build/aliased-0.34-0QoIwq/blib/lib
    /Users/hornenj/.cpan/build/Devel-Declare-0.006017-rizXxo/blib/arch
    /Users/hornenj/.cpan/build/Devel-Declare-0.006017-rizXxo/blib/lib
    /Users/hornenj/.cpan/build/B-Hooks-OP-PPAddr-0.03-Zu8Gnj/blib/arch
    /Users/hornenj/.cpan/build/B-Hooks-OP-PPAddr-0.03-Zu8Gnj/blib/lib
    /Users/hornenj/.cpan/build/Test-JSON-0.11-jbHNTT/blib/arch
    /Users/hornenj/.cpan/build/Test-JSON-0.11-jbHNTT/blib/lib
    /Users/hornenj/perl5/perlbrew/perls/perl-5.18.4/lib/site_perl/5.18.4/darwin-thread-multi-2level
    /Users/hornenj/perl5/perlbrew/perls/perl-5.18.4/lib/site_perl/5.18.4
    /Users/hornenj/perl5/perlbrew/perls/perl-5.18.4/lib/5.18.4/darwin-thread-multi-2level
    /Users/hornenj/perl5/perlbrew/perls/perl-5.18.4/lib/5.18.4
    .