Template-Toolkit v3.102 Perl 5 v5.38.3 x86_64-linux-ld
- Status
- Pass
- From
- Andreas J. König (ANDK)
- Dist
-
Template-Toolkit v3.102
- Platform
- Perl 5 v5.38.3 x86_64-linux-ld
- Date
- 2025-02-18 17:52:26
- ID
- 1d23a0f0-ee21-11ef-9e4d-854d0bccc42c
This distribution has been tested as part of the CPAN Testers
project, supporting the Perl programming language. See
http://wiki.cpantesters.org/ for more information or email
questions to cpan-testers-discuss@perl.org
--
Dear Todd Rinaldo,
This is a computer-generated report for Template-Toolkit-3.102
on perl 5.38.3, created by CPAN-Reporter-1.2020.
Thank you for uploading your work to CPAN. Congratulations!
All tests were successful.
Sections of this report:
* Tester comments
* Program output
* Prerequisites
* Environment and other context
------------------------------
TESTER COMMENTS
------------------------------
Additional comments from tester:
this report is from an automated smoke testing program
and was not reviewed by a human for accuracy
------------------------------
PROGRAM OUTPUT
------------------------------
Output from '/usr/bin/make test':
make[1]: Entering directory '/tmp/loop_over_bdir-2639088-sRLkA1/Template-Toolkit-3.102-0/xs'
"/home/sand/src/perl/repoperls/installed-perls/host/k93msid/v5.38.3/af11/bin/perl" -MExtUtils::Command::MM -e 'cp_nonempty' -- XS.bs ../blib/arch/auto/Template/Stash/XS/XS.bs 644
make[1]: Leaving directory '/tmp/loop_over_bdir-2639088-sRLkA1/Template-Toolkit-3.102-0/xs'
make[1]: Entering directory '/tmp/loop_over_bdir-2639088-sRLkA1/Template-Toolkit-3.102-0/xs'
"/home/sand/src/perl/repoperls/installed-perls/host/k93msid/v5.38.3/af11/bin/perl" -MExtUtils::Command::MM -e 'cp_nonempty' -- XS.bs ../blib/arch/auto/Template/Stash/XS/XS.bs 644
No tests defined for Template::Stash::XS extension.
make[1]: Leaving directory '/tmp/loop_over_bdir-2639088-sRLkA1/Template-Toolkit-3.102-0/xs'
PERL_DL_NONLAZY=1 "/home/sand/src/perl/repoperls/installed-perls/host/k93msid/v5.38.3/af11/bin/perl" "-MExtUtils::Command::MM" "-MTest::Harness" "-e" "undef *Test::Harness::Switches; test_harness(0, 'blib/lib', 'blib/arch')" t/anycase.t t/args.t t/assert.t t/base.t t/binop.t t/block.t t/block_duplicate.t t/blocks.t t/capture.t t/case.t t/chomp.t t/compile1.t t/compile2.t t/compile3.t t/compile4.t t/compile5.t t/config.t t/constants.t t/context.t t/datafile.t t/date.t t/date_offset.t t/date_utf8.t t/debug.t t/directive.t t/directry.t t/document.t t/dumper.t t/error.t t/evalperl.t t/exception.t t/factory.t t/file.t t/fileline.t t/filter.t t/foreach.t t/format.t t/html.t t/image.t t/include.t t/iterator.t t/leak.t t/list.t t/load_order_vmethods_stash.t t/macro.t t/math.t t/math_rand.t t/meta.t t/mtime-zero.t t/object.t t/outline.t t/outline_line.t t/output.t t/parser.t t/parser2.t t/plugins.t t/plusfile.t t/pod.t t/prefix.t t/proc.t t/process-relative.t t/process.t t/process_dir.t t/provider.t t/ref.t t/scalar.t t/service.t t/skel.t t/stash-xs-unicode.t t/stash-xs.t t/stash.t t/stashc.t t/stop.t t/strcat.t t/strict.t t/string.t t/switch.t t/table.t t/tags.t t/template.t t/text.t t/throw.t t/tiedhash.t t/trace_vars.t t/try.t t/unicode.t t/url.t t/vars.t t/varsv1.t t/view.t t/while.t t/wrap.t t/wrapper.t t/zz-plugin-cycle.t t/zz-plugin-leak-gh-213.t t/zz-plugin-leak-rt-46691.t t/zz-plugin-leak.t t/zz-pmv.t t/zz-pod-coverage.t t/zz-pod-kwalitee.t t/zz-stash-xs-leak.t t/zz-url2.t t/vmethods/hash.t t/vmethods/list.t t/vmethods/replace.t t/vmethods/text.t
t/compile1.t ................... ok
t/compile2.t ................... ok
t/compile3.t ................... ok
t/compile4.t ................... ok
t/compile5.t ................... ok
t/anycase.t .................... ok
t/args.t ....................... ok
t/assert.t ..................... ok
t/base.t ....................... ok
t/binop.t ...................... ok
t/block.t ...................... ok
t/block_duplicate.t ............ ok
t/blocks.t ..................... ok
t/capture.t .................... ok
t/case.t ....................... ok
t/chomp.t ...................... ok
t/config.t ..................... ok
t/constants.t .................. ok
t/context.t .................... ok
t/datafile.t ................... ok
t/date.t ....................... ok
t/date_offset.t ................ ok
t/date_utf8.t .................. skipped: Need to set env variable AUTHOR_TESTING=1
t/debug.t ...................... ok
t/directive.t .................. ok
t/directry.t ................... ok
t/document.t ................... ok
t/dumper.t ..................... ok
t/error.t ...................... ok
t/evalperl.t ................... ok
t/exception.t .................. ok
t/factory.t .................... ok
t/file.t ....................... ok
t/fileline.t ................... ok
t/filter.t ..................... ok
t/foreach.t .................... ok
t/format.t ..................... ok
t/html.t ....................... ok
t/image.t ...................... skipped: Neither Image::Info nor Image::Size installed
t/include.t .................... ok
t/iterator.t ................... ok
t/leak.t ....................... ok
t/list.t ....................... ok
t/load_order_vmethods_stash.t .. ok
t/macro.t ...................... ok
t/math.t ....................... ok
t/math_rand.t .................. ok
t/meta.t ....................... ok
t/mtime-zero.t ................. ok
t/object.t ..................... ok
t/outline.t .................... ok
t/outline_line.t ............... ok
t/output.t ..................... ok
t/parser.t ..................... ok
t/parser2.t .................... ok
t/plugins.t .................... ok
t/plusfile.t ................... ok
t/pod.t ........................ skipped: Pod::POM not installed
t/prefix.t ..................... ok
t/proc.t ....................... ok
t/process-relative.t ........... ok
t/process.t .................... ok
t/process_dir.t ................ ok
t/provider.t ................... ok
t/ref.t ........................ ok
t/scalar.t ..................... ok
t/service.t .................... ok
t/skel.t ....................... ok
t/stash-xs-unicode.t ........... ok
t/stash-xs.t ................... ok
t/stash.t ...................... ok
t/stashc.t ..................... ok
t/stop.t ....................... ok
t/strcat.t ..................... ok
t/strict.t ..................... ok
t/string.t ..................... ok
t/switch.t ..................... ok
t/table.t ...................... ok
t/tags.t ....................... ok
t/template.t ................... ok
t/text.t ....................... ok
t/throw.t ...................... ok
t/tiedhash.t ................... ok
t/trace_vars.t ................. ok
t/try.t ........................ ok
t/unicode.t .................... ok
t/url.t ........................ ok
t/vars.t ....................... ok
t/varsv1.t ..................... ok
t/view.t ....................... ok
t/vmethods/hash.t .............. ok
t/vmethods/list.t .............. ok
t/vmethods/replace.t ........... ok
t/vmethods/text.t .............. ok
t/while.t ...................... ok
t/wrap.t ....................... ok
t/wrapper.t .................... ok
t/zz-plugin-cycle.t ............ ok
t/zz-plugin-leak-gh-213.t ...... skipped: Broken on older perls. We need to sort this out once everything is passing
t/zz-plugin-leak-rt-46691.t .... ok
t/zz-plugin-leak.t ............. skipped: Internal test for developer, add the --dev flag to run
t/zz-pmv.t ..................... skipped: These aren't the tests you're looking for... move along
t/zz-pod-coverage.t ............ skipped: Author tests not required for installation
t/zz-pod-kwalitee.t ............ skipped: Author tests not required for installation
t/zz-stash-xs-leak.t ........... skipped: Internal test for developer, add the --dev flag to run
t/zz-url2.t .................... skipped: We can't agree on the right joint for the URL plugin
All tests successful.
Files=106, Tests=2918, 26 wallclock secs ( 0.45 usr 0.35 sys + 7.85 cusr 1.81 csys = 10.46 CPU)
Result: PASS
------------------------------
PREREQUISITES
------------------------------
Prerequisite modules loaded:
requires:
Module Need Have
------------------- ---- ------
AppConfig 1.56 1.71
File::Spec 0.8 3.88
File::Temp 0.12 0.2311
Scalar::Util 0 1.63
build_requires:
Module Need Have
------------------- ---- ------
ExtUtils::MakeMaker 0 7.70
Test::LeakTrace 0 0.17
configure_requires:
Module Need Have
------------------- ---- ------
ExtUtils::MakeMaker 0 7.70
------------------------------
ENVIRONMENT AND OTHER CONTEXT
------------------------------
Environment variables:
AUTOMATED_TESTING = 1
LANG = en_US.UTF-8
LANGUAGE = en_US:en
PATH = /home/sand/bin:/usr/local/bin:/usr/bin:/bin:/usr/games:/usr/local/perl/bin:/usr/X11/bin:/sbin:/usr/sbin
PERL5LIB =
PERL5OPT =
PERL5_CPANPLUS_IS_RUNNING = 2157808
PERL5_CPAN_IS_RUNNING = 2157808
PERL_CANARY_STABILITY_NOPROMPT = 1
PERL_MM_USE_DEFAULT = 1
PERL_USE_UNSAFE_INC = 1
SHELL = /usr/bin/zsh
TERM = screen
Perl special variables (and OS-specific diagnostics, for MSWin32):
$^X = /home/sand/src/perl/repoperls/installed-perls/host/k93msid/v5.38.3/af11/bin/perl
$UID/$EUID = 1005 / 1005
$GID = 1005 1005
$EGID = 1005 1005
Perl module toolchain versions installed:
Module Have
------------------- --------
CPAN 2.38
CPAN::Meta 2.150010
Cwd 3.89
ExtUtils::CBuilder 0.280238
ExtUtils::Command 7.70
ExtUtils::Install 2.22
ExtUtils::MakeMaker 7.70
ExtUtils::Manifest 1.73
ExtUtils::ParseXS 3.51
File::Spec 3.88
JSON 4.10
JSON::PP 4.16
Module::Build 0.4234
Module::Signature 0.89
Parse::CPAN::Meta 2.150010
Test2 1.302207
Test::Harness 3.50
Test::More 1.302207
YAML 1.31
YAML::Syck 1.34
version 0.9933
--
Summary of my perl5 (revision 5 version 38 subversion 3) configuration:
Commit id: 06697759559c52236e296a256776b1222f228163
Platform:
osname=linux
osvers=6.8.12-amd64
archname=x86_64-linux-ld
uname='linux k93msid 6.8.12-amd64 #1 smp preempt_dynamic debian 6.8.12-1 (2024-05-31) x86_64 gnulinux '
config_args='-Dprefix=/home/sand/src/perl/repoperls/installed-perls/host/k93msid/v5.38.3/af11 -Dmyhostname=k93msid -Dinstallusrbinperl=n -Uversiononly -Dusedevel -des -Ui_db -Dlibswanted=cl pthread socket inet nsl gdbm dbm malloc dl ld sun m crypt sec util c cposix posix ucb BSD gdbm_compat -Uuseithreads -Duselongdouble -DEBUGGING=-g'
hint=recommended
useposix=true
d_sigaction=define
useithreads=undef
usemultiplicity=undef
use64bitint=define
use64bitall=define
uselongdouble=define
usemymalloc=n
default_inc_excludes_dot=define
Compiler:
cc='cc'
ccflags ='-fwrapv -fno-strict-aliasing -pipe -fstack-protector-strong -I/usr/local/include -D_LARGEFILE_SOURCE -D_FILE_OFFSET_BITS=64 -D_FORTIFY_SOURCE=2'
optimize='-O2 -g'
cppflags='-fwrapv -fno-strict-aliasing -pipe -fstack-protector-strong -I/usr/local/include'
ccversion=''
gccversion='13.3.0'
gccosandvers=''
intsize=4
longsize=8
ptrsize=8
doublesize=8
byteorder=12345678
doublekind=3
d_longlong=define
longlongsize=8
d_longdbl=define
longdblsize=16
longdblkind=3
ivtype='long'
ivsize=8
nvtype='long double'
nvsize=16
Off_t='off_t'
lseeksize=8
alignbytes=16
prototype=define
Linker and Libraries:
ld='cc'
ldflags =' -fstack-protector-strong -L/usr/local/lib'
libpth=/usr/local/lib /usr/lib/x86_64-linux-gnu /usr/lib /usr/lib64
libs=-lpthread -ldl -lm -lcrypt -lutil -lc
perllibs=-lpthread -ldl -lm -lcrypt -lutil -lc
libc=/lib/x86_64-linux-gnu/libc.so.6
so=so
useshrplib=false
libperl=libperl.a
gnulibc_version='2.38'
Dynamic Linking:
dlsrc=dl_dlopen.xs
dlext=so
d_dlsymun=undef
ccdlflags='-Wl,-E'
cccdlflags='-fPIC'
lddlflags='-shared -O2 -g -L/usr/local/lib -fstack-protector-strong'
Characteristics of this binary (from libperl):
Compile-time options:
HAS_LONG_DOUBLE
HAS_STRTOLD
HAS_TIMES
PERLIO_LAYERS
PERL_COPY_ON_WRITE
PERL_DONT_CREATE_GVSV
PERL_HASH_FUNC_SIPHASH13
PERL_HASH_USE_SBOX32
PERL_MALLOC_WRAP
PERL_OP_PARENT
PERL_PRESERVE_IVUV
PERL_USE_DEVEL
PERL_USE_SAFE_PUTENV
USE_64_BIT_ALL
USE_64_BIT_INT
USE_LARGE_FILES
USE_LOCALE
USE_LOCALE_COLLATE
USE_LOCALE_CTYPE
USE_LOCALE_NUMERIC
USE_LOCALE_TIME
USE_LONG_DOUBLE
USE_PERLIO
USE_PERL_ATOF
Built under linux
Compiled at Jan 20 2025 11:06:15
%ENV:
PERL5LIB=""
PERL5OPT=""
PERL5_CPANPLUS_IS_RUNNING="2157808"
PERL5_CPAN_IS_RUNNING="2157808"
PERL_CANARY_STABILITY_NOPROMPT="1"
PERL_MM_USE_DEFAULT="1"
PERL_USE_UNSAFE_INC="1"
@INC:
/home/sand/src/perl/repoperls/installed-perls/host/k93msid/v5.38.3/af11/lib/site_perl/5.38.3/x86_64-linux-ld
/home/sand/src/perl/repoperls/installed-perls/host/k93msid/v5.38.3/af11/lib/site_perl/5.38.3
/home/sand/src/perl/repoperls/installed-perls/host/k93msid/v5.38.3/af11/lib/5.38.3/x86_64-linux-ld
/home/sand/src/perl/repoperls/installed-perls/host/k93msid/v5.38.3/af11/lib/5.38.3
.