Report for POE-Component-SSLify-1.008

Back
From: metabase:user:320bfe00-2aae-11df-837a-5e0a49663a4f
Subject: PASS POE-Component-SSLify-1.008 v5.10.1 GNU/Linux
Date: 2011-05-09T01:17:31Z

This distribution has been tested as part of the CPAN Testers
project, supporting the Perl programming language.  See
http://wiki.cpantesters.org/ for more information or email
questions to cpan-testers-discuss@perl.org


--
Dear Apocalypse,

This is a computer-generated report for POE-Component-SSLify-1.008
on perl 5.10.1, created by CPAN-Reporter-1.1902.

Thank you for uploading your work to CPAN.  Congratulations!
All tests were successful.

Sections of this report:

    * Tester comments
    * Program output
    * Prerequisites
    * Environment and other context

------------------------------
TESTER COMMENTS
------------------------------

Additional comments from tester:

this report is from an automated smoke testing program
and was not reviewed by a human for accuracy

------------------------------
PROGRAM OUTPUT
------------------------------

Output from './Build test':

t/00-compile.t ................ ok
# 
# 
# Generated by Dist::Zilla::Plugin::ReportVersions::Tiny v1.03
# perl: v5.10.1 (wanted 5.006) on linux from /home/sand/src/perl/repoperls/installed-perls/perl/perl-5.10.1/2b65/bin/perl
# 
# Exporter                                      => 5.63       (want any version)
# File::Find                                    => 1.14       (want any version)
# File::Temp                                    => 0.22       (want any version)
# IO::Handle                                    => 1.28       (want 1.28)   
# Module::Build                                 => 0.38       (want 0.3601) 
# Net::SSLeay                                   => 1.36       (want 1.36)   
# POE                                           => 1.311      (want 1.267)  
# POE::Component::Client::TCP                   => 1.311      (want any version)
# POE::Component::Server::TCP                   => 1.311      (want any version)
# Scalar::Util                                  => 1.23       (want any version)
# Socket                                        => 1.82       (want any version)
# Symbol                                        => 1.07       (want any version)
# Task::Weaken                                  => 1.04       (want 1.03)   
# Test::More                                    => 0.98       (want 0.88)   
# parent                                        => 0.221      (want any version)
# 
# Thanks for using my code.  I hope it works for you.
# If not, please try and include this output in the bug report.
# That will help me reproduce the issue and solve your problem.
# 
t/000-report-versions-tiny.t .. ok
t/1_simple.t .................. ok
t/2_renegotiate_client.t ...... ok
t/3_upgrade.t ................. ok
t/4_connect_hook.t ............ ok
t/5_connfail_client.t ......... ok
t/6_connfail_server.t ......... ok
t/7_connect_hook_nodata.t ..... ok
t/8_renegotiate_server.t ...... ok
t/98_renegotiate.t ............ skipped: AUTHOR TEST
t/99_mire_test.t .............. skipped: AUTHOR TEST
t/apocalypse.t ................ skipped: Test::Apocalypse required for validating the distribution
All tests successful.
Files=13, Tests=131,  1 wallclock secs ( 0.05 usr  0.04 sys +  1.25 cusr  0.24 csys =  1.58 CPU)
Result: PASS

------------------------------
PREREQUISITES
------------------------------

Prerequisite modules loaded:

requires:

    Module                      Need   Have    
    --------------------------- ------ --------
    Exporter                    0      5.63    
    IO::Handle                  1.28   1.28    
    Net::SSLeay                 1.36   1.36    
    parent                      0      0.221   
    perl                        5.006  5.010001
    POE                         0      1.311   
    Scalar::Util                0      1.23    
    Symbol                      0      1.07    
    Task::Weaken                1.03   1.04    

build_requires:

    Module                      Need   Have    
    --------------------------- ------ --------
    File::Find                  0      1.14    
    File::Temp                  0      0.22    
    Module::Build               0.3601 0.3800  
    POE                         1.267  1.311   
    POE::Component::Client::TCP 0      1.311   
    POE::Component::Server::TCP 0      1.311   
    Socket                      0      1.82    
    Test::More                  0.88   0.98    

configure_requires:

    Module                      Need   Have    
    --------------------------- ------ --------
    Module::Build               0.3601 0.3800  


------------------------------
ENVIRONMENT AND OTHER CONTEXT
------------------------------

Environment variables:

    AUTOMATED_TESTING = 1
    LANG = en_US.UTF-8
    LANGUAGE = en_US:en
    PATH = /usr/lib/ccache:/home/sand/bin:/usr/local/bin:/usr/bin:/bin:/usr/local/games:/usr/games:/usr/local/perl/bin:/usr/X11/bin:/sbin:/usr/sbin
    PERL5LIB = 
    PERL5OPT = 
    PERL5_CPANPLUS_IS_RUNNING = 10223
    PERL5_CPAN_IS_RUNNING = 10223
    PERL_MM_USE_DEFAULT = 1
    SHELL = /bin/bash
    TERM = screen

Perl special variables (and OS-specific diagnostics, for MSWin32):

    $^X = /home/sand/src/perl/repoperls/installed-perls/perl/perl-5.10.1/2b65/bin/perl
    $UID/$EUID = 1001 / 1001
    $GID = 1001 1001
    $EGID = 1001 1001

Perl module toolchain versions installed:

    Module              Have    
    ------------------- --------
    CPAN                1.9600  
    Cwd                 3.33    
    ExtUtils::CBuilder  0.280202
    ExtUtils::Command   1.16    
    ExtUtils::Install   1.54    
    ExtUtils::MakeMaker 6.56    
    ExtUtils::Manifest  1.56    
    ExtUtils::ParseXS   2.2206  
    File::Spec          3.33    
    Module::Build       0.3800  
    Module::Signature   n/a     
    Test::Harness       3.23    
    Test::More          0.98    
    YAML                0.73    
    YAML::Syck          1.17    
    version             0.88    


--

Summary of my perl5 (revision 5 version 10 subversion 1) configuration:
  Commit id: 5348debf9fd57fc15c26529386769684fab96e57
  Platform:
    osname=linux, osvers=2.6.32-5-amd64, archname=x86_64-linux-ld
    uname='linux k81 2.6.32-5-amd64 #1 smp mon mar 7 21:35:22 utc 2011 x86_64 gnulinux '
    config_args='-Dprefix=/home/src/perl/repoperls/installed-perls/perl/perl-5.10.1/2b65 -Dinstallusrbinperl=n -Uversiononly -Dusedevel -des -Ui_db -Uuseithreads -Duselongdouble -DDEBUGGING=-g'
    hint=recommended, useposix=true, d_sigaction=define
    useithreads=undef, usemultiplicity=undef
    useperlio=define, d_sfio=undef, uselargefiles=define, usesocks=undef
    use64bitint=define, use64bitall=define, uselongdouble=define
    usemymalloc=n, bincompat5005=undef
  Compiler:
    cc='cc', ccflags ='-fno-strict-aliasing -pipe -fstack-protector -I/usr/local/include -D_LARGEFILE_SOURCE -D_FILE_OFFSET_BITS=64',
    optimize='-O2 -g',
    cppflags='-fno-strict-aliasing -pipe -fstack-protector -I/usr/local/include'
    ccversion='', gccversion='4.4.5', gccosandvers=''
    intsize=4, longsize=8, ptrsize=8, doublesize=8, byteorder=12345678
    d_longlong=define, longlongsize=8, d_longdbl=define, longdblsize=16
    ivtype='long', ivsize=8, nvtype='long double', nvsize=16, Off_t='off_t', lseeksize=8
    alignbytes=16, prototype=define
  Linker and Libraries:
    ld='cc', ldflags =' -fstack-protector -L/usr/local/lib'
    libpth=/usr/local/lib /lib /usr/lib /lib64 /usr/lib64
    libs=-lnsl -ldl -lm -lcrypt -lutil -lc
    perllibs=-lnsl -ldl -lm -lcrypt -lutil -lc
    libc=/lib/libc-2.11.2.so, so=so, useshrplib=false, libperl=libperl.a
    gnulibc_version='2.11.2'
  Dynamic Linking:
    dlsrc=dl_dlopen.xs, dlext=so, d_dlsymun=undef, ccdlflags='-Wl,-E'
    cccdlflags='-fPIC', lddlflags='-shared -O2 -g -L/usr/local/lib -fstack-protector'


Characteristics of this binary (from libperl): 
  Compile-time options: PERL_DONT_CREATE_GVSV PERL_MALLOC_WRAP PERL_USE_DEVEL
                        USE_64_BIT_ALL USE_64_BIT_INT USE_LARGE_FILES
                        USE_LONG_DOUBLE USE_PERLIO
  Built under linux
  Compiled at May  7 2011 09:48:46
  %ENV:
    PERL5LIB=""
    PERL5OPT=""
    PERL5_CPANPLUS_IS_RUNNING="10223"
    PERL5_CPAN_IS_RUNNING="10223"
    PERL_MM_USE_DEFAULT="1"
  @INC:
    /home/src/perl/repoperls/installed-perls/perl/perl-5.10.1/2b65/lib/5.10.1/x86_64-linux-ld
    /home/src/perl/repoperls/installed-perls/perl/perl-5.10.1/2b65/lib/5.10.1
    /home/src/perl/repoperls/installed-perls/perl/perl-5.10.1/2b65/lib/site_perl/5.10.1/x86_64-linux-ld
    /home/src/perl/repoperls/installed-perls/perl/perl-5.10.1/2b65/lib/site_perl/5.10.1
    .