DBD-XMLSimple v0.07 Perl 5 v5.39.7 x86_64-linux
- Status
- Pass
- From
- Slaven Rezić
- Dist
-
DBD-XMLSimple v0.07
- Platform
- Perl 5 v5.39.7 x86_64-linux
- Date
- 2024-02-21 06:26:14
- ID
- 1d341aba-d082-11ee-a50b-a3526e8775ea
This distribution has been tested as part of the CPAN Testers
project, supporting the Perl programming language. See
http://wiki.cpantesters.org/ for more information or email
questions to cpan-testers-discuss@perl.org
--
Dear Nigel Horne,
This is a computer-generated report for DBD-XMLSimple-0.07
on perl 5.39.7, created by CPAN-Reporter-1.2019.
Thank you for uploading your work to CPAN. Congratulations!
All tests were successful.
Sections of this report:
* Tester comments
* Program output
* Prerequisites
* Environment and other context
------------------------------
TESTER COMMENTS
------------------------------
Additional comments from tester:
none provided
------------------------------
PROGRAM OUTPUT
------------------------------
Output from 'make test':
PERL_DL_NONLAZY=1 "/opt/perl-5.39.7/bin/perl5.39.7" "-MExtUtils::Command::MM" "-MTest::Harness" "-e" "undef *Test::Harness::Switches; test_harness(0, 'blib/lib', 'blib/arch')" t/*.t
# Testing DBD::XMLSimple 0.07, Perl 5.039007, /opt/perl-5.39.7/bin/perl5.39.7
t/00-load.t ........... ok
t/10-filedata.t ....... ok
t/20-stringdata.t ..... ok
t/apoc.t .............. skipped: Test::Apocalypse required for testing the distribution
t/bin.t ............... ok
t/boiler.t ............ ok
t/changes.t ........... skipped: Author tests not required for installation
t/comment-spelling.t .. skipped: Author tests not required for installation
t/coverage.t .......... skipped: Author tests not required for installation
t/critic.t ............ skipped: Author tests not required for installation
t/cv.t ................ skipped: Author tests not required for installation
t/dist.t .............. skipped: Author tests not required for installation
t/gv.t ................ skipped: Author tests not required for installation
t/kwalitee.t .......... skipped: Author tests not required for installation
t/metrics.t ........... skipped: Author tests not required for installation
t/namespaces.t ........ skipped: Author tests not required for installation
t/noplan.t ............ skipped: Author tests not required for installation
t/pod-cm.t ............ skipped: Test::Pod::Spelling::CommonMistakes required for testing POD spelling
t/pod-spelling.t ...... skipped: Author tests not required for installation
t/pod-synopsis.t ...... skipped: Author tests not required for installation
t/pod.t ............... skipped: Author tests not required for installation
t/port.t .............. skipped: Test::Portability::Files required for testing filenames portability
t/prereq.t ............ skipped: Author tests not required for installation
t/snippets.t .......... skipped: Author tests not required for installation
t/strict.t ............ skipped: Author tests not required for installation
t/unused.t ............ skipped: Author tests not required for installation
t/used.t .............. skipped: Author tests not required for installation
t/vars.t .............. skipped: Author tests not required for installation
All tests successful.
Test Summary Report
-------------------
t/boiler.t (Wstat: 0 Tests: 3 Failed: 0)
TODO passed: 1-3
Files=28, Tests=35, 3 wallclock secs ( 0.04 usr 0.04 sys + 2.47 cusr 0.32 csys = 2.87 CPU)
Result: PASS
------------------------------
PREREQUISITES
------------------------------
Prerequisite modules loaded:
requires:
Module Need Have
------------------- -------- --------
Carp 0 1.54
DBI 1.637 1.643
DBI::DBD::SqlEngine 0.06 0.06
perl 5.006002 5.039007
SQL::Statement 1.41 1.414
XML::Twig 0 3.52
build_requires:
Module Need Have
------------------- -------- --------
autodie 0 2.37
ExtUtils::MakeMaker 0 7.70
IPC::System::Simple 0 1.30
Test::DatabaseRow 0 2.04
Test::Differences 0 0.71
Test::Most 0 0.38
Test::NoWarnings 0 1.06
Test::Script 1.12 1.29
configure_requires:
Module Need Have
------------------- -------- --------
ExtUtils::MakeMaker 0 7.70
------------------------------
ENVIRONMENT AND OTHER CONTEXT
------------------------------
Environment variables:
LANG = en_US.UTF-8
PATH = /usr/local/bin:/usr/bin:/bin:/usr/local/sbin:/usr/sbin:/sbin:/home/e/eserte/bin/linux-gnu:/home/e/eserte/bin/sh:/home/e/eserte/bin:/home/e/eserte/bin/pistachio-perl/bin:/usr/games:/home/e/eserte/devel:/home/e/eserte/work2/fzf/bin:/home/e/eserte/src/srezic-misc/scripts
PERL5LIB = /home/e/eserte/.cpan/build/2024022107/Test-DatabaseRow-2.04-0/blib/arch:/home/e/eserte/.cpan/build/2024022107/Test-DatabaseRow-2.04-0/blib/lib:/home/e/eserte/.cpan/build/2024022107/DBD-CSV-0.60-0/blib/arch:/home/e/eserte/.cpan/build/2024022107/DBD-CSV-0.60-0/blib/lib:/home/e/eserte/.cpan/build/2024022107/SQL-Statement-1.414-0/blib/arch:/home/e/eserte/.cpan/build/2024022107/SQL-Statement-1.414-0/blib/lib:/home/e/eserte/.cpan/build/2024022107/Text-Soundex-3.05-0/blib/arch:/home/e/eserte/.cpan/build/2024022107/Text-Soundex-3.05-0/blib/lib:/home/e/eserte/.cpan/build/2024022107/Math-Base-Convert-0.11-0/blib/arch:/home/e/eserte/.cpan/build/2024022107/Math-Base-Convert-0.11-0/blib/lib
PERL5OPT =
PERL5_CPANPLUS_IS_RUNNING = 23284
PERL5_CPAN_IS_RUNNING = 23284
PERL5_CPAN_IS_RUNNING_IN_RECURSION = 23257,23284
PERLDOC = -MPod::Perldoc::ToTextOverstrike
PERL_BATCH = yes
PERL_CANARY_STABILITY_NOPROMPT = 1
PERL_CPAN_REPORTER_CONFIG = /var/tmp/cpansmoker-1000/2024022107/cpanreporter_001_config.ini
PERL_EXTUTILS_AUTOINSTALL = --defaultdeps
PERL_USE_UNSAFE_INC = 1
SHELL = /bin/zsh
STDPERL = perl
TERM = xterm
TMPDIR = /var/tmp/cpansmoker-1000/2024022107
Perl special variables (and OS-specific diagnostics, for MSWin32):
$^X = /opt/perl-5.39.7/bin/perl5.39.7
$UID/$EUID = 1000 / 1000
$GID = 1000 4 24 25 27 29 30 33 44 46 108 111 115 128 134 1000 1024
$EGID = 1000 4 24 25 27 29 30 33 44 46 108 111 115 128 134 1000 1024
Perl module toolchain versions installed:
Module Have
------------------- --------
CPAN 2.36
CPAN::Meta 2.150010
Cwd 3.90
ExtUtils::CBuilder 0.280240
ExtUtils::Command 7.70
ExtUtils::Install 2.22
ExtUtils::MakeMaker 7.70
ExtUtils::Manifest 1.75
ExtUtils::ParseXS 3.51
File::Spec 3.90
JSON 4.10
JSON::PP 4.16
Module::Build 0.4234
Module::Signature 0.88
Parse::CPAN::Meta 2.150010
Test2 1.302198
Test::Harness 3.48
Test::More 1.302198
YAML 1.31
YAML::Syck 1.34
version 0.9930
--
Summary of my perl5 (revision 5 version 39 subversion 7) configuration:
Platform:
osname=linux
osvers=4.9.0-19-amd64
archname=x86_64-linux
uname='linux cabulja 4.9.0-19-amd64 #1 smp debian 4.9.320-2 (2022-06-30) x86_64 gnulinux '
config_args='-ds -e -Dprefix=/opt/perl-5.39.7 -Dusedevel -Dusemallocwrap=no -Dcf_email=srezic@cpan.org'
hint=recommended
useposix=true
d_sigaction=define
useithreads=undef
usemultiplicity=undef
use64bitint=define
use64bitall=define
uselongdouble=undef
usemymalloc=n
default_inc_excludes_dot=define
Compiler:
cc='cc'
ccflags ='-fwrapv -fno-strict-aliasing -pipe -fstack-protector-strong -I/usr/local/include -D_LARGEFILE_SOURCE -D_FILE_OFFSET_BITS=64 -D_FORTIFY_SOURCE=2'
optimize='-O2'
cppflags='-fwrapv -fno-strict-aliasing -pipe -fstack-protector-strong -I/usr/local/include'
ccversion=''
gccversion='6.3.0 20170516'
gccosandvers=''
intsize=4
longsize=8
ptrsize=8
doublesize=8
byteorder=12345678
doublekind=3
d_longlong=define
longlongsize=8
d_longdbl=define
longdblsize=16
longdblkind=3
ivtype='long'
ivsize=8
nvtype='double'
nvsize=8
Off_t='off_t'
lseeksize=8
alignbytes=8
prototype=define
Linker and Libraries:
ld='cc'
ldflags =' -fstack-protector-strong -L/usr/local/lib'
libpth=/usr/local/lib /usr/lib/x86_64-linux-gnu /usr/lib /lib/x86_64-linux-gnu /lib
libs=-lpthread -lgdbm -ldb -ldl -lm -lcrypt -lutil -lc -lgdbm_compat
perllibs=-lpthread -ldl -lm -lcrypt -lutil -lc
libc=libc-2.24.so
so=so
useshrplib=false
libperl=libperl.a
gnulibc_version='2.24'
Dynamic Linking:
dlsrc=dl_dlopen.xs
dlext=so
d_dlsymun=undef
ccdlflags='-Wl,-E'
cccdlflags='-fPIC'
lddlflags='-shared -O2 -L/usr/local/lib -fstack-protector-strong'
Characteristics of this binary (from libperl):
Compile-time options:
HAS_LONG_DOUBLE
HAS_STRTOLD
HAS_TIMES
PERLIO_LAYERS
PERL_COPY_ON_WRITE
PERL_DONT_CREATE_GVSV
PERL_HASH_FUNC_SIPHASH13
PERL_HASH_USE_SBOX32
PERL_OP_PARENT
PERL_PRESERVE_IVUV
PERL_USE_DEVEL
PERL_USE_SAFE_PUTENV
USE_64_BIT_ALL
USE_64_BIT_INT
USE_LARGE_FILES
USE_LOCALE
USE_LOCALE_COLLATE
USE_LOCALE_CTYPE
USE_LOCALE_NUMERIC
USE_LOCALE_TIME
USE_PERLIO
USE_PERL_ATOF
Built under linux
Compiled at Jan 20 2024 20:08:06
%ENV:
PERL5LIB="/home/e/eserte/.cpan/build/2024022107/Test-DatabaseRow-2.04-0/blib/arch:/home/e/eserte/.cpan/build/2024022107/Test-DatabaseRow-2.04-0/blib/lib:/home/e/eserte/.cpan/build/2024022107/DBD-CSV-0.60-0/blib/arch:/home/e/eserte/.cpan/build/2024022107/DBD-CSV-0.60-0/blib/lib:/home/e/eserte/.cpan/build/2024022107/SQL-Statement-1.414-0/blib/arch:/home/e/eserte/.cpan/build/2024022107/SQL-Statement-1.414-0/blib/lib:/home/e/eserte/.cpan/build/2024022107/Text-Soundex-3.05-0/blib/arch:/home/e/eserte/.cpan/build/2024022107/Text-Soundex-3.05-0/blib/lib:/home/e/eserte/.cpan/build/2024022107/Math-Base-Convert-0.11-0/blib/arch:/home/e/eserte/.cpan/build/2024022107/Math-Base-Convert-0.11-0/blib/lib"
PERL5OPT=""
PERL5_CPANPLUS_IS_RUNNING="23284"
PERL5_CPAN_IS_RUNNING="23284"
PERL5_CPAN_IS_RUNNING_IN_RECURSION="23257,23284"
PERLDOC="-MPod::Perldoc::ToTextOverstrike"
PERL_BATCH="yes"
PERL_CANARY_STABILITY_NOPROMPT="1"
PERL_CPAN_REPORTER_CONFIG="/var/tmp/cpansmoker-1000/2024022107/cpanreporter_001_config.ini"
PERL_EXTUTILS_AUTOINSTALL="--defaultdeps"
PERL_USE_UNSAFE_INC="1"
@INC:
/home/e/eserte/.cpan/build/2024022107/Test-DatabaseRow-2.04-0/blib/arch
/home/e/eserte/.cpan/build/2024022107/Test-DatabaseRow-2.04-0/blib/lib
/home/e/eserte/.cpan/build/2024022107/DBD-CSV-0.60-0/blib/arch
/home/e/eserte/.cpan/build/2024022107/DBD-CSV-0.60-0/blib/lib
/home/e/eserte/.cpan/build/2024022107/SQL-Statement-1.414-0/blib/arch
/home/e/eserte/.cpan/build/2024022107/SQL-Statement-1.414-0/blib/lib
/home/e/eserte/.cpan/build/2024022107/Text-Soundex-3.05-0/blib/arch
/home/e/eserte/.cpan/build/2024022107/Text-Soundex-3.05-0/blib/lib
/home/e/eserte/.cpan/build/2024022107/Math-Base-Convert-0.11-0/blib/arch
/home/e/eserte/.cpan/build/2024022107/Math-Base-Convert-0.11-0/blib/lib
/opt/perl-5.39.7/lib/site_perl/5.39.7/x86_64-linux
/opt/perl-5.39.7/lib/site_perl/5.39.7
/opt/perl-5.39.7/lib/5.39.7/x86_64-linux
/opt/perl-5.39.7/lib/5.39.7
.