Data-Visitor v0.31 Perl 5 v5.33.8 darwin-2level
- Status
- Pass
- From
- John SJ Anderson
- Dist
-
Data-Visitor v0.31
- Platform
- Perl 5 v5.33.8 darwin-2level
- Date
- 2021-03-21 23:49:45
- ID
- 1d37776c-8aa0-11eb-89a1-3baee63955cc
This distribution has been tested as part of the CPAN Testers
project, supporting the Perl programming language. See
http://wiki.cpantesters.org/ for more information or email
questions to cpan-testers-discuss@perl.org
--
Dear ETHER,
This is a computer-generated report for Data-Visitor-0.31
on perl 5.33.8, created by App::cpanminus::reporter 0.17 (1.7044).
Thank you for uploading your work to CPAN. Congratulations!
All tests were successful.
Sections of this report:
* Tester comments
* Program output
* Prerequisites
* Environment and other context
------------------------------
TESTER COMMENTS
------------------------------
Additional comments from tester:
none provided
------------------------------
PROGRAM OUTPUT
------------------------------
Output from '':
Building and testing Data-Visitor-0.31
cp lib/Data/Visitor/Callback.pm blib/lib/Data/Visitor/Callback.pm
cp lib/Data/Visitor.pm blib/lib/Data/Visitor.pm
Manifying 2 pod documents
PERL_DL_NONLAZY=1 "/opt/plenv/versions/5.33.8/bin/perl5.33.8" "-MExtUtils::Command::MM" "-MTest::Harness" "-e" "undef *Test::Harness::Switches; test_harness(0, 'blib/lib', 'blib/arch')" t/*.t
#
# Versions for all modules listed in MYMETA.json (including optional ones):
#
# === Configure Requires ===
#
# Module Want Have
# ------------------- ---- ----
# ExtUtils::MakeMaker any 7.60
#
# === Configure Suggests ===
#
# Module Want Have
# -------- ------- ----
# JSON::PP 2.27300 4.06
#
# === Build Requires ===
#
# Module Want Have
# ------------------- ---- ----
# ExtUtils::MakeMaker any 7.60
#
# === Test Requires ===
#
# Module Want Have
# ------------------- ---- --------
# ExtUtils::MakeMaker any 7.60
# File::Spec any 3.80
# Test::More 0.88 1.302183
# Test::Needs any 0.002006
# Tie::RefHash any 1.40
#
# === Test Recommends ===
#
# Module Want Have
# ---------- -------- --------
# CPAN::Meta 2.120900 2.150010
#
# === Runtime Requires ===
#
# Module Want Have
# ---------------- ---- ------
# Carp any 1.52
# Moose 0.89 2.2014
# Scalar::Util any 1.55
# Sub::Name any 0.26
# Symbol any 1.09
# Tie::ToObject 0.01 0.03
# constant any 1.33
# namespace::clean 0.19 0.27
# overload any 1.33
# strict any 1.12
# warnings any 1.51
#
# === Other Modules ===
#
# Module Have
# --------------- -------
# Encode 3.08
# File::Temp 0.2311
# JSON::PP 4.06
# Module::Runtime 0.016
# Pod::Coverage missing
# Sub::Name 0.26
# YAML 1.30
# autodie 2.34
#
t/00-report-prereqs.t .... ok
t/base.t ................. ok
t/bugs.t ................. ok
t/callback.t ............. ok
t/callback_aliasing.t .... ok
t/callback_hash_entry.t .. ok
t/callback_moose_tc.t .... ok
t/circular_refs.t ........ ok
t/globs.t ................ ok
t/magic.t ................ ok
t/weak.t ................. skipped: these tests require Data::Alias or fixes to use core aliasing
All tests successful.
Files=11, Tests=106, 2 wallclock secs ( 0.03 usr 0.02 sys + 1.63 cusr 0.25 csys = 1.93 CPU)
Result: PASS
------------------------------
PREREQUISITES
------------------------------
Prerequisite modules loaded:
No requirements found
------------------------------
ENVIRONMENT AND OTHER CONTEXT
------------------------------
Environment variables:
LANG = en_US.UTF-8
LC_ALL = en_US.UTF-8
LC_TERMINAL = iTerm2
LC_TERMINAL_VERSION = 3.4.4
PATH = /opt/plenv/versions/5.33.8/bin:/opt/plenv/libexec:/opt/plenv/plugins/Perl-Build/bin:/opt/plenv/shims:/opt/plenv/bin:/Users/genehack/bin:/usr/local/opt/texinfo/bin:/opt/nvm/versions/node/v12.18.3/bin:/opt/git/bin:/opt/emacs/bin:/opt/local/bin:/usr/local/bin:/usr/bin:/bin:/usr/sbin:/sbin:/usr/local/opt/fzf/bin/
PERL_CPANM_OPT = --skip-installed --prompt
SHELL = /bin/zsh
TERM = screen-256color
TMPDIR = /var/folders/2s/9hc8cgcd2h7dglxq0j84ybwr0000gn/T/
Perl special variables (and OS-specific diagnostics, for MSWin32):
EGID = 20 20 12 61 79 80 81 98 701 33 100 204 250 395 398 399 400
EUID = 501
EXECUTABLE_NAME = /opt/plenv/versions/5.33.8/bin/perl5.33.8
GID = 20 20 12 61 79 80 81 98 701 33 100 204 250 395 398 399 400
UID = 501
Perl module toolchain versions installed:
Module Have
------------------- --------
CPAN 2.28
CPAN::Meta 2.150010
Cwd 3.80
ExtUtils::CBuilder 0.280236
ExtUtils::Command 7.60
ExtUtils::Install 2.20
ExtUtils::MakeMaker 7.60
ExtUtils::Manifest 1.73
ExtUtils::ParseXS 3.42
File::Spec 3.80
JSON 4.03
JSON::PP 4.06
Module::Build 0.4231
Module::Signature n/a
Parse::CPAN::Meta 2.150010
Test::Harness 3.43
Test::More 1.302183
YAML 1.30
YAML::Syck n/a
version 0.9928
--
Summary of my perl5 (revision 5 version 33 subversion 8) configuration:
Platform:
osname=darwin
osvers=20.3.0
archname=darwin-2level
uname='darwin bumfit.home.genehack.org 20.3.0 darwin kernel version 20.3.0: thu jan 21 00:07:06 pst 2021; root:xnu-7195.81.3~1release_x86_64 x86_64 i386 macbookpro16,2 darwin '
config_args='-Dprefix=/opt/plenv/versions/5.33.8 -de -Dversiononly -Dusedevel -A'eval:scriptdir=/opt/plenv/versions/5.33.8/bin''
hint=recommended
useposix=true
d_sigaction=define
useithreads=undef
usemultiplicity=undef
use64bitint=define
use64bitall=define
uselongdouble=undef
usemymalloc=n
default_inc_excludes_dot=define
Compiler:
cc='cc'
ccflags ='-fno-common -DPERL_DARWIN -mmacosx-version-min=11.2 -fno-strict-aliasing -pipe -fstack-protector-strong -I/usr/local/include -DPERL_USE_SAFE_PUTENV'
optimize='-O3'
cppflags='-fno-common -DPERL_DARWIN -mmacosx-version-min=11.2 -fno-strict-aliasing -pipe -fstack-protector-strong -I/usr/local/include'
ccversion=''
gccversion='Apple LLVM 12.0.0 (clang-1200.0.32.29)'
gccosandvers=''
intsize=4
longsize=8
ptrsize=8
doublesize=8
byteorder=12345678
doublekind=3
d_longlong=define
longlongsize=8
d_longdbl=define
longdblsize=16
longdblkind=3
ivtype='long'
ivsize=8
nvtype='double'
nvsize=8
Off_t='off_t'
lseeksize=8
alignbytes=8
prototype=define
Linker and Libraries:
ld='cc'
ldflags =' -mmacosx-version-min=11.2 -fstack-protector-strong -L/usr/local/lib'
libpth=/usr/local/lib /Library/Developer/CommandLineTools/usr/lib/clang/12.0.0/lib /Library/Developer/CommandLineTools/SDKs/MacOSX.sdk/usr/lib /Library/Developer/CommandLineTools/usr/lib /usr/lib
libs=-lgdbm
perllibs=
libc=
so=dylib
useshrplib=false
libperl=libperl.a
gnulibc_version=''
Dynamic Linking:
dlsrc=dl_dlopen.xs
dlext=bundle
d_dlsymun=undef
ccdlflags=' '
cccdlflags=' '
lddlflags=' -mmacosx-version-min=11.2 -bundle -undefined dynamic_lookup -L/usr/local/lib -fstack-protector-strong'
Characteristics of this binary (from libperl):
Compile-time options:
HAS_TIMES
PERLIO_LAYERS
PERL_COPY_ON_WRITE
PERL_DONT_CREATE_GVSV
PERL_MALLOC_WRAP
PERL_OP_PARENT
PERL_PRESERVE_IVUV
PERL_USE_DEVEL
PERL_USE_SAFE_PUTENV
USE_64_BIT_ALL
USE_64_BIT_INT
USE_LARGE_FILES
USE_LOCALE
USE_LOCALE_COLLATE
USE_LOCALE_CTYPE
USE_LOCALE_NUMERIC
USE_LOCALE_TIME
USE_PERLIO
USE_PERL_ATOF
Built under darwin
Compiled at Mar 21 2021 14:49:24
%ENV:
PERL_CPANM_OPT="--skip-installed --prompt"
@INC:
/opt/plenv/versions/5.33.8/lib/perl5/site_perl/5.33.8/darwin-2level
/opt/plenv/versions/5.33.8/lib/perl5/site_perl/5.33.8
/opt/plenv/versions/5.33.8/lib/perl5/5.33.8/darwin-2level
/opt/plenv/versions/5.33.8/lib/perl5/5.33.8