XML-XPathScript v2.00 Perl 5 v5.18.2 MSWin32-x86-multi-thread-64int

Status
Pass
From
Alexandr Ciornii (CHORNY)
Dist
XML-XPathScript v2.00
Platform
Perl 5 v5.18.2 MSWin32-x86-multi-thread-64int
Date
2019-12-08 19:29:45
ID
1d3887d1-6c0b-1014-8976-faf7b0a80b9c
This distribution has been tested as part of the CPAN Testers
project, supporting the Perl programming language.  See
http://wiki.cpantesters.org/ for more information or email
questions to cpan-testers-discuss@perl.org


--
Dear Yanick Champoux,

This is a computer-generated report for XML-XPathScript-2.00
on perl 5.18.2, created by CPAN-Reporter-1.2018.

Thank you for uploading your work to CPAN.  Congratulations!
All tests were successful.

Sections of this report:

    * Tester comments
    * Program output
    * Prerequisites
    * Environment and other context

------------------------------
TESTER COMMENTS
------------------------------

Additional comments from tester:

this report is from an automated smoke testing program
and was not reviewed by a human for accuracy

------------------------------
PROGRAM OUTPUT
------------------------------

Output from 'C:\strawberry182\c\bin\dmake.exe test':

C:\strawberry182\perl\bin\perl.exe "-MExtUtils::Command::MM" "-MTest::Harness" "-e" "undef *Test::Harness::Switches; test_harness(0, 'blib\lib', 'blib\arch')" t/*.t
t/00-compile.t ................. ok
# 
# Versions for all modules listed in MYMETA.json (including optional ones):
# 
# === Configure Requires ===
# 
#     Module              Want Have
#     ------------------- ---- ----
#     ExtUtils::MakeMaker  any 6.84
# 
# === Build Requires ===
# 
#     Module              Want Have
#     ------------------- ---- ----
#     ExtUtils::MakeMaker  any 6.84
# 
# === Test Requires ===
# 
#     Module              Want     Have
#     ------------------- ---- --------
#     ExtUtils::MakeMaker  any     6.84
#     File::Spec           any     3.40
#     IO::File             any     1.16
#     IO::Handle           any     1.34
#     IPC::Open3           any     1.13
#     Test                 any     1.26
#     Test::More           any 1.001002
# 
# === Test Recommends ===
# 
#     Module         Want     Have
#     ---------- -------- --------
#     CPAN::Meta 2.120900 2.133380
# 
# === Runtime Requires ===
# 
#     Module                Want   Have
#     --------------------- ---- ------
#     Carp                   any   1.32
#     Clone                  any   0.36
#     Data::Dumper           any  2.145
#     Exporter               any   5.68
#     File::Basename         any   2.84
#     Readonly               any   1.04
#     Scalar::Util           any   1.38
#     Symbol                 any   1.07
#     XML::LibXML            any 2.0108
#     XML::Parser            any   2.41
#     XML::XPath             any   1.13
#     XML::XPath::Node       any  undef
#     XML::XPath::NodeSet    any  undef
#     XML::XPath::XMLParser  any  undef
#     base                   any   2.18
#     bytes                  any   1.04
#     constant               any   1.27
#     overload               any   1.22
#     strict                 any   1.07
#     utf8                   any   1.10
#     vars                   any   1.03
#     warnings               any   1.18
# 
t/00-report-prereqs.t .......... ok
t/01basic.t .................... ok
t/02interpolate.t .............. ok
t/03general.t .................. ok
t/04unicode.t .................. ok
t/05textnode.t ................. ok
t/06testcode.t ................. ok
t/07stylesheetcallbacks.t ...... ok
t/08document.t ................. ok
t/09argencoding.t .............. ok
t/10comments.t ................. ok
t/11new_interface.t ............ ok
t/12template.t ................. ok
t/13samples.t .................. ok
t/14transform.t ................ ok
t/15stylesheet_dependencies.t .. ok
t/16stylesheet_arguments.t ..... ok
t/17xml_loading.t .............. ok
t/18tag.t ...................... ok
t/19namespace.t ................ ok
This is $Id: docbook2latex.xps 32928 2006-02-01 17:59:52Z dom $
Using XML::LibXML version 2.0108, XML::XPathScript version 2.00
Unknown Unicode character (code 0)
Modify me! (array %uniconvs at the top of docbook2latex.xps)
/article[1]/sect1[@id="SEC-tables"]/table[@id="CC-Niveaux-Assurance"]/tgroup[1]/tbody[1]/row[1]/entry[1]:
     I don't know how to align multiline cells in TeX in stylesheet line 2103
/article[1]/sect1[@id="SEC-tables"]/table[@id="CC-Niveaux-Assurance"]/tgroup[1]/tbody[1]:
     No more room for this cell (row 3, entry 12) in stylesheet line 1971

/article[1]/sect1[2]/para[7]/xref[1]:
     label "FOOT-imbriquee" not found in stylesheet line 2435
/article[1]/sect1[3]/sect2[1]/screenco[1]/calloutlist[1]/callout[1]:
     No area definition found for premiere for this callout in stylesheet line 1379
/article[1]/sect1[3]/sect2[1]/screenco[1]/calloutlist[1]/callout[2]:
     No area definition found for premiere for this callout in stylesheet line 1379
/article[1]/sect1[3]/sect2[1]/screenco[1]/calloutlist[1]/callout[2]:
     No area definition found for troisieme for this callout in stylesheet line 1379
/article[1]/sect1[3]/sect2[1]/screenco[1]/calloutlist[1]/callout[3]:
     No area definition found for tout-le-texte for this callout in stylesheet line 1379
/article[1]/sect1[4]/para[1]/blockquote[1]/para[1]/xref[1]:
     label "TABLE1" not found in stylesheet line 2435
/article[1]/sect1[4]/para[1]/blockquote[1]/para[1]/xref[2]:
     label "SEC-tables" not found in stylesheet line 2435
/article[1]/sect1[4]/para[1]/blockquote[1]/para[1]/xref[3]:
     label "TABLE2" not found in stylesheet line 2435
/article[1]/sect1[4]/para[1]/blockquote[1]/para[1]/xref[4]:
     label "TABLE1" not found in stylesheet line 2435
/article[1]/sect1[4]/para[1]/blockquote[2]/para[1]/xref[1]:
     label "TABLE1" not found in stylesheet line 2435
/article[1]/sect1[4]/para[1]/blockquote[2]/para[1]/xref[2]:
     label "SEC-tables" not found in stylesheet line 2435
/article[1]/sect1[4]/para[1]/blockquote[2]/para[1]/xref[3]:
     label "TABLE2" not found in stylesheet line 2435
/article[1]/sect1[4]/para[1]/blockquote[2]/para[1]/xref[4]:
     label "TABLE1" not found in stylesheet line 2435
/article[1]/sect1[4]/para[2]/orderedlist[1]/listitem[2]/para[1]/xref[1]:
     label "SEC-chef-tjrs-raison" not found in stylesheet line 2435
t/20docbookxml2latex.t ......... ok
t/21processor.t ................ ok
t/22stylesheet.t ............... ok
t/24content.t .................. ok
t/25stylesheetlines.t .......... ok
t/26bxpath.t ................... skipped: B::XPath not installed
t/27template_import.t .......... ok
t/28function_overload.t ........ ok
All tests successful.
Files=29, Tests=136, 10 wallclock secs ( 0.20 usr +  0.05 sys =  0.25 CPU)
Result: PASS

------------------------------
PREREQUISITES
------------------------------

Prerequisite modules loaded:

requires:

    Module                Need  Have    
    --------------------- ----- --------
    base                  0     2.18    
    bytes                 0     1.04    
    Carp                  0     1.32    
    Clone                 0     0.36    
    constant              0     1.27    
    Data::Dumper          0     2.145   
    Exporter              0     5.68    
    File::Basename        0     2.84    
    overload              0     1.22    
    perl                  5.006 5.018002
    Readonly              0     1.04    
    Scalar::Util          0     1.38    
    strict                0     1.07    
    Symbol                0     1.07    
    utf8                  0     1.10    
    vars                  0     1.03    
    warnings              0     1.18    
    XML::LibXML           0     2.0108  
    XML::Parser           0     2.41    
    XML::XPath            0     1.13    
    XML::XPath::Node      0     0       
    XML::XPath::NodeSet   0     0       
    XML::XPath::XMLParser 0     0       

build_requires:

    Module                Need  Have    
    --------------------- ----- --------
    ExtUtils::MakeMaker   0     6.84    
    File::Spec            0     3.40    
    IO::File              0     1.16    
    IO::Handle            0     1.34    
    IPC::Open3            0     1.13    
    Test                  0     1.26    
    Test::More            0     1.001002

configure_requires:

    Module                Need  Have    
    --------------------- ----- --------
    ExtUtils::MakeMaker   0     6.84    


------------------------------
ENVIRONMENT AND OTHER CONTEXT
------------------------------

Environment variables:

    AUTOMATED_TESTING = 1
    COMSPEC = C:\WINDOWS\system32\cmd.exe
    NUMBER_OF_PROCESSORS = 1
    PATH = C:\WINDOWS\system32;C:\WINDOWS;C:\WINDOWS\System32\Wbem;C:\strawberry182\c\bin;C:\strawberry182\perl\site\bin;C:\strawberry182\perl\bin
    PERL5LIB = 
    PERL5OPT = 
    PERL5_CPANPLUS_IS_RUNNING = 1132
    PERL5_CPAN_IS_RUNNING = 1132
    PERL5_CPAN_IS_RUNNING_IN_RECURSION = 1784,1132
    PERL_CR_SMOKER_CURRENT = XML-XPathScript-2.00
    PERL_CR_SMOKER_RUNONCE = 1
    PERL_EXTUTILS_AUTOINSTALL = --defaultdeps
    PERL_HASH_SEED = 0x11111111
    PERL_MM_USE_DEFAULT = 1
    PROCESSOR_IDENTIFIER = x86 Family 18 Model 1 Stepping 0, AuthenticAMD
    TEMP = C:\DOCUME~1\c\LOCALS~1\Temp
    TERM = dumb

Perl special variables (and OS-specific diagnostics, for MSWin32):

    $^X = C:\strawberry182\perl\bin\perl.exe
    $UID/$EUID = 0 / 0
    $GID = 0
    $EGID = 0
    Win32::GetOSName = WinXP/.Net
    Win32::GetOSVersion = Service Pack 3, 5, 1, 2600, 2, 3, 0, 256, 1
    Win32::FsType = NTFS
    Win32::IsAdminUser = 1

Perl module toolchain versions installed:

    Module              Have    
    ------------------- --------
    CPAN                2.16    
    CPAN::Meta          2.133380
    Cwd                 3.40    
    ExtUtils::CBuilder  0.280212
    ExtUtils::Command   1.18    
    ExtUtils::Install   1.59    
    ExtUtils::MakeMaker 6.84    
    ExtUtils::Manifest  1.63    
    ExtUtils::ParseXS   3.22    
    File::Spec          3.40    
    JSON                2.90    
    JSON::PP            2.27203 
    Module::Build       0.4203  
    Module::Signature   n/a     
    Parse::CPAN::Meta   1.4414  
    Test::Harness       3.30    
    Test::More          1.001002
    YAML                0.90    
    YAML::Syck          1.27    
    version             0.9904  


--

Summary of my perl5 (revision 5 version 18 subversion 2) configuration:
   
  Platform:
    osname=MSWin32, osvers=6.2, archname=MSWin32-x86-multi-thread-64int
    uname='Win32 strawberry-perl 5.18.2.1 #1 Tue Jan  7 16:30:36 2014 i386'
    config_args='undef'
    hint=recommended, useposix=true, d_sigaction=undef
    useithreads=define, usemultiplicity=define
    useperlio=define, d_sfio=undef, uselargefiles=define, usesocks=undef
    use64bitint=define, use64bitall=undef, uselongdouble=undef
    usemymalloc=n, bincompat5005=undef
  Compiler:
    cc='gcc', ccflags =' -s -O2 -DWIN32  -DPERL_TEXTMODE_SCRIPTS -DPERL_IMPLICIT_CONTEXT -DPERL_IMPLICIT_SYS -DUSE_PERLIO -fno-strict-aliasing -mms-bitfields',
    optimize='-s -O2',
    cppflags='-DWIN32'
    ccversion='', gccversion='4.7.3', gccosandvers=''
    intsize=4, longsize=4, ptrsize=4, doublesize=8, byteorder=12345678
    d_longlong=define, longlongsize=8, d_longdbl=define, longdblsize=12
    ivtype='long long', ivsize=8, nvtype='double', nvsize=8, Off_t='long long', lseeksize=8
    alignbytes=8, prototype=define
  Linker and Libraries:
    ld='g++', ldflags ='-s -L"C:\strawberry182\perl\lib\CORE" -L"C:\strawberry182\c\lib"'
    libpth=C:\strawberry182\c\lib C:\strawberry182\c\i686-w64-mingw32\lib C:\strawberry182\c\lib\gcc\i686-w64-mingw32\4.7.3
    libs=-lmoldname -lkernel32 -luser32 -lgdi32 -lwinspool -lcomdlg32 -ladvapi32 -lshell32 -lole32 -loleaut32 -lnetapi32 -luuid -lws2_32 -lmpr -lwinmm -lversion -lodbc32 -lodbccp32 -lcomctl32
    perllibs=-lmoldname -lkernel32 -luser32 -lgdi32 -lwinspool -lcomdlg32 -ladvapi32 -lshell32 -lole32 -loleaut32 -lnetapi32 -luuid -lws2_32 -lmpr -lwinmm -lversion -lodbc32 -lodbccp32 -lcomctl32
    libc=, so=dll, useshrplib=true, libperl=libperl518.a
    gnulibc_version=''
  Dynamic Linking:
    dlsrc=dl_win32.xs, dlext=dll, d_dlsymun=undef, ccdlflags=' '
    cccdlflags=' ', lddlflags='-mdll -s -L"C:\strawberry182\perl\lib\CORE" -L"C:\strawberry182\c\lib"'


Characteristics of this binary (from libperl): 
  Compile-time options: HAS_TIMES HAVE_INTERP_INTERN MULTIPLICITY
                        PERLIO_LAYERS PERL_DONT_CREATE_GVSV
                        PERL_HASH_FUNC_ONE_AT_A_TIME_HARD
                        PERL_IMPLICIT_CONTEXT PERL_IMPLICIT_SYS
                        PERL_MALLOC_WRAP PERL_PRESERVE_IVUV PERL_SAWAMPERSAND
                        USE_64_BIT_INT USE_ITHREADS USE_LARGE_FILES
                        USE_LOCALE USE_LOCALE_COLLATE USE_LOCALE_CTYPE
                        USE_LOCALE_NUMERIC USE_PERLIO USE_PERL_ATOF
  Built under MSWin32
  Compiled at Jan  7 2014 16:39:31
  %ENV:
    PERL5_CPANPLUS_IS_RUNNING="1132"
    PERL5_CPAN_IS_RUNNING="1132"
    PERL5_CPAN_IS_RUNNING_IN_RECURSION="1784,1132"
    PERL_CR_SMOKER_CURRENT="XML-XPathScript-2.00"
    PERL_CR_SMOKER_RUNONCE="1"
    PERL_EXTUTILS_AUTOINSTALL="--defaultdeps"
    PERL_HASH_SEED="0x11111111"
    PERL_MM_USE_DEFAULT="1"
  @INC:
    C:/strawberry182/perl/site/lib
    C:/strawberry182/perl/vendor/lib
    C:/strawberry182/perl/lib
    .