Back
From: metabase:user:3198cbe2-2aae-11df-837a-5e0a49663a4f
Subject: PASS Net-Twitter-Antispam-0.02 v5.12.2 GNU/Linux
Date: 2010-12-22T16:18:30Z
This distribution has been tested as part of the CPAN Testers
project, supporting the Perl programming language. See
http://wiki.cpantesters.org/ for more information or email
questions to cpan-testers-discuss@perl.org
--
Dear James Laver,
This is a computer-generated report for Net-Twitter-Antispam-0.02
on perl 5.12.2, created by CPAN-Reporter-1.1803.
Thank you for uploading your work to CPAN. Congratulations!
All tests were successful.
Sections of this report:
* Tester comments
* Program output
* Prerequisites
* Environment and other context
------------------------------
TESTER COMMENTS
------------------------------
Additional comments from tester:
this report is from an automated smoke testing program
and was not reviewed by a human for accuracy
------------------------------
PROGRAM OUTPUT
------------------------------
Output from './Build test':
get_or_add_package_symbol is deprecated, please use get_or_add_symbol at /home/graham/perltest/th_ld_perl5122/perl/lib/site_perl/5.12.2/Package/Stash.pm line 79
Package::Stash::get_or_add_package_symbol('Package::Stash=HASH(0x9eddbe0)', 'HASH(0x9ee1138)') called at /home/graham/perltest/th_ld_perl5122/perl/lib/site_perl/5.12.2/i686-linux-thread-multi-ld/Class/MOP/Package.pm line 128
Class::MOP::Package::get_or_add_package_symbol('Class::MOP::Class=HASH(0x9eddab0)', 'HASH(0x9ee1138)') called at /home/graham/perltest/th_ld_perl5122/perl/lib/site_perl/5.12.2/i686-linux-thread-multi-ld/Class/MOP/Class.pm line 836
Class::MOP::Class::superclasses('Class::MOP::Class=HASH(0x9eddab0)') called at /home/graham/perltest/th_ld_perl5122/perl/lib/site_perl/5.12.2/i686-linux-thread-multi-ld/Class/MOP/Class.pm line 213
Class::MOP::Class::_check_metaclass_compatibility('Class::MOP::Class=HASH(0x9eddab0)') called at /home/graham/perltest/th_ld_perl5122/perl/lib/site_perl/5.12.2/i686-linux-thread-multi-ld/Class/MOP/Class.pm line 109
Class::MOP::Class::_construct_class_instance('Class::MOP::Class', 'package', 'Class::MOP::Mixin::HasMethods') called at /home/graham/perltest/th_ld_perl5122/perl/lib/site_perl/5.12.2/i686-linux-thread-multi-ld/Class/MOP/Class.pm line 45
Class::MOP::Class::initialize('Class::MOP::Class', 'Class::MOP::Mixin::HasMethods') called at /home/graham/perltest/th_ld_perl5122/perl/lib/site_perl/5.12.2/i686-linux-thread-multi-ld/Class/MOP/Mixin.pm line 14
Class::MOP::Mixin::meta('Class::MOP::Mixin::HasMethods') called at /home/graham/perltest/th_ld_perl5122/perl/lib/site_perl/5.12.2/i686-linux-thread-multi-ld/Class/MOP.pm line 193
require Class/MOP.pm called at /home/graham/perltest/th_ld_perl5122/perl/lib/site_perl/5.12.2/i686-linux-thread-multi-ld/Moose/Exporter.pm line 11
Moose::Exporter::BEGIN() called at /home/graham/perltest/th_ld_perl5122/perl/lib/site_perl/5.12.2/i686-linux-thread-multi-ld/Class/MOP.pm line 0
eval {...} called at /home/graham/perltest/th_ld_perl5122/perl/lib/site_perl/5.12.2/i686-linux-thread-multi-ld/Class/MOP.pm line 0
require Moose/Exporter.pm called at /home/graham/perltest/th_ld_perl5122/perl/lib/site_perl/5.12.2/i686-linux-thread-multi-ld/Moose.pm line 15
Moose::BEGIN() called at /home/graham/perltest/th_ld_perl5122/perl/lib/site_perl/5.12.2/i686-linux-thread-multi-ld/Class/MOP.pm line 0
eval {...} called at /home/graham/perltest/th_ld_perl5122/perl/lib/site_perl/5.12.2/i686-linux-thread-multi-ld/Class/MOP.pm line 0
require Moose.pm called at /home/graham/perltest/th_ld_perl5122/cpan/build/Net-Twitter-Antispam-0.02-U74Ty_/blib/lib/Net/Twitter/Antispam.pm line 4
Net::Twitter::Antispam::BEGIN() called at /home/graham/perltest/th_ld_perl5122/perl/lib/site_perl/5.12.2/i686-linux-thread-multi-ld/Class/MOP.pm line 0
eval {...} called at /home/graham/perltest/th_ld_perl5122/perl/lib/site_perl/5.12.2/i686-linux-thread-multi-ld/Class/MOP.pm line 0
require Net/Twitter/Antispam.pm called at (eval 25) line 2
main::BEGIN() called at /home/graham/perltest/th_ld_perl5122/perl/lib/site_perl/5.12.2/i686-linux-thread-multi-ld/Class/MOP.pm line 0
eval {...} called at /home/graham/perltest/th_ld_perl5122/perl/lib/site_perl/5.12.2/i686-linux-thread-multi-ld/Class/MOP.pm line 0
eval 'package main;
use Net::Twitter::Antispam @{$args[0]};
1;
;' called at /home/graham/perltest/th_ld_perl5122/perl/lib/5.12.2/Test/More.pm line 875
Test::More::_eval('package main;\x{a}use Net::Twitter::Antispam @{$args[0]};\x{a}1;\x{a}', 'ARRAY(0x9cdd9f8)') called at /home/graham/perltest/th_ld_perl5122/perl/lib/5.12.2/Test/More.pm line 850
Test::More::use_ok('Net::Twitter::Antispam') called at t/00-load.t line 6
main::BEGIN() called at /home/graham/perltest/th_ld_perl5122/perl/lib/site_perl/5.12.2/i686-linux-thread-multi-ld/Class/MOP.pm line 0
eval {...} called at /home/graham/perltest/th_ld_perl5122/perl/lib/site_perl/5.12.2/i686-linux-thread-multi-ld/Class/MOP.pm line 0
add_package_symbol is deprecated, please use add_symbol at /home/graham/perltest/th_ld_perl5122/perl/lib/site_perl/5.12.2/Package/Stash.pm line 59
Package::Stash::add_package_symbol('Package::Stash=HASH(0x9eddbe0)', 'HASH(0x9eeafe0)', 'CODE(0x9ee0fd8)') called at /home/graham/perltest/th_ld_perl5122/perl/lib/site_perl/5.12.2/i686-linux-thread-multi-ld/Class/MOP/Package.pm line 106
Class::MOP::Package::add_package_symbol('Class::MOP::Class=HASH(0x9eddab0)', 'HASH(0x9eeafe0)', 'CODE(0x9ee0fd8)') called at /home/graham/perltest/th_ld_perl5122/perl/lib/site_perl/5.12.2/i686-linux-thread-multi-ld/Class/MOP/Mixin/HasMethods.pm line 92
Class::MOP::Mixin::HasMethods::add_method('Class::MOP::Class=HASH(0x9eddab0)', '_full_method_map', 'Class::MOP::Method::Accessor=HASH(0x9eeb070)') called at /home/graham/perltest/th_ld_perl5122/perl/lib/site_perl/5.12.2/i686-linux-thread-multi-ld/Class/MOP/Attribute.pm line 360
Class::MOP::Attribute::install_accessors('Class::MOP::Attribute=HASH(0x9eea9e0)') called at /home/graham/perltest/th_ld_perl5122/perl/lib/site_perl/5.12.2/i686-linux-thread-multi-ld/Class/MOP/Class.pm line 789
Class::MOP::Class::__ANON__() called at /home/graham/perltest/th_ld_perl5122/perl/lib/site_perl/5.12.2/Try/Tiny.pm line 76
eval {...} called at /home/graham/perltest/th_ld_perl5122/perl/lib/site_perl/5.12.2/Try/Tiny.pm line 67
Try::Tiny::try('CODE(0x9eead20)', 'Try::Tiny::Catch=REF(0x9d760a0)') called at /home/graham/perltest/th_ld_perl5122/perl/lib/site_perl/5.12.2/i686-linux-thread-multi-ld/Class/MOP/Class.pm line 794
Class::MOP::Class::_post_add_attribute('Class::MOP::Class=HASH(0x9eddab0)', 'Class::MOP::Attribute=HASH(0x9eea9e0)') called at /home/graham/perltest/th_ld_perl5122/perl/lib/site_perl/5.12.2/i686-linux-thread-multi-ld/Class/MOP/Mixin/HasAttributes.pm line 45
Class::MOP::Mixin::HasAttributes::add_attribute('Class::MOP::Class=HASH(0x9eddab0)', 'Class::MOP::Attribute=HASH(0x9eea9e0)') called at /home/graham/perltest/th_ld_perl5122/perl/lib/site_perl/5.12.2/i686-linux-thread-multi-ld/Class/MOP.pm line 193
require Class/MOP.pm called at /home/graham/perltest/th_ld_perl5122/perl/lib/site_perl/5.12.2/i686-linux-thread-multi-ld/Moose/Exporter.pm line 11
Moose::Exporter::BEGIN() called at /home/graham/perltest/th_ld_perl5122/perl/lib/site_perl/5.12.2/i686-linux-thread-multi-ld/Class/MOP.pm line 0
eval {...} called at /home/graham/perltest/th_ld_perl5122/perl/lib/site_perl/5.12.2/i686-linux-thread-multi-ld/Class/MOP.pm line 0
require Moose/Exporter.pm called at /home/graham/perltest/th_ld_perl5122/perl/lib/site_perl/5.12.2/i686-linux-thread-multi-ld/Moose.pm line 15
Moose::BEGIN() called at /home/graham/perltest/th_ld_perl5122/perl/lib/site_perl/5.12.2/i686-linux-thread-multi-ld/Class/MOP.pm line 0
eval {...} called at /home/graham/perltest/th_ld_perl5122/perl/lib/site_perl/5.12.2/i686-linux-thread-multi-ld/Class/MOP.pm line 0
require Moose.pm called at /home/graham/perltest/th_ld_perl5122/cpan/build/Net-Twitter-Antispam-0.02-U74Ty_/blib/lib/Net/Twitter/Antispam.pm line 4
Net::Twitter::Antispam::BEGIN() called at /home/graham/perltest/th_ld_perl5122/perl/lib/site_perl/5.12.2/i686-linux-thread-multi-ld/Class/MOP.pm line 0
eval {...} called at /home/graham/perltest/th_ld_perl5122/perl/lib/site_perl/5.12.2/i686-linux-thread-multi-ld/Class/MOP.pm line 0
require Net/Twitter/Antispam.pm called at (eval 25) line 2
main::BEGIN() called at /home/graham/perltest/th_ld_perl5122/perl/lib/site_perl/5.12.2/i686-linux-thread-multi-ld/Class/MOP.pm line 0
eval {...} called at /home/graham/perltest/th_ld_perl5122/perl/lib/site_perl/5.12.2/i686-linux-thread-multi-ld/Class/MOP.pm line 0
eval 'package main;
use Net::Twitter::Antispam @{$args[0]};
1;
;' called at /home/graham/perltest/th_ld_perl5122/perl/lib/5.12.2/Test/More.pm line 875
Test::More::_eval('package main;\x{a}use Net::Twitter::Antispam @{$args[0]};\x{a}1;\x{a}', 'ARRAY(0x9cdd9f8)') called at /home/graham/perltest/th_ld_perl5122/perl/lib/5.12.2/Test/More.pm line 850
Test::More::use_ok('Net::Twitter::Antispam') called at t/00-load.t line 6
main::BEGIN() called at /home/graham/perltest/th_ld_perl5122/perl/lib/site_perl/5.12.2/i686-linux-thread-multi-ld/Class/MOP.pm line 0
eval {...} called at /home/graham/perltest/th_ld_perl5122/perl/lib/site_perl/5.12.2/i686-linux-thread-multi-ld/Class/MOP.pm line 0
get_package_symbol is deprecated, please use get_symbol at /home/graham/perltest/th_ld_perl5122/perl/lib/site_perl/5.12.2/Package/Stash.pm line 74
Package::Stash::get_package_symbol('Package::Stash=HASH(0x9eefd88)', 'HASH(0x9f01898)') called at /home/graham/perltest/th_ld_perl5122/perl/lib/site_perl/5.12.2/i686-linux-thread-multi-ld/Class/MOP/Package.pm line 123
Class::MOP::Package::get_package_symbol('Class::MOP::Class=HASH(0x9eefc98)', 'HASH(0x9f01898)') called at /home/graham/perltest/th_ld_perl5122/perl/lib/site_perl/5.12.2/i686-linux-thread-multi-ld/Class/MOP/Mixin/HasMethods.pm line 138
Class::MOP::Mixin::HasMethods::_get_maybe_raw_method('Class::MOP::Class=HASH(0x9eefc98)', 'meta') called at /home/graham/perltest/th_ld_perl5122/perl/lib/site_perl/5.12.2/i686-linux-thread-multi-ld/Class/MOP/Mixin/HasMethods.pm line 121
Class::MOP::Mixin::HasMethods::get_method('Class::MOP::Class=HASH(0x9eefc98)', 'meta') called at /home/graham/perltest/th_ld_perl5122/perl/lib/site_perl/5.12.2/i686-linux-thread-multi-ld/Class/MOP/Class.pm line 1018
Class::MOP::Class::find_method_by_name('Class::MOP::Class=HASH(0x9eefc98)', 'meta') called at /home/graham/perltest/th_ld_perl5122/perl/lib/site_perl/5.12.2/i686-linux-thread-multi-ld/Class/MOP/Mixin/HasMethods.pm line 25
Class::MOP::Mixin::HasMethods::_add_meta_method('Class::MOP::Class=HASH(0x9eefc98)', 'meta') called at /home/graham/perltest/th_ld_perl5122/perl/lib/site_perl/5.12.2/i686-linux-thread-multi-ld/Class/MOP.pm line 672
require Class/MOP.pm called at /home/graham/perltest/th_ld_perl5122/perl/lib/site_perl/5.12.2/i686-linux-thread-multi-ld/Moose/Exporter.pm line 11
Moose::Exporter::BEGIN() called at /home/graham/perltest/th_ld_perl5122/perl/lib/site_perl/5.12.2/i686-linux-thread-multi-ld/Class/MOP.pm line 0
eval {...} called at /home/graham/perltest/th_ld_perl5122/perl/lib/site_perl/5.12.2/i686-linux-thread-multi-ld/Class/MOP.pm line 0
require Moose/Exporter.pm called at /home/graham/perltest/th_ld_perl5122/perl/lib/site_perl/5.12.2/i686-linux-thread-multi-ld/Moose.pm line 15
Moose::BEGIN() called at /home/graham/perltest/th_ld_perl5122/perl/lib/site_perl/5.12.2/i686-linux-thread-multi-ld/Class/MOP.pm line 0
eval {...} called at /home/graham/perltest/th_ld_perl5122/perl/lib/site_perl/5.12.2/i686-linux-thread-multi-ld/Class/MOP.pm line 0
require Moose.pm called at /home/graham/perltest/th_ld_perl5122/cpan/build/Net-Twitter-Antispam-0.02-U74Ty_/blib/lib/Net/Twitter/Antispam.pm line 4
Net::Twitter::Antispam::BEGIN() called at /home/graham/perltest/th_ld_perl5122/perl/lib/site_perl/5.12.2/i686-linux-thread-multi-ld/Class/MOP.pm line 0
eval {...} called at /home/graham/perltest/th_ld_perl5122/perl/lib/site_perl/5.12.2/i686-linux-thread-multi-ld/Class/MOP.pm line 0
require Net/Twitter/Antispam.pm called at (eval 25) line 2
main::BEGIN() called at /home/graham/perltest/th_ld_perl5122/perl/lib/site_perl/5.12.2/i686-linux-thread-multi-ld/Class/MOP.pm line 0
eval {...} called at /home/graham/perltest/th_ld_perl5122/perl/lib/site_perl/5.12.2/i686-linux-thread-multi-ld/Class/MOP.pm line 0
eval 'package main;
use Net::Twitter::Antispam @{$args[0]};
1;
;' called at /home/graham/perltest/th_ld_perl5122/perl/lib/5.12.2/Test/More.pm line 875
Test::More::_eval('package main;\x{a}use Net::Twitter::Antispam @{$args[0]};\x{a}1;\x{a}', 'ARRAY(0x9cdd9f8)') called at /home/graham/perltest/th_ld_perl5122/perl/lib/5.12.2/Test/More.pm line 850
Test::More::use_ok('Net::Twitter::Antispam') called at t/00-load.t line 6
main::BEGIN() called at /home/graham/perltest/th_ld_perl5122/perl/lib/site_perl/5.12.2/i686-linux-thread-multi-ld/Class/MOP.pm line 0
eval {...} called at /home/graham/perltest/th_ld_perl5122/perl/lib/site_perl/5.12.2/i686-linux-thread-multi-ld/Class/MOP.pm line 0
has_package_symbol is deprecated, please use has_symbol at /home/graham/perltest/th_ld_perl5122/perl/lib/site_perl/5.12.2/Package/Stash.pm line 69
Package::Stash::has_package_symbol('Package::Stash=HASH(0xa0bc620)', '&import') called at /home/graham/perltest/th_ld_perl5122/perl/lib/site_perl/5.12.2/i686-linux-thread-multi-ld/Class/MOP/Package.pm line 118
Class::MOP::Package::has_package_symbol('Class::MOP::Package=HASH(0xa0be438)', '&import') called at /home/graham/perltest/th_ld_perl5122/perl/lib/site_perl/5.12.2/i686-linux-thread-multi-ld/Moose/Exporter.pm line 79
Moose::Exporter::build_import_methods('Moose::Exporter', 'as_is', 'ARRAY(0xa0b26b8)', 'exporting_package', 'Moose::Util::TypeConstraints', 'install', 'ARRAY(0xa0b27a8)') called at /home/graham/perltest/th_ld_perl5122/perl/lib/site_perl/5.12.2/i686-linux-thread-multi-ld/Moose/Exporter.pm line 29
Moose::Exporter::setup_import_methods('Moose::Exporter', 'as_is', 'ARRAY(0xa0b26b8)') called at /home/graham/perltest/th_ld_perl5122/perl/lib/site_perl/5.12.2/i686-linux-thread-multi-ld/Moose/Util/TypeConstraints.pm line 42
require Moose/Util/TypeConstraints.pm called at /home/graham/perltest/th_ld_perl5122/perl/lib/site_perl/5.12.2/i686-linux-thread-multi-ld/Moose/Meta/Attribute.pm line 20
Moose::Meta::Attribute::BEGIN() called at /home/graham/perltest/th_ld_perl5122/perl/lib/site_perl/5.12.2/i686-linux-thread-multi-ld/Moose/Util/TypeConstraints.pm line 0
eval {...} called at /home/graham/perltest/th_ld_perl5122/perl/lib/site_perl/5.12.2/i686-linux-thread-multi-ld/Moose/Util/TypeConstraints.pm line 0
require Moose/Meta/Attribute.pm called at /home/graham/perltest/th_ld_perl5122/perl/lib/site_perl/5.12.2/i686-linux-thread-multi-ld/Moose/Meta/TypeCoercion.pm line 8
Moose::Meta::TypeCoercion::BEGIN() called at /home/graham/perltest/th_ld_perl5122/perl/lib/site_perl/5.12.2/i686-linux-thread-multi-ld/Moose/Util/TypeConstraints.pm line 0
eval {...} called at /home/graham/perltest/th_ld_perl5122/perl/lib/site_perl/5.12.2/i686-linux-thread-multi-ld/Moose/Util/TypeConstraints.pm line 0
require Moose/Meta/TypeCoercion.pm called at /home/graham/perltest/th_ld_perl5122/perl/lib/site_perl/5.12.2/i686-linux-thread-multi-ld/Moose.pm line 21
Moose::BEGIN() called at /home/graham/perltest/th_ld_perl5122/perl/lib/site_perl/5.12.2/i686-linux-thread-multi-ld/Moose/Util/TypeConstraints.pm line 0
eval {...} called at /home/graham/perltest/th_ld_perl5122/perl/lib/site_perl/5.12.2/i686-linux-thread-multi-ld/Moose/Util/TypeConstraints.pm line 0
require Moose.pm called at /home/graham/perltest/th_ld_perl5122/cpan/build/Net-Twitter-Antispam-0.02-U74Ty_/blib/lib/Net/Twitter/Antispam.pm line 4
Net::Twitter::Antispam::BEGIN() called at /home/graham/perltest/th_ld_perl5122/perl/lib/site_perl/5.12.2/i686-linux-thread-multi-ld/Moose/Util/TypeConstraints.pm line 0
eval {...} called at /home/graham/perltest/th_ld_perl5122/perl/lib/site_perl/5.12.2/i686-linux-thread-multi-ld/Moose/Util/TypeConstraints.pm line 0
require Net/Twitter/Antispam.pm called at (eval 25) line 2
main::BEGIN() called at /home/graham/perltest/th_ld_perl5122/perl/lib/site_perl/5.12.2/i686-linux-thread-multi-ld/Moose/Util/TypeConstraints.pm line 0
eval {...} called at /home/graham/perltest/th_ld_perl5122/perl/lib/site_perl/5.12.2/i686-linux-thread-multi-ld/Moose/Util/TypeConstraints.pm line 0
eval 'package main;
use Net::Twitter::Antispam @{$args[0]};
1;
;' called at /home/graham/perltest/th_ld_perl5122/perl/lib/5.12.2/Test/More.pm line 875
Test::More::_eval('package main;\x{a}use Net::Twitter::Antispam @{$args[0]};\x{a}1;\x{a}', 'ARRAY(0x9cdd9f8)') called at /home/graham/perltest/th_ld_perl5122/perl/lib/5.12.2/Test/More.pm line 850
Test::More::use_ok('Net::Twitter::Antispam') called at t/00-load.t line 6
main::BEGIN() called at /home/graham/perltest/th_ld_perl5122/perl/lib/site_perl/5.12.2/i686-linux-thread-multi-ld/Moose/Util/TypeConstraints.pm line 0
eval {...} called at /home/graham/perltest/th_ld_perl5122/perl/lib/site_perl/5.12.2/i686-linux-thread-multi-ld/Moose/Util/TypeConstraints.pm line 0
# Testing Net::Twitter::Antispam 0.02, Perl 5.012002, /home/graham/perltest/th_ld_perl5122/perl/bin/perl
t/00-load.t .......... ok
t/01-pod.t ........... ok
get_or_add_package_symbol is deprecated, please use get_or_add_symbol at /home/graham/perltest/th_ld_perl5122/perl/lib/site_perl/5.12.2/Package/Stash.pm line 79
Package::Stash::get_or_add_package_symbol('Package::Stash=HASH(0xa635ba8)', 'HASH(0xa6359e8)') called at /home/graham/perltest/th_ld_perl5122/perl/lib/site_perl/5.12.2/i686-linux-thread-multi-ld/Class/MOP/Package.pm line 128
Class::MOP::Package::get_or_add_package_symbol('Class::MOP::Class=HASH(0xa635a78)', 'HASH(0xa6359e8)') called at /home/graham/perltest/th_ld_perl5122/perl/lib/site_perl/5.12.2/i686-linux-thread-multi-ld/Class/MOP/Class.pm line 836
Class::MOP::Class::superclasses('Class::MOP::Class=HASH(0xa635a78)') called at /home/graham/perltest/th_ld_perl5122/perl/lib/site_perl/5.12.2/i686-linux-thread-multi-ld/Class/MOP/Class.pm line 213
Class::MOP::Class::_check_metaclass_compatibility('Class::MOP::Class=HASH(0xa635a78)') called at /home/graham/perltest/th_ld_perl5122/perl/lib/site_perl/5.12.2/i686-linux-thread-multi-ld/Class/MOP/Class.pm line 109
Class::MOP::Class::_construct_class_instance('Class::MOP::Class', 'package', 'Class::MOP::Mixin::HasMethods') called at /home/graham/perltest/th_ld_perl5122/perl/lib/site_perl/5.12.2/i686-linux-thread-multi-ld/Class/MOP/Class.pm line 45
Class::MOP::Class::initialize('Class::MOP::Class', 'Class::MOP::Mixin::HasMethods') called at /home/graham/perltest/th_ld_perl5122/perl/lib/site_perl/5.12.2/i686-linux-thread-multi-ld/Class/MOP/Mixin.pm line 14
Class::MOP::Mixin::meta('Class::MOP::Mixin::HasMethods') called at /home/graham/perltest/th_ld_perl5122/perl/lib/site_perl/5.12.2/i686-linux-thread-multi-ld/Class/MOP.pm line 193
require Class/MOP.pm called at /home/graham/perltest/th_ld_perl5122/perl/lib/site_perl/5.12.2/i686-linux-thread-multi-ld/Moose/Exporter.pm line 11
Moose::Exporter::BEGIN() called at /home/graham/perltest/th_ld_perl5122/perl/lib/site_perl/5.12.2/i686-linux-thread-multi-ld/Class/MOP.pm line 0
eval {...} called at /home/graham/perltest/th_ld_perl5122/perl/lib/site_perl/5.12.2/i686-linux-thread-multi-ld/Class/MOP.pm line 0
require Moose/Exporter.pm called at /home/graham/perltest/th_ld_perl5122/perl/lib/site_perl/5.12.2/i686-linux-thread-multi-ld/Moose.pm line 15
Moose::BEGIN() called at /home/graham/perltest/th_ld_perl5122/perl/lib/site_perl/5.12.2/i686-linux-thread-multi-ld/Class/MOP.pm line 0
eval {...} called at /home/graham/perltest/th_ld_perl5122/perl/lib/site_perl/5.12.2/i686-linux-thread-multi-ld/Class/MOP.pm line 0
require Moose.pm called at /home/graham/perltest/th_ld_perl5122/cpan/build/Net-Twitter-Antispam-0.02-U74Ty_/blib/lib/Net/Twitter/Antispam.pm line 4
Net::Twitter::Antispam::BEGIN() called at /home/graham/perltest/th_ld_perl5122/perl/lib/site_perl/5.12.2/i686-linux-thread-multi-ld/Class/MOP.pm line 0
eval {...} called at /home/graham/perltest/th_ld_perl5122/perl/lib/site_perl/5.12.2/i686-linux-thread-multi-ld/Class/MOP.pm line 0
require Net/Twitter/Antispam.pm called at (eval 34) line 2
eval ' require Net::Twitter::Antispam
;' called at /home/graham/perltest/th_ld_perl5122/perl/lib/site_perl/5.12.2/Pod/Coverage.pm line 303
Pod::Coverage::_get_syms('Pod::Coverage=HASH(0x9fdd4f8)', 'Net::Twitter::Antispam') called at /home/graham/perltest/th_ld_perl5122/perl/lib/site_perl/5.12.2/Pod/Coverage.pm line 152
Pod::Coverage::coverage('Pod::Coverage=HASH(0x9fdd4f8)') called at /home/graham/perltest/th_ld_perl5122/perl/lib/site_perl/5.12.2/Test/Pod/Coverage.pm line 162
Test::Pod::Coverage::pod_coverage_ok('Net::Twitter::Antispam', 'HASH(0x9fdd4c8)', 'Pod coverage on Net::Twitter::Antispam') called at /home/graham/perltest/th_ld_perl5122/perl/lib/site_perl/5.12.2/Test/Pod/Coverage.pm line 126
Test::Pod::Coverage::all_pod_coverage_ok() called at t/02-pod-coverage.t line 18
add_package_symbol is deprecated, please use add_symbol at /home/graham/perltest/th_ld_perl5122/perl/lib/site_perl/5.12.2/Package/Stash.pm line 59
Package::Stash::add_package_symbol('Package::Stash=HASH(0xa635ba8)', 'HASH(0xa6418b0)', 'CODE(0xa6387c0)') called at /home/graham/perltest/th_ld_perl5122/perl/lib/site_perl/5.12.2/i686-linux-thread-multi-ld/Class/MOP/Package.pm line 106
Class::MOP::Package::add_package_symbol('Class::MOP::Class=HASH(0xa635a78)', 'HASH(0xa6418b0)', 'CODE(0xa6387c0)') called at /home/graham/perltest/th_ld_perl5122/perl/lib/site_perl/5.12.2/i686-linux-thread-multi-ld/Class/MOP/Mixin/HasMethods.pm line 92
Class::MOP::Mixin::HasMethods::add_method('Class::MOP::Class=HASH(0xa635a78)', '_full_method_map', 'Class::MOP::Method::Accessor=HASH(0xa641940)') called at /home/graham/perltest/th_ld_perl5122/perl/lib/site_perl/5.12.2/i686-linux-thread-multi-ld/Class/MOP/Attribute.pm line 360
Class::MOP::Attribute::install_accessors('Class::MOP::Attribute=HASH(0xa6412b0)') called at /home/graham/perltest/th_ld_perl5122/perl/lib/site_perl/5.12.2/i686-linux-thread-multi-ld/Class/MOP/Class.pm line 789
Class::MOP::Class::__ANON__() called at /home/graham/perltest/th_ld_perl5122/perl/lib/site_perl/5.12.2/Try/Tiny.pm line 76
eval {...} called at /home/graham/perltest/th_ld_perl5122/perl/lib/site_perl/5.12.2/Try/Tiny.pm line 67
Try::Tiny::try('CODE(0xa641600)', 'Try::Tiny::Catch=REF(0xa4dcc58)') called at /home/graham/perltest/th_ld_perl5122/perl/lib/site_perl/5.12.2/i686-linux-thread-multi-ld/Class/MOP/Class.pm line 794
Class::MOP::Class::_post_add_attribute('Class::MOP::Class=HASH(0xa635a78)', 'Class::MOP::Attribute=HASH(0xa6412b0)') called at /home/graham/perltest/th_ld_perl5122/perl/lib/site_perl/5.12.2/i686-linux-thread-multi-ld/Class/MOP/Mixin/HasAttributes.pm line 45
Class::MOP::Mixin::HasAttributes::add_attribute('Class::MOP::Class=HASH(0xa635a78)', 'Class::MOP::Attribute=HASH(0xa6412b0)') called at /home/graham/perltest/th_ld_perl5122/perl/lib/site_perl/5.12.2/i686-linux-thread-multi-ld/Class/MOP.pm line 193
require Class/MOP.pm called at /home/graham/perltest/th_ld_perl5122/perl/lib/site_perl/5.12.2/i686-linux-thread-multi-ld/Moose/Exporter.pm line 11
Moose::Exporter::BEGIN() called at /home/graham/perltest/th_ld_perl5122/perl/lib/site_perl/5.12.2/i686-linux-thread-multi-ld/Class/MOP.pm line 0
eval {...} called at /home/graham/perltest/th_ld_perl5122/perl/lib/site_perl/5.12.2/i686-linux-thread-multi-ld/Class/MOP.pm line 0
require Moose/Exporter.pm called at /home/graham/perltest/th_ld_perl5122/perl/lib/site_perl/5.12.2/i686-linux-thread-multi-ld/Moose.pm line 15
Moose::BEGIN() called at /home/graham/perltest/th_ld_perl5122/perl/lib/site_perl/5.12.2/i686-linux-thread-multi-ld/Class/MOP.pm line 0
eval {...} called at /home/graham/perltest/th_ld_perl5122/perl/lib/site_perl/5.12.2/i686-linux-thread-multi-ld/Class/MOP.pm line 0
require Moose.pm called at /home/graham/perltest/th_ld_perl5122/cpan/build/Net-Twitter-Antispam-0.02-U74Ty_/blib/lib/Net/Twitter/Antispam.pm line 4
Net::Twitter::Antispam::BEGIN() called at /home/graham/perltest/th_ld_perl5122/perl/lib/site_perl/5.12.2/i686-linux-thread-multi-ld/Class/MOP.pm line 0
eval {...} called at /home/graham/perltest/th_ld_perl5122/perl/lib/site_perl/5.12.2/i686-linux-thread-multi-ld/Class/MOP.pm line 0
require Net/Twitter/Antispam.pm called at (eval 34) line 2
eval ' require Net::Twitter::Antispam
;' called at /home/graham/perltest/th_ld_perl5122/perl/lib/site_perl/5.12.2/Pod/Coverage.pm line 303
Pod::Coverage::_get_syms('Pod::Coverage=HASH(0x9fdd4f8)', 'Net::Twitter::Antispam') called at /home/graham/perltest/th_ld_perl5122/perl/lib/site_perl/5.12.2/Pod/Coverage.pm line 152
Pod::Coverage::coverage('Pod::Coverage=HASH(0x9fdd4f8)') called at /home/graham/perltest/th_ld_perl5122/perl/lib/site_perl/5.12.2/Test/Pod/Coverage.pm line 162
Test::Pod::Coverage::pod_coverage_ok('Net::Twitter::Antispam', 'HASH(0x9fdd4c8)', 'Pod coverage on Net::Twitter::Antispam') called at /home/graham/perltest/th_ld_perl5122/perl/lib/site_perl/5.12.2/Test/Pod/Coverage.pm line 126
Test::Pod::Coverage::all_pod_coverage_ok() called at t/02-pod-coverage.t line 18
get_package_symbol is deprecated, please use get_symbol at /home/graham/perltest/th_ld_perl5122/perl/lib/site_perl/5.12.2/Package/Stash.pm line 74
Package::Stash::get_package_symbol('Package::Stash=HASH(0xa646bd8)', 'HASH(0xa65a058)') called at /home/graham/perltest/th_ld_perl5122/perl/lib/site_perl/5.12.2/i686-linux-thread-multi-ld/Class/MOP/Package.pm line 123
Class::MOP::Package::get_package_symbol('Class::MOP::Class=HASH(0xa646ae8)', 'HASH(0xa65a058)') called at /home/graham/perltest/th_ld_perl5122/perl/lib/site_perl/5.12.2/i686-linux-thread-multi-ld/Class/MOP/Mixin/HasMethods.pm line 138
Class::MOP::Mixin::HasMethods::_get_maybe_raw_method('Class::MOP::Class=HASH(0xa646ae8)', 'meta') called at /home/graham/perltest/th_ld_perl5122/perl/lib/site_perl/5.12.2/i686-linux-thread-multi-ld/Class/MOP/Mixin/HasMethods.pm line 121
Class::MOP::Mixin::HasMethods::get_method('Class::MOP::Class=HASH(0xa646ae8)', 'meta') called at /home/graham/perltest/th_ld_perl5122/perl/lib/site_perl/5.12.2/i686-linux-thread-multi-ld/Class/MOP/Class.pm line 1018
Class::MOP::Class::find_method_by_name('Class::MOP::Class=HASH(0xa646ae8)', 'meta') called at /home/graham/perltest/th_ld_perl5122/perl/lib/site_perl/5.12.2/i686-linux-thread-multi-ld/Class/MOP/Mixin/HasMethods.pm line 25
Class::MOP::Mixin::HasMethods::_add_meta_method('Class::MOP::Class=HASH(0xa646ae8)', 'meta') called at /home/graham/perltest/th_ld_perl5122/perl/lib/site_perl/5.12.2/i686-linux-thread-multi-ld/Class/MOP.pm line 672
require Class/MOP.pm called at /home/graham/perltest/th_ld_perl5122/perl/lib/site_perl/5.12.2/i686-linux-thread-multi-ld/Moose/Exporter.pm line 11
Moose::Exporter::BEGIN() called at /home/graham/perltest/th_ld_perl5122/perl/lib/site_perl/5.12.2/i686-linux-thread-multi-ld/Class/MOP.pm line 0
eval {...} called at /home/graham/perltest/th_ld_perl5122/perl/lib/site_perl/5.12.2/i686-linux-thread-multi-ld/Class/MOP.pm line 0
require Moose/Exporter.pm called at /home/graham/perltest/th_ld_perl5122/perl/lib/site_perl/5.12.2/i686-linux-thread-multi-ld/Moose.pm line 15
Moose::BEGIN() called at /home/graham/perltest/th_ld_perl5122/perl/lib/site_perl/5.12.2/i686-linux-thread-multi-ld/Class/MOP.pm line 0
eval {...} called at /home/graham/perltest/th_ld_perl5122/perl/lib/site_perl/5.12.2/i686-linux-thread-multi-ld/Class/MOP.pm line 0
require Moose.pm called at /home/graham/perltest/th_ld_perl5122/cpan/build/Net-Twitter-Antispam-0.02-U74Ty_/blib/lib/Net/Twitter/Antispam.pm line 4
Net::Twitter::Antispam::BEGIN() called at /home/graham/perltest/th_ld_perl5122/perl/lib/site_perl/5.12.2/i686-linux-thread-multi-ld/Class/MOP.pm line 0
eval {...} called at /home/graham/perltest/th_ld_perl5122/perl/lib/site_perl/5.12.2/i686-linux-thread-multi-ld/Class/MOP.pm line 0
require Net/Twitter/Antispam.pm called at (eval 34) line 2
eval ' require Net::Twitter::Antispam
;' called at /home/graham/perltest/th_ld_perl5122/perl/lib/site_perl/5.12.2/Pod/Coverage.pm line 303
Pod::Coverage::_get_syms('Pod::Coverage=HASH(0x9fdd4f8)', 'Net::Twitter::Antispam') called at /home/graham/perltest/th_ld_perl5122/perl/lib/site_perl/5.12.2/Pod/Coverage.pm line 152
Pod::Coverage::coverage('Pod::Coverage=HASH(0x9fdd4f8)') called at /home/graham/perltest/th_ld_perl5122/perl/lib/site_perl/5.12.2/Test/Pod/Coverage.pm line 162
Test::Pod::Coverage::pod_coverage_ok('Net::Twitter::Antispam', 'HASH(0x9fdd4c8)', 'Pod coverage on Net::Twitter::Antispam') called at /home/graham/perltest/th_ld_perl5122/perl/lib/site_perl/5.12.2/Test/Pod/Coverage.pm line 126
Test::Pod::Coverage::all_pod_coverage_ok() called at t/02-pod-coverage.t line 18
has_package_symbol is deprecated, please use has_symbol at /home/graham/perltest/th_ld_perl5122/perl/lib/site_perl/5.12.2/Package/Stash.pm line 69
Package::Stash::has_package_symbol('Package::Stash=HASH(0xa8162c8)', '&import') called at /home/graham/perltest/th_ld_perl5122/perl/lib/site_perl/5.12.2/i686-linux-thread-multi-ld/Class/MOP/Package.pm line 118
Class::MOP::Package::has_package_symbol('Class::MOP::Package=HASH(0xa8162f8)', '&import') called at /home/graham/perltest/th_ld_perl5122/perl/lib/site_perl/5.12.2/i686-linux-thread-multi-ld/Moose/Exporter.pm line 79
Moose::Exporter::build_import_methods('Moose::Exporter', 'as_is', 'ARRAY(0xa809d88)', 'exporting_package', 'Moose::Util::TypeConstraints', 'install', 'ARRAY(0xa809e78)') called at /home/graham/perltest/th_ld_perl5122/perl/lib/site_perl/5.12.2/i686-linux-thread-multi-ld/Moose/Exporter.pm line 29
Moose::Exporter::setup_import_methods('Moose::Exporter', 'as_is', 'ARRAY(0xa809d88)') called at /home/graham/perltest/th_ld_perl5122/perl/lib/site_perl/5.12.2/i686-linux-thread-multi-ld/Moose/Util/TypeConstraints.pm line 42
require Moose/Util/TypeConstraints.pm called at /home/graham/perltest/th_ld_perl5122/perl/lib/site_perl/5.12.2/i686-linux-thread-multi-ld/Moose/Meta/Attribute.pm line 20
Moose::Meta::Attribute::BEGIN() called at /home/graham/perltest/th_ld_perl5122/perl/lib/site_perl/5.12.2/i686-linux-thread-multi-ld/Moose/Util/TypeConstraints.pm line 0
eval {...} called at /home/graham/perltest/th_ld_perl5122/perl/lib/site_perl/5.12.2/i686-linux-thread-multi-ld/Moose/Util/TypeConstraints.pm line 0
require Moose/Meta/Attribute.pm called at /home/graham/perltest/th_ld_perl5122/perl/lib/site_perl/5.12.2/i686-linux-thread-multi-ld/Moose/Meta/TypeCoercion.pm line 8
Moose::Meta::TypeCoercion::BEGIN() called at /home/graham/perltest/th_ld_perl5122/perl/lib/site_perl/5.12.2/i686-linux-thread-multi-ld/Moose/Util/TypeConstraints.pm line 0
eval {...} called at /home/graham/perltest/th_ld_perl5122/perl/lib/site_perl/5.12.2/i686-linux-thread-multi-ld/Moose/Util/TypeConstraints.pm line 0
require Moose/Meta/TypeCoercion.pm called at /home/graham/perltest/th_ld_perl5122/perl/lib/site_perl/5.12.2/i686-linux-thread-multi-ld/Moose.pm line 21
Moose::BEGIN() called at /home/graham/perltest/th_ld_perl5122/perl/lib/site_perl/5.12.2/i686-linux-thread-multi-ld/Moose/Util/TypeConstraints.pm line 0
eval {...} called at /home/graham/perltest/th_ld_perl5122/perl/lib/site_perl/5.12.2/i686-linux-thread-multi-ld/Moose/Util/TypeConstraints.pm line 0
require Moose.pm called at /home/graham/perltest/th_ld_perl5122/cpan/build/Net-Twitter-Antispam-0.02-U74Ty_/blib/lib/Net/Twitter/Antispam.pm line 4
Net::Twitter::Antispam::BEGIN() called at /home/graham/perltest/th_ld_perl5122/perl/lib/site_perl/5.12.2/i686-linux-thread-multi-ld/Moose/Util/TypeConstraints.pm line 0
eval {...} called at /home/graham/perltest/th_ld_perl5122/perl/lib/site_perl/5.12.2/i686-linux-thread-multi-ld/Moose/Util/TypeConstraints.pm line 0
require Net/Twitter/Antispam.pm called at (eval 34) line 2
eval ' require Net::Twitter::Antispam
;' called at /home/graham/perltest/th_ld_perl5122/perl/lib/site_perl/5.12.2/Pod/Coverage.pm line 303
Pod::Coverage::_get_syms('Pod::Coverage=HASH(0x9fdd4f8)', 'Net::Twitter::Antispam') called at /home/graham/perltest/th_ld_perl5122/perl/lib/site_perl/5.12.2/Pod/Coverage.pm line 152
Pod::Coverage::coverage('Pod::Coverage=HASH(0x9fdd4f8)') called at /home/graham/perltest/th_ld_perl5122/perl/lib/site_perl/5.12.2/Test/Pod/Coverage.pm line 162
Test::Pod::Coverage::pod_coverage_ok('Net::Twitter::Antispam', 'HASH(0x9fdd4c8)', 'Pod coverage on Net::Twitter::Antispam') called at /home/graham/perltest/th_ld_perl5122/perl/lib/site_perl/5.12.2/Test/Pod/Coverage.pm line 126
Test::Pod::Coverage::all_pod_coverage_ok() called at t/02-pod-coverage.t line 18
t/02-pod-coverage.t .. ok
All tests successful.
Files=3, Tests=7, 2 wallclock secs ( 0.05 usr 0.02 sys + 1.56 cusr 0.13 csys = 1.76 CPU)
Result: PASS
------------------------------
PREREQUISITES
------------------------------
Prerequisite modules loaded:
build_requires:
Module Need Have
---------- ---- -------
Test::More 0 2.00_01
------------------------------
ENVIRONMENT AND OTHER CONTEXT
------------------------------
Environment variables:
AUTOMATED_TESTING = 1
LANG = C
PATH = /home/graham/perltest/th_ld_perl5122/perl/bin:/bin:/usr/bin:/sbin:/usr/sbin:/opt/java/bin:/opt/java/jre/bin:/opt/kde/bin:/usr/bin/perlbin/site:/usr/bin/perlbin/vendor:/usr/bin/perlbin/core:/opt/qt/bin
PERL5LIB =
PERL5OPT =
PERL5_CPANPLUS_IS_RUNNING = 25290
PERL5_CPAN_IS_RUNNING = 25290
PERL5_CPAN_IS_RUNNING_IN_RECURSION = 3605,25290
PERL_CR_SMOKER_CURRENT = Net-Twitter-Antispam-0.02
PERL_EXTUTILS_AUTOINSTALL = --defaultdeps
PERL_MM_USE_DEFAULT = 1
SHELL = /bin/bash
TERM = xterm
Perl special variables (and OS-specific diagnostics, for MSWin32):
$^X = /home/graham/perltest/th_ld_perl5122/perl/bin/perl
$UID/$EUID = 1000 / 1000
$GID = 1000 7 10 91 92 93 95 98 100 108 1000 1001
$EGID = 1000 7 10 91 92 93 95 98 100 108 1000 1001
Perl module toolchain versions installed:
Module Have
------------------- -------
CPAN 1.94_62
Cwd 3.33
ExtUtils::CBuilder 0.2802
ExtUtils::Command 1.16
ExtUtils::Install 1.54
ExtUtils::MakeMaker 6.56
ExtUtils::Manifest 1.58
ExtUtils::ParseXS 2.2206
File::Spec 3.33
Module::Build 0.36_20
Module::Signature 0.66
Test::Harness 3.22
Test::More 2.00_01
YAML 0.72
YAML::Syck 1.17
version 0.88
--
Summary of my perl5 (revision 5 version 12 subversion 2) configuration:
Platform:
osname=linux, osvers=2.6.33-arch, archname=i686-linux-thread-multi-ld
uname='linux lorant 2.6.33-arch #1 smp preempt thu may 13 12:06:25 cest 2010 i686 intel(r) pentium(r) 4 cpu 2.80ghz genuineintel gnulinux '
config_args=''
hint=recommended, useposix=true, d_sigaction=define
useithreads=define, usemultiplicity=define
useperlio=define, d_sfio=undef, uselargefiles=define, usesocks=undef
use64bitint=undef, use64bitall=undef, uselongdouble=define
usemymalloc=n, bincompat5005=undef
Compiler:
cc='cc', ccflags ='-D_REENTRANT -D_GNU_SOURCE -fno-strict-aliasing -pipe -fstack-protector -I/usr/local/include -D_LARGEFILE_SOURCE -D_FILE_OFFSET_BITS=64',
optimize='-O2',
cppflags='-D_REENTRANT -D_GNU_SOURCE -fno-strict-aliasing -pipe -fstack-protector -I/usr/local/include'
ccversion='', gccversion='4.5.0 20100520 (prerelease)', gccosandvers=''
intsize=4, longsize=4, ptrsize=4, doublesize=8, byteorder=1234
d_longlong=define, longlongsize=8, d_longdbl=define, longdblsize=12
ivtype='long', ivsize=4, nvtype='long double', nvsize=12, Off_t='off_t', lseeksize=8
alignbytes=4, prototype=define
Linker and Libraries:
ld='cc', ldflags =' -fstack-protector -L/usr/local/lib'
libpth=/usr/local/lib /lib /usr/lib
libs=-lnsl -lgdbm -ldb -ldl -lm -lcrypt -lutil -lpthread -lc -lgdbm_compat
perllibs=-lnsl -ldl -lm -lcrypt -lutil -lpthread -lc
libc=/lib/libc-2.12.so, so=so, useshrplib=false, libperl=libperl.a
gnulibc_version='2.12'
Dynamic Linking:
dlsrc=dl_dlopen.xs, dlext=so, d_dlsymun=undef, ccdlflags='-Wl,-E'
cccdlflags='-fPIC', lddlflags='-shared -O2 -L/usr/local/lib -fstack-protector'
Characteristics of this binary (from libperl):
Compile-time options: MULTIPLICITY PERL_DONT_CREATE_GVSV
PERL_IMPLICIT_CONTEXT PERL_MALLOC_WRAP USE_ITHREADS
USE_LARGE_FILES USE_LONG_DOUBLE USE_PERLIO
USE_PERL_ATOF USE_REENTRANT_API
Built under linux
Compiled at Dec 14 2010 18:01:10
%ENV:
PERL5LIB=""
PERL5OPT=""
PERL5_CPANPLUS_IS_RUNNING="25290"
PERL5_CPAN_IS_RUNNING="25290"
PERL5_CPAN_IS_RUNNING_IN_RECURSION="3605,25290"
PERL_CR_SMOKER_CURRENT="Net-Twitter-Antispam-0.02"
PERL_EXTUTILS_AUTOINSTALL="--defaultdeps"
PERL_MM_USE_DEFAULT="1"
@INC:
/home/graham/perltest/th_ld_perl5122/perl/lib/site_perl/5.12.2/i686-linux-thread-multi-ld
/home/graham/perltest/th_ld_perl5122/perl/lib/site_perl/5.12.2
/home/graham/perltest/th_ld_perl5122/perl/lib/5.12.2/i686-linux-thread-multi-ld
/home/graham/perltest/th_ld_perl5122/perl/lib/5.12.2
.