Back
From: metabase:user:c850adc2-3891-11e2-b46f-729e63c9e601
Subject: PASS AnyEvent-HTTP-LWP-UserAgent-Determined-v0.05.1.06 v5.8.8 GNU/Linux
Date: 2012-12-01T05:01:06Z
This distribution has been tested as part of the CPAN Testers
project, supporting the Perl programming language. See
http://wiki.cpantesters.org/ for more information or email
questions to cpan-testers-discuss@perl.org
--
Dear Yasutaka ATARASHI,
This is a computer-generated report for AnyEvent-HTTP-LWP-UserAgent-Determined-v0.05.1.06
on perl 5.8.8, created by CPAN-Reporter-1.2006.
Thank you for uploading your work to CPAN. Congratulations!
All tests were successful.
Sections of this report:
* Tester comments
* Program output
* Prerequisites
* Environment and other context
------------------------------
TESTER COMMENTS
------------------------------
Additional comments from tester:
this report is from an automated smoke testing program
and was not reviewed by a human for accuracy
------------------------------
PROGRAM OUTPUT
------------------------------
Output from '/usr/bin/make test':
PERL_DL_NONLAZY=1 /opt/perl-5.8.8/bin/perl "-MExtUtils::Command::MM" "-e" "test_harness(0, 'blib/lib', 'blib/arch')" t/*.t
[21:00:47] t/01_about_verbose.t .......... ok 264 ms
[21:00:54] t/10_determined_test.t ........ ok 6891 ms
[21:01:01] t/11_determined_test_async.t .. ok 6851 ms
[21:01:01] t/author-critic.t ............. skipped: Test::Perl::Critic required to criticise code
[21:01:01] t/release-kwalitee.t .......... skipped: Test::Kwalitee::Extra required for testing kwalitee: Can't locate Test/Kwalitee/Extra.pm in @INC (@INC contains: /root/.cpan/build/AnyEvent-HTTP-LWP-UserAgent-Determined-v0.05.1.06-36omzJ/blib/lib /root/.cpan/build/AnyEvent-HTTP-LWP-UserAgent-Determined-v0.05.1.06-36omzJ/blib/arch /opt/perl-5.8.8/lib/5.8.8/i686-linux-thread-multi-64int-ld /opt/perl-5.8.8/lib/5.8.8 /opt/perl-5.8.8/lib/site_perl/5.8.8/i686-linux-thread-multi-64int-ld /opt/perl-5.8.8/lib/site_perl/5.8.8 /opt/perl-5.8.8/lib/site_perl .) at t/release-kwalitee.t line 16.
[21:01:03] t/release-pod-coverage.t ...... ok 1185 ms
[21:01:03] t/release-pod-syntax.t ........ ok 355 ms
[21:01:03]
All tests successful.
Files=7, Tests=32, 16 wallclock secs ( 0.16 usr 0.04 sys + 2.42 cusr 0.40 csys = 3.02 CPU)
Result: PASS
------------------------------
PREREQUISITES
------------------------------
Prerequisite modules loaded:
requires:
Module Need Have
------------------------------ ---- ----
AnyEvent::HTTP::LWP::UserAgent 0.08 0.08
LWP 0 6.04
LWP::UserAgent::Determined 0 1.06
build_requires:
Module Need Have
------------------------------ ---- ----
HTTP::Server::Simple::CGI 0 0
Test::TCP 0 1.18
configure_requires:
Module Need Have
------------------------------ ---- ----
ExtUtils::MakeMaker 6.30 6.62
------------------------------
ENVIRONMENT AND OTHER CONTEXT
------------------------------
Environment variables:
AUTHOR_TESTING = 1
AUTOMATED_TESTING = 1
LANG = en_US.UTF-8
PATH = /usr/lib/ccache:/usr/lib/qt-3.3/bin:/usr/kerberos/sbin:/usr/kerberos/bin:/usr/local/sbin:/usr/local/bin:/sbin:/bin:/usr/sbin:/usr/bin:/usr/lib/alliance/bin:/root/bin:/usr/lib/alliance/bin
PERL5LIB =
PERL5OPT =
PERL5_CPANPLUS_IS_RUNNING = 30733
PERL5_CPAN_IS_RUNNING = 30733
PERL_ANYEVENT_LOOP_TESTS = 1
PERL_ANYEVENT_NET_TESTS = 1
PERL_MM_USE_DEFAULT = 1
SHELL = /bin/bash
TERM = xterm
Perl special variables (and OS-specific diagnostics, for MSWin32):
$^X = /opt/perl-5.8.8/bin/perl
$UID/$EUID = 0 / 0
$GID = 0 10 6 4 3 2 1 0
$EGID = 0 10 6 4 3 2 1 0
Perl module toolchain versions installed:
Module Have
------------------- --------
CPAN 1.9800
CPAN::Meta 2.120921
Cwd 3.33
ExtUtils::CBuilder 0.280205
ExtUtils::Command 1.17
ExtUtils::Install 1.54
ExtUtils::MakeMaker 6.62
ExtUtils::Manifest 1.61
ExtUtils::ParseXS 3.18
File::Spec 3.33
JSON 2.53
JSON::PP 2.27200
Module::Build 0.4003
Module::Signature n/a
Parse::CPAN::Meta 1.4404
Test::Harness 3.25
Test::More 0.98
YAML 0.84
YAML::Syck 1.21
version 0.9901
--
Summary of my perl5 (revision 5 version 8 subversion 8) configuration:
Platform:
osname=linux, osvers=2.6.22.14-72.fc6debug, archname=i686-linux-thread-multi-64int-ld
uname='linux localhost.localdomain 2.6.22.14-72.fc6debug #1 smp wed nov 21 13:44:17 est 2007 i686 i686 i386 gnulinux '
config_args='-Dcc=gcc -Dprefix=/opt/perl-5.8.8 -DDEBUGGING -DPERL_IMPLICIT_CONTEXT'
hint=recommended, useposix=true, d_sigaction=define
usethreads=define use5005threads=undef useithreads=define usemultiplicity=define
useperlio=define d_sfio=undef uselargefiles=define usesocks=undef
use64bitint=define use64bitall=undef uselongdouble=define
usemymalloc=y, bincompat5005=undef
Compiler:
cc='gcc', ccflags ='-D_REENTRANT -D_GNU_SOURCE -DTHREADS_HAVE_PIDS -fno-strict-aliasing -pipe -Wdeclaration-after-statement -I/usr/local/include -D_LARGEFILE_SOURCE -D_FILE_OFFSET_BITS=64',
optimize='-O2',
cppflags='-D_REENTRANT -D_GNU_SOURCE -DTHREADS_HAVE_PIDS -fno-strict-aliasing -pipe -Wdeclaration-after-statement -I/usr/local/include'
ccversion='', gccversion='4.1.2 20070626 (Red Hat 4.1.2-13)', gccosandvers=''
intsize=4, longsize=4, ptrsize=4, doublesize=8, byteorder=12345678
d_longlong=define, longlongsize=8, d_longdbl=define, longdblsize=12
ivtype='long long', ivsize=8, nvtype='long double', nvsize=12, Off_t='off_t', lseeksize=8
alignbytes=4, prototype=define
Linker and Libraries:
ld='gcc', ldflags =' -L/usr/local/lib'
libpth=/usr/local/lib /lib /usr/lib
libs=-lnsl -ldb -ldl -lm -lcrypt -lutil -lpthread -lc
perllibs=-lnsl -ldl -lm -lcrypt -lutil -lpthread -lc
libc=/lib/libc-2.5.so, so=so, useshrplib=true, libperl=libperl.so
gnulibc_version='2.5'
Dynamic Linking:
dlsrc=dl_dlopen.xs, dlext=so, d_dlsymun=undef, ccdlflags='-Wl,-E -Wl,-rpath,/opt/perl-5.8.8/lib/5.8.8/i686-linux-thread-multi-64int-ld/CORE'
cccdlflags='-fpic', lddlflags='-shared -L/usr/local/lib'
Characteristics of this binary (from libperl):
Compile-time options: MULTIPLICITY MYMALLOC PERL_IMPLICIT_CONTEXT
PERL_MALLOC_WRAP THREADS_HAVE_PIDS USE_64_BIT_INT
USE_ITHREADS USE_LARGE_FILES USE_LONG_DOUBLE
USE_PERLIO USE_REENTRANT_API
Built under linux
Compiled at Nov 28 2012 02:13:26
%ENV:
PERL5LIB=""
PERL5OPT=""
PERL5_CPANPLUS_IS_RUNNING="30733"
PERL5_CPAN_IS_RUNNING="30733"
PERL_ANYEVENT_LOOP_TESTS="1"
PERL_ANYEVENT_NET_TESTS="1"
PERL_MM_USE_DEFAULT="1"
@INC:
/opt/perl-5.8.8/lib/5.8.8/i686-linux-thread-multi-64int-ld
/opt/perl-5.8.8/lib/5.8.8
/opt/perl-5.8.8/lib/site_perl/5.8.8/i686-linux-thread-multi-64int-ld
/opt/perl-5.8.8/lib/site_perl/5.8.8
/opt/perl-5.8.8/lib/site_perl
.