Debug-Client v0.31 Perl 5 v5.27.3 x86_64-linux-ld

Status
Pass
From
Andreas J. König (ANDK)
Dist
Debug-Client v0.31
Platform
Perl 5 v5.27.3 x86_64-linux-ld
Date
2017-09-03 09:34:42
ID
1d561f7c-908b-11e7-9b67-3daed8a57ab1
This distribution has been tested as part of the CPAN Testers
project, supporting the Perl programming language.  See
http://wiki.cpantesters.org/ for more information or email
questions to cpan-testers-discuss@perl.org


--
Dear Mohammad S Anwar,

This is a computer-generated report for Debug-Client-0.31
on perl 5.27.3, created by CPAN-Reporter-1.2018.

Thank you for uploading your work to CPAN.  Congratulations!
All tests were successful.

Sections of this report:

    * Tester comments
    * Program output
    * Prerequisites
    * Environment and other context

------------------------------
TESTER COMMENTS
------------------------------

Additional comments from tester:

this report is from an automated smoke testing program
and was not reviewed by a human for accuracy

------------------------------
PROGRAM OUTPUT
------------------------------

Output from '/usr/bin/make test':

PERL_DL_NONLAZY=1 "/tmp/basesmoker-reloperl-YJ0J/bin/perl" "-MExtUtils::Command::MM" "-MTest::Harness" "-e" "undef *Test::Harness::Switches; test_harness(0, 'inc', 'blib/lib', 'blib/arch')" t/*.t
t/00-check-deps.t ...... ok
# Prerequisite Report:
#    Version Module               
#   -------- ---------------------
#       1.43 Carp                 
#       5.72 Exporter             
#       7.30 ExtUtils::MakeMaker  
#      1.002 File::HomeDir        
#       3.68 File::Spec           
#       3.68 File::Spec::Functions
#     0.2304 File::Temp           
#       0.39 IO::Socket::IP       
#       1.48 List::Util           
#        2.2 PadWalker            
#       1.16 Term::ReadLine       
#       1.35 Term::ReadLine::Gnu  
#      0.010 Test::CheckDeps      
#       0.50 Test::Class          
#      1.127 Test::Deep           
#   1.302086 Test::More           
#       1.51 Test::Pod            
#       1.10 Test::Pod::Coverage  
#       0.10 Test::Requires       
#    missing Win32                
#    missing Win32::Process       
#       1.33 constant             
#      0.236 parent               
#     0.9918 version              
t/00-report-prereqs.t .. ok
# Info: Testing Debug::Client 0.31
# Info: Perl v5.27.3
t/01-compile.t ......... ok
t/02-exports.t ......... ok
t/03-pod.t ............. skipped: Author tests, not required for installation.
t/04-pod-coverage.t .... skipped: Author tests, not required for installation.
# 
# Info: Perl v5.27.3
# Info: OS linux
# Info: Term::ReadLine::Gnu installed
# Info: Using ReadLine implementation -> Term::ReadLine::Gnu
# INFO: $ENV{TERM} -> screen
t/06-term.t ............ ok
t/07-initialize.t ...... ok
t/08-io.t .............. ok
t/10-top_tail.t ........ ok
t/10-top_tail_old.t .... ok
t/11-add.t ............. ok
t/13-return.t .......... ok
t/14-run.t ............. ok
# Info: perl5db version 1.51
t/15-run_to_line.t ..... ok
t/16-run_to_sub.t ...... ok
t/17-stepin.t .......... ok
t/18-stepout.t ......... ok
t/19-stepover.t ........ ok
t/20-get_value.t ....... ok
t/21-toggle_trace.t .... ok
t/22-subnames.t ........ ok
t/23-breakpoints.t ..... ok
t/24-y_zero.t .......... ok
t/25-get_v_vars.t ...... ok
t/26-get_x_vars.t ...... ok
t/27-get_p_exp.t ....... ok
t/28-get_h_var.t ....... ok
# Info: ComamandSet = '580'
t/29-options.t ......... ok
t/40-test_1415-old.t ... ok
t/40-test_1415.t ....... ok
t/99-perldb.t .......... ok
# Prerequisite Report:
#    Version Module               
#   -------- ---------------------
#       1.43 Carp                 
#       5.72 Exporter             
#       7.30 ExtUtils::MakeMaker  
#      1.002 File::HomeDir        
#       3.68 File::Spec           
#       3.68 File::Spec::Functions
#     0.2304 File::Temp           
#       0.39 IO::Socket::IP       
#       1.48 List::Util           
#        2.2 PadWalker            
#       1.16 Term::ReadLine       
#       1.35 Term::ReadLine::Gnu  
#      0.010 Test::CheckDeps      
#       0.50 Test::Class          
#      1.127 Test::Deep           
#   1.302086 Test::More           
#       1.51 Test::Pod            
#       1.10 Test::Pod::Coverage  
#       0.10 Test::Requires       
#    missing Win32                
#    missing Win32::Process       
#       1.33 constant             
#      0.236 parent               
#     0.9918 version              
t/report-prereqs.t ..... ok
All tests successful.
Files=33, Tests=182, 38 wallclock secs ( 0.07 usr  0.17 sys +  2.80 cusr  0.88 csys =  3.92 CPU)
Result: PASS

------------------------------
PREREQUISITES
------------------------------

Prerequisite modules loaded:

requires:

    Module              Need     Have    
    ------------------- -------- --------
    Carp                1.3301   1.43    
    constant            1.27     1.33    
    Exporter            5.70     5.72    
    IO::Socket::IP      0.29     0.39    
    PadWalker           1.98     2.2     
    perl                5.010001 5.027003
    Term::ReadLine      1.14     1.16    
    Term::ReadLine::Gnu 1.20     1.35    

build_requires:

    Module              Need     Have    
    ------------------- -------- --------
    ExtUtils::MakeMaker 6.59     7.30    
    File::HomeDir       1        1.002   
    File::Temp          0.2304   0.2304  
    List::Util          1.38     1.48    
    parent              0.228    0.236   
    Test::CheckDeps     0.01     0.010   
    Test::Class         0.42     0.50    
    Test::Deep          0.112    1.127   
    Test::More          1.001003 1.302086
    Test::Requires      0.07     0.10    
    version             0.9908   0.9918  

configure_requires:

    Module              Need     Have    
    ------------------- -------- --------
    ExtUtils::MakeMaker 6.59     7.30    


------------------------------
ENVIRONMENT AND OTHER CONTEXT
------------------------------

Environment variables:

    AUTOMATED_TESTING = 1
    LANG = en_US.UTF-8
    PATH = /home/sand/bin:/usr/local/bin:/usr/bin:/bin:/usr/games:/usr/local/perl/bin:/usr/X11/bin:/sbin:/usr/sbin
    PERL5LIB = /tmp/loop_over_bdir-27646-sD7Vl7/Net-DNS-1.12-0/blib/arch:/tmp/loop_over_bdir-27646-sD7Vl7/Net-DNS-1.12-0/blib/lib
    PERL5OPT = 
    PERL5_CPANPLUS_IS_RUNNING = 9939
    PERL5_CPAN_IS_RUNNING = 9939
    PERL_CANARY_STABILITY_NOPROMPT = 1
    PERL_MM_USE_DEFAULT = 1
    PERL_USE_UNSAFE_INC = 1
    SHELL = /usr/bin/zsh
    TERM = screen

Perl special variables (and OS-specific diagnostics, for MSWin32):

    $^X = /tmp/basesmoker-reloperl-YJ0J/bin/perl
    $UID/$EUID = 1005 / 1005
    $GID = 1005 1005
    $EGID = 1005 1005

Perl module toolchain versions installed:

    Module              Have    
    ------------------- --------
    CPAN                2.18    
    CPAN::Meta          2.150010
    Cwd                 3.68    
    ExtUtils::CBuilder  0.280228
    ExtUtils::Command   7.30    
    ExtUtils::Install   2.14    
    ExtUtils::MakeMaker 7.30    
    ExtUtils::Manifest  1.70    
    ExtUtils::ParseXS   3.35    
    File::Spec          3.68    
    JSON                2.94    
    JSON::PP            2.94    
    Module::Build       0.4224  
    Module::Signature   0.81    
    Parse::CPAN::Meta   2.150010
    Test::Harness       3.39    
    Test::More          1.302086
    YAML                1.23    
    YAML::Syck          1.30    
    version             0.9918  


--

Summary of my perl5 (revision 5 version 27 subversion 3) configuration:
  Commit id: 7c9c5138c6a704d1caf5908650193f777b81ad23
  Platform:
    osname=linux
    osvers=4.12.0-1-amd64
    archname=x86_64-linux-ld
    uname='linux k93x64sid 4.12.0-1-amd64 #1 smp debian 4.12.6-1 (2017-08-12) x86_64 gnulinux '
    config_args='-Dprefix=/home/sand/src/perl/repoperls/installed-perls/host/k93x64sid/v5.27.3/3bd2 -Dmyhostname=k93x64sid -Dinstallusrbinperl=n -Uversiononly -Dusedevel -des -Ui_db -Dlibswanted=cl pthread socket inet nsl gdbm dbm malloc dl ld sun m crypt sec util c cposix posix ucb BSD gdbm_compat -Uuseithreads -Duselongdouble -DDEBUGGING=-g'
    hint=recommended
    useposix=true
    d_sigaction=define
    useithreads=undef
    usemultiplicity=undef
    use64bitint=define
    use64bitall=define
    uselongdouble=define
    usemymalloc=n
    default_inc_excludes_dot=define
    bincompat5005=undef
  Compiler:
    cc='cc'
    ccflags ='-fwrapv -fno-strict-aliasing -pipe -fstack-protector-strong -I/usr/local/include -D_LARGEFILE_SOURCE -D_FILE_OFFSET_BITS=64 -D_FORTIFY_SOURCE=2'
    optimize='-O2 -g'
    cppflags='-fwrapv -fno-strict-aliasing -pipe -fstack-protector-strong -I/usr/local/include'
    ccversion=''
    gccversion='7.2.0'
    gccosandvers=''
    intsize=4
    longsize=8
    ptrsize=8
    doublesize=8
    byteorder=12345678
    doublekind=3
    d_longlong=define
    longlongsize=8
    d_longdbl=define
    longdblsize=16
    longdblkind=3
    ivtype='long'
    ivsize=8
    nvtype='long double'
    nvsize=16
    Off_t='off_t'
    lseeksize=8
    alignbytes=16
    prototype=define
  Linker and Libraries:
    ld='cc'
    ldflags =' -fstack-protector-strong -L/usr/local/lib'
    libpth=/usr/local/lib /usr/lib/gcc/x86_64-linux-gnu/7/include-fixed /usr/include/x86_64-linux-gnu /usr/lib /lib/x86_64-linux-gnu /lib/../lib /usr/lib/x86_64-linux-gnu /usr/lib/../lib /lib
    libs=-lpthread -lnsl -ldl -lm -lcrypt -lutil -lc
    perllibs=-lpthread -lnsl -ldl -lm -lcrypt -lutil -lc
    libc=libc-2.24.so
    so=so
    useshrplib=false
    libperl=libperl.a
    gnulibc_version='2.24'
  Dynamic Linking:
    dlsrc=dl_dlopen.xs
    dlext=so
    d_dlsymun=undef
    ccdlflags='-Wl,-E'
    cccdlflags='-fPIC'
    lddlflags='-shared -O2 -g -L/usr/local/lib -fstack-protector-strong'


Characteristics of this binary (from libperl): 
  Compile-time options:
    HAS_TIMES
    PERLIO_LAYERS
    PERL_COPY_ON_WRITE
    PERL_DONT_CREATE_GVSV
    PERL_MALLOC_WRAP
    PERL_OP_PARENT
    PERL_PRESERVE_IVUV
    PERL_USE_DEVEL
    USE_64_BIT_ALL
    USE_64_BIT_INT
    USE_LARGE_FILES
    USE_LOCALE
    USE_LOCALE_COLLATE
    USE_LOCALE_CTYPE
    USE_LOCALE_NUMERIC
    USE_LOCALE_TIME
    USE_LONG_DOUBLE
    USE_PERLIO
    USE_PERL_ATOF
  Built under linux
  Compiled at Sep  2 2017 14:45:46
  %ENV:
    PERL5LIB="/tmp/loop_over_bdir-27646-sD7Vl7/Net-DNS-1.12-0/blib/arch:/tmp/loop_over_bdir-27646-sD7Vl7/Net-DNS-1.12-0/blib/lib"
    PERL5OPT=""
    PERL5_CPANPLUS_IS_RUNNING="9939"
    PERL5_CPAN_IS_RUNNING="9939"
    PERL_CANARY_STABILITY_NOPROMPT="1"
    PERL_MM_USE_DEFAULT="1"
    PERL_USE_UNSAFE_INC="1"
  @INC:
    /tmp/loop_over_bdir-27646-sD7Vl7/Net-DNS-1.12-0/blib/arch
    /tmp/loop_over_bdir-27646-sD7Vl7/Net-DNS-1.12-0/blib/lib
    /home/sand/src/perl/repoperls/installed-perls/host/k93x64sid/v5.27.3/3bd2/lib/site_perl/5.27.3/x86_64-linux-ld
    /home/sand/src/perl/repoperls/installed-perls/host/k93x64sid/v5.27.3/3bd2/lib/site_perl/5.27.3
    /home/sand/src/perl/repoperls/installed-perls/host/k93x64sid/v5.27.3/3bd2/lib/5.27.3/x86_64-linux-ld
    /home/sand/src/perl/repoperls/installed-perls/host/k93x64sid/v5.27.3/3bd2/lib/5.27.3
    .