Report for MooseX-Attribute-ValidateWithException-0.2.2

Back
From: metabase:user:838e5b0a-2bb6-1016-a696-43a2537fa0c6
Subject: PASS MooseX-Attribute-ValidateWithException-0.2.2 v5.18.1 
Date: 2013-11-29T15:32:16Z

This distribution has been tested as part of the CPAN Testers
project, supporting the Perl programming language.  See
http://wiki.cpantesters.org/ for more information or email
questions to cpan-testers-discuss@perl.org


--
Dear Kent Fredric,

This is a computer-generated report for MooseX-Attribute-ValidateWithException-0.2.2
on perl 5.18.1, created by CPAN-Reporter-1.2010.

Thank you for uploading your work to CPAN.  Congratulations!
All tests were successful.

Sections of this report:

    * Tester comments
    * Program output
    * Prerequisites
    * Environment and other context

------------------------------
TESTER COMMENTS
------------------------------

Additional comments from tester:

this report is from an automated smoke testing program
and was not reviewed by a human for accuracy

------------------------------
PROGRAM OUTPUT
------------------------------

Output from 'C:\strawberry\perl\bin\perl.exe ./Build test':

t/00-compile.t ................ ok
# 
# 
# Generated by Dist::Zilla::Plugin::ReportVersions::Tiny v1.08
# perl: 5.018001 (wanted 5.006) on MSWin32 from C:\strawberry\perl\bin\perl.exe
# 
# Dist::Zilla::PluginBundle::Author::KENTNL     => module not found. (want v1.7.2) 
# Dist::Zilla::PluginBundle::Author::KENTNL::Lite => module not found. (want v1.3.0) 
# File::Find                                    => 1.23       (want any version)
# File::Temp                                    => 0.2302     (want any version)
# Module::Build                                 => 0.4203     (want 0.4004) 
# Moose                                         => 2.1005     (want 2.0200) 
# Moose::Exporter                               => 2.1005     (want any version)
# Moose::Role                                   => 2.1005     (want any version)
# Pod::Coverage::TrustPod                       => module not found. (want any version)
# Test::CPAN::Meta                              => module not found. (want any version)
# Test::Fatal                                   => 0.013      (want any version)
# Test::More                                    => 0.98       (want 0.98)   
# Test::Pod                                     => module not found. (want 1.41)   
# Test::Pod::Coverage                           => module not found. (want 1.08)   
# Throwable::Error                              => 0.200009   (want any version)
# strict                                        => 1.07       (want any version)
# version                                       => 0.9904     (want 0.9901) 
# warnings                                      => 1.18       (want any version)
# 
# Thanks for using my code.  I hope it works for you.
# If not, please try and include this output in the bug report.
# That will help me reproduce the issue and solve your problem.
# 
t/000-report-versions-tiny.t .. ok
t/01-basic.t .................. ok
All tests successful.
Files=3, Tests=5,  5 wallclock secs ( 0.08 usr +  0.03 sys =  0.11 CPU)
Result: PASS

------------------------------
PREREQUISITES
------------------------------

Prerequisite modules loaded:

requires:

    Module           Need   Have    
    ---------------- ------ --------
    Moose            2.0200 2.1005  
    Moose::Exporter  0      2.1005  
    Moose::Role      0      2.1005  
    perl             5.006  5.018001
    strict           0      1.07    
    Throwable::Error 0      0.200009
    warnings         0      1.18    

build_requires:

    Module           Need   Have    
    ---------------- ------ --------
    File::Find       0      1.23    
    File::Temp       0      0.2302  
    Module::Build    0.4004 0.4203  
    Test::Fatal      0      0.013   
    Test::More       0.98   0.98    

configure_requires:

    Module           Need   Have    
    ---------------- ------ --------
    Module::Build    0.4004 0.4203  


------------------------------
ENVIRONMENT AND OTHER CONTEXT
------------------------------

Environment variables:

    AUTOMATED_TESTING = 1
    COMSPEC = C:\Windows\system32\cmd.exe
    LD_LIBRARY_PATH = /usr/lib/x86:/usr/X11R6/lib
    NUMBER_OF_PROCESSORS = 8
    PATH = C:\Windows\system32;C:\Windows;C:\Windows\System32\Wbem;C:\Windows\System32\WindowsPowerShell\v1.0\;C:\Program Files (x86)\Dell\SysMgt\RAC5;C:\Program Files (x86)\Dell\SysMgt\oma\bin;C:\RV\BIN;C:\Program Files (x86)\GnuWin32\bin;C:\Windows\System32\Windows System Resource Manager\bin;C:\Windows\SUA\common\;C:\Windows\SUA\usr\lib\;C:\strawberry\c\bin;C:\strawberry\perl\site\bin;C:\strawberry\perl\bin
    PERL5LIB = C:\strawberry\cpan\build\Throwable-0.200009-EYYj3t/blib/arch;C:\strawberry\cpan\build\Throwable-0.200009-EYYj3t/blib/lib;C:\strawberry\cpan\build\MooX-Types-MooseLike-0.25-t1Wk9V/blib/arch;C:\strawberry\cpan\build\MooX-Types-MooseLike-0.25-t1Wk9V/blib/lib;C:\strawberry\cpan\build\Devel-StackTrace-1.30-wnnRx9/blib/arch;C:\strawberry\cpan\build\Devel-StackTrace-1.30-wnnRx9/blib/lib;C:\strawberry\cpan\build\Module-Build-0.4203-_nrMX1/blib/arch;C:\strawberry\cpan\build\Module-Build-0.4203-_nrMX1/blib/lib
    PERL5OPT = 
    PERL5_CPANPLUS_IS_RUNNING = 12356
    PERL5_CPAN_IS_RUNNING = 12356
    PERL5_CPAN_IS_RUNNING_IN_RECURSION = 6548,12356
    PERL_CR_SMOKER_CURRENT = MooseX-TypeArray-0.2.0-TRIAL
    PERL_EXTUTILS_AUTOINSTALL = --defaultdeps
    PERL_JSON_BACKEND = JSON::XS
    PERL_MM_USE_DEFAULT = 1
    PERL_YAML_BACKEND = YAML
    PROCESSOR_IDENTIFIER = Intel64 Family 6 Model 23 Stepping 10, GenuineIntel
    TEMP = C:\Users\SOLIMA~1\AppData\Local\Temp
    TERM = dumb

Perl special variables (and OS-specific diagnostics, for MSWin32):

    $^X = C:\strawberry\perl\bin\perl.exe
    $UID/$EUID = 0 / 0
    $GID = 0
    $EGID = 0
    Win32::GetOSName = Win2008
    Win32::GetOSVersion = , 6, 1, 7600, 2, 0, 0, 272, 3
    Win32::FsType = NTFS
    Win32::IsAdminUser = 1

Perl module toolchain versions installed:

    Module              Have    
    ------------------- --------
    CPAN                2.00    
    CPAN::Meta          2.132661
    Cwd                 3.40    
    ExtUtils::CBuilder  0.280212
    ExtUtils::Command   1.18    
    ExtUtils::Install   1.59    
    ExtUtils::MakeMaker 6.78    
    ExtUtils::Manifest  1.63    
    ExtUtils::ParseXS   3.22    
    File::Spec          3.40    
    JSON                2.59    
    JSON::PP            2.27202 
    Module::Build       0.4203  
    Module::Signature   n/a     
    Parse::CPAN::Meta   1.4409  
    Test::Harness       3.28    
    Test::More          0.98    
    YAML                0.84    
    YAML::Syck          n/a     
    version             0.9904  


--

Summary of my perl5 (revision 5 version 18 subversion 1) configuration:
   
  Platform:
    osname=MSWin32, osvers=4.0, archname=MSWin32-x64-multi-thread
    uname='Win32 strawberry-perl 5.18.1.1 #1 Tue Aug 13 17:18:28 2013 x64'
    config_args='undef'
    hint=recommended, useposix=true, d_sigaction=undef
    useithreads=define, usemultiplicity=define
    useperlio=define, d_sfio=undef, uselargefiles=define, usesocks=undef
    use64bitint=define, use64bitall=undef, uselongdouble=undef
    usemymalloc=n, bincompat5005=undef
  Compiler:
    cc='gcc', ccflags =' -s -O2 -DWIN32 -DWIN64 -DCONSERVATIVE  -DPERL_TEXTMODE_SCRIPTS -DPERL_IMPLICIT_CONTEXT -DPERL_IMPLICIT_SYS -DUSE_PERLIO -fno-strict-aliasing -mms-bitfields',
    optimize='-s -O2',
    cppflags='-DWIN32'
    ccversion='', gccversion='4.7.3', gccosandvers=''
    intsize=4, longsize=4, ptrsize=8, doublesize=8, byteorder=12345678
    d_longlong=define, longlongsize=8, d_longdbl=define, longdblsize=12
    ivtype='long long', ivsize=8, nvtype='double', nvsize=8, Off_t='long long', lseeksize=8
    alignbytes=8, prototype=define
  Linker and Libraries:
    ld='g++', ldflags ='-s -L"C:\strawberry\perl\lib\CORE" -L"C:\strawberry\c\lib"'
    libpth=C:\strawberry\c\lib C:\strawberry\c\x86_64-w64-mingw32\lib
    libs=-lmoldname -lkernel32 -luser32 -lgdi32 -lwinspool -lcomdlg32 -ladvapi32 -lshell32 -lole32 -loleaut32 -lnetapi32 -luuid -lws2_32 -lmpr -lwinmm -lversion -lodbc32 -lodbccp32 -lcomctl32
    perllibs=-lmoldname -lkernel32 -luser32 -lgdi32 -lwinspool -lcomdlg32 -ladvapi32 -lshell32 -lole32 -loleaut32 -lnetapi32 -luuid -lws2_32 -lmpr -lwinmm -lversion -lodbc32 -lodbccp32 -lcomctl32
    libc=, so=dll, useshrplib=true, libperl=libperl518.a
    gnulibc_version=''
  Dynamic Linking:
    dlsrc=dl_win32.xs, dlext=dll, d_dlsymun=undef, ccdlflags=' '
    cccdlflags=' ', lddlflags='-mdll -s -L"C:\strawberry\perl\lib\CORE" -L"C:\strawberry\c\lib"'


Characteristics of this binary (from libperl): 
  Compile-time options: HAS_TIMES HAVE_INTERP_INTERN MULTIPLICITY
                        PERLIO_LAYERS PERL_DONT_CREATE_GVSV
                        PERL_HASH_FUNC_ONE_AT_A_TIME_HARD
                        PERL_IMPLICIT_CONTEXT PERL_IMPLICIT_SYS
                        PERL_MALLOC_WRAP PERL_PRESERVE_IVUV PERL_SAWAMPERSAND
                        USE_64_BIT_INT USE_ITHREADS USE_LARGE_FILES
                        USE_LOCALE USE_LOCALE_COLLATE USE_LOCALE_CTYPE
                        USE_LOCALE_NUMERIC USE_PERLIO USE_PERL_ATOF
  Built under MSWin32
  Compiled at Aug 13 2013 17:23:34
  %ENV:
    PERL5LIB="C:\strawberry\cpan\build\Throwable-0.200009-EYYj3t/blib/arch;C:\strawberry\cpan\build\Throwable-0.200009-EYYj3t/blib/lib;C:\strawberry\cpan\build\MooX-Types-MooseLike-0.25-t1Wk9V/blib/arch;C:\strawberry\cpan\build\MooX-Types-MooseLike-0.25-t1Wk9V/blib/lib;C:\strawberry\cpan\build\Devel-StackTrace-1.30-wnnRx9/blib/arch;C:\strawberry\cpan\build\Devel-StackTrace-1.30-wnnRx9/blib/lib;C:\strawberry\cpan\build\Module-Build-0.4203-_nrMX1/blib/arch;C:\strawberry\cpan\build\Module-Build-0.4203-_nrMX1/blib/lib"
    PERL5_CPANPLUS_IS_RUNNING="12356"
    PERL5_CPAN_IS_RUNNING="12356"
    PERL5_CPAN_IS_RUNNING_IN_RECURSION="6548,12356"
    PERL_CR_SMOKER_CURRENT="MooseX-TypeArray-0.2.0-TRIAL"
    PERL_EXTUTILS_AUTOINSTALL="--defaultdeps"
    PERL_JSON_BACKEND="JSON::XS"
    PERL_MM_USE_DEFAULT="1"
    PERL_YAML_BACKEND="YAML"
  @INC:
    C:\strawberry\cpan\build\Throwable-0.200009-EYYj3t/blib/arch
    C:\strawberry\cpan\build\Throwable-0.200009-EYYj3t/blib/lib
    C:\strawberry\cpan\build\MooX-Types-MooseLike-0.25-t1Wk9V/blib/arch
    C:\strawberry\cpan\build\MooX-Types-MooseLike-0.25-t1Wk9V/blib/lib
    C:\strawberry\cpan\build\Devel-StackTrace-1.30-wnnRx9/blib/arch
    C:\strawberry\cpan\build\Devel-StackTrace-1.30-wnnRx9/blib/lib
    C:\strawberry\cpan\build\Module-Build-0.4203-_nrMX1/blib/arch
    C:\strawberry\cpan\build\Module-Build-0.4203-_nrMX1/blib/lib
    C:/strawberry/perl/site/lib
    C:/strawberry/perl/vendor/lib
    C:/strawberry/perl/lib
    .