Data-Hopen v0.000021 Perl 5 v5.30.1 i686-linux-ld

Status
Pass
From
Chris Williams (BINGOS)
Dist
Data-Hopen v0.000021
Platform
Perl 5 v5.30.1 i686-linux-ld
Date
2024-11-28 16:37:53
ID
1d73a9c0-ada7-11ef-98b0-b3c3213a625c
This distribution has been tested as part of the CPAN Testers
project, supporting the Perl programming language.  See
http://wiki.cpantesters.org/ for more information or email
questions to cpan-testers-discuss@perl.org


--

Dear Christopher White,

This is a computer-generated error report created automatically by
CPANPLUS, version 0.9914. Testers personal comments may appear
at the end of this report.


Thank you for uploading your work to CPAN.  Congratulations!
All tests were successful.

TEST RESULTS:

Below is the error stack from stage 'make test':

# Testing Data::Hopen 0.000021, Perl 5.030001, /home/cpan/pit/bare-ld/perl-5.30.1/bin/perl
t/00-load.t .................... ok
t/000-class.t .................. ok
t/001-entity.t ................. ok
t/002-link.t ................... ok
t/003-node.t ................... ok
t/004-goal.t ................... ok
t/007-hnew.t ................... ok
t/008-nameset.t ................ ok
t/009-hopen-constants.t ........ ok
# t/009-scope.t: DUT is Data::Hopen::Scope::Hash
t/009-scope.t .................. ok
# t/010-scope-hash.t: DUT is Data::Hopen::Scope::Hash
t/010-scope-hash.t ............. ok
t/011-scope-env.t .............. ok
t/012-scope-nested.t ........... ok
t/030-ordered_pred.t ........... ok
t/050-runnable.t ............... ok
t/100-op.t ..................... ok
t/101-collect-op.t ............. ok
# Testing Data::Hopen::G::DAG from /home/cpan/pit/bare-ld/conf/perl-5.30.1/.cpanplus/5.30.1/build/WPGSIiP9nb/Data-Hopen-0.000021/blib/lib/Data/Hopen/G/DAG.pm
# Data::Hopen::G::DAG bar adding $VAR1 = bless( {
#   'name' => 'some operation'
# }, 'Data::Hopen::G::NoOp' ); (at /home/cpan/pit/bare-ld/conf/perl-5.30.1/.cpanplus/5.30.1/build/WPGSIiP9nb/Data-Hopen-0.000021/blib/lib/Data/Hopen/G/DAG.pm:422)
# DAG::connect(): Edge from Data::Hopen::G::NoOp=HASH(0x165a8c0) via (no link) to some goal
t/120-dag.t .................... ok
t/121-dag-single-goal.t ........ ok
t/122-dag-visitor.t ............ ok
# "Last item in order isn't _final!" warnings are OK in this test.
t/123-dag-warnings.t ........... ok
# DAG::connect(): Edge from op1 via (no link) to all (at /home/cpan/pit/bare-ld/conf/perl-5.30.1/.cpanplus/5.30.1/build/WPGSIiP9nb/Data-Hopen-0.000021/blib/lib/Data/Hopen/G/DAG.pm:391)
# DAG::connect(): Edge from op2 via (no link) to all (at /home/cpan/pit/bare-ld/conf/perl-5.30.1/.cpanplus/5.30.1/build/WPGSIiP9nb/Data-Hopen-0.000021/blib/lib/Data/Hopen/G/DAG.pm:391)
# -> Data::Hopen::G::DAG dag input $VAR1 = {
#   'bar' => 'Bar',
#   'foo' => 42
# }; (at /home/cpan/pit/bare-ld/conf/perl-5.30.1/.cpanplus/5.30.1/build/WPGSIiP9nb/Data-Hopen-0.000021/blib/lib/Data/Hopen/G/Runnable.pm:112)
# Traversing DAG dag ********************************************************** (at /home/cpan/pit/bare-ld/conf/perl-5.30.1/.cpanplus/5.30.1/build/WPGSIiP9nb/Data-Hopen-0.000021/blib/lib/Data/Hopen/G/DAG.pm:201)
# -> Data::Hopen::G::OutputOp op2 input $VAR1 = {
#   'foo' => 42,
#   'bar' => 'Bar'
# }; (at /home/cpan/pit/bare-ld/conf/perl-5.30.1/.cpanplus/5.30.1/build/WPGSIiP9nb/Data-Hopen-0.000021/blib/lib/Data/Hopen/G/Runnable.pm:112)
# <- Data::Hopen::G::OutputOp op2 output $VAR1 = {
#   'foo' => 1337
# }; (at /home/cpan/pit/bare-ld/conf/perl-5.30.1/.cpanplus/5.30.1/build/WPGSIiP9nb/Data-Hopen-0.000021/blib/lib/Data/Hopen/G/Runnable.pm:119)
# Finished node op2 with outputs $VAR1 = {
#   'foo' => 1337
# }; (at /home/cpan/pit/bare-ld/conf/perl-5.30.1/.cpanplus/5.30.1/build/WPGSIiP9nb/Data-Hopen-0.000021/blib/lib/Data/Hopen/G/DAG.pm:300)
# -> Data::Hopen::G::CollectOp op1 input $VAR1 = {
#   'foo' => 42,
#   'bar' => 'Bar'
# }; (at /home/cpan/pit/bare-ld/conf/perl-5.30.1/.cpanplus/5.30.1/build/WPGSIiP9nb/Data-Hopen-0.000021/blib/lib/Data/Hopen/G/Runnable.pm:112)
# <- Data::Hopen::G::CollectOp op1 output $VAR1 = {
#   'foo' => 42,
#   'bar' => 'Bar'
# }; (at /home/cpan/pit/bare-ld/conf/perl-5.30.1/.cpanplus/5.30.1/build/WPGSIiP9nb/Data-Hopen-0.000021/blib/lib/Data/Hopen/G/Runnable.pm:119)
# Finished node op1 with outputs $VAR1 = {
#   'foo' => 42,
#   'bar' => 'Bar'
# }; (at /home/cpan/pit/bare-ld/conf/perl-5.30.1/.cpanplus/5.30.1/build/WPGSIiP9nb/Data-Hopen-0.000021/blib/lib/Data/Hopen/G/DAG.pm:300)
# From op1 to all (at /home/cpan/pit/bare-ld/conf/perl-5.30.1/.cpanplus/5.30.1/build/WPGSIiP9nb/Data-Hopen-0.000021/blib/lib/Data/Hopen/G/DAG.pm:225)
#   -- no links (at /home/cpan/pit/bare-ld/conf/perl-5.30.1/.cpanplus/5.30.1/build/WPGSIiP9nb/Data-Hopen-0.000021/blib/lib/Data/Hopen/G/DAG.pm:238)
# From op2 to all (at /home/cpan/pit/bare-ld/conf/perl-5.30.1/.cpanplus/5.30.1/build/WPGSIiP9nb/Data-Hopen-0.000021/blib/lib/Data/Hopen/G/DAG.pm:225)
#   -- no links (at /home/cpan/pit/bare-ld/conf/perl-5.30.1/.cpanplus/5.30.1/build/WPGSIiP9nb/Data-Hopen-0.000021/blib/lib/Data/Hopen/G/DAG.pm:238)
# -> Data::Hopen::G::Goal all input $VAR1 = {
#   'foo' => [
#     42,
#     1337
#   ],
#   'bar' => 'Bar'
# }; (at /home/cpan/pit/bare-ld/conf/perl-5.30.1/.cpanplus/5.30.1/build/WPGSIiP9nb/Data-Hopen-0.000021/blib/lib/Data/Hopen/G/Runnable.pm:112)
# Goal all with outputs (at /home/cpan/pit/bare-ld/conf/perl-5.30.1/.cpanplus/5.30.1/build/WPGSIiP9nb/Data-Hopen-0.000021/blib/lib/Data/Hopen/G/Goal.pm:50)
# <- Data::Hopen::G::Goal all output $VAR1 = {
#   'bar' => 'Bar',
#   'foo' => [
#     42,
#     1337
#   ]
# }; (at /home/cpan/pit/bare-ld/conf/perl-5.30.1/.cpanplus/5.30.1/build/WPGSIiP9nb/Data-Hopen-0.000021/blib/lib/Data/Hopen/G/Runnable.pm:119)
# Finished node all with outputs $VAR1 = {
#   'bar' => 'Bar',
#   'foo' => [
#     42,
#     1337
#   ]
# }; (at /home/cpan/pit/bare-ld/conf/perl-5.30.1/.cpanplus/5.30.1/build/WPGSIiP9nb/Data-Hopen-0.000021/blib/lib/Data/Hopen/G/DAG.pm:300)
# <- Data::Hopen::G::DAG dag output $VAR1 = {
#   'all' => {
#     'bar' => 'Bar',
#     'foo' => [
#       42,
#       1337
#     ]
#   }
# }; (at /home/cpan/pit/bare-ld/conf/perl-5.30.1/.cpanplus/5.30.1/build/WPGSIiP9nb/Data-Hopen-0.000021/blib/lib/Data/Hopen/G/Runnable.pm:119)
# -> Data::Hopen::G::DAG dag input $VAR1 = {
#   'bar' => 'Bar',
#   'foo' => 42
# }; (at /home/cpan/pit/bare-ld/conf/perl-5.30.1/.cpanplus/5.30.1/build/WPGSIiP9nb/Data-Hopen-0.000021/blib/lib/Data/Hopen/G/Runnable.pm:112)
# Traversing DAG dag ********************************************************** (at /home/cpan/pit/bare-ld/conf/perl-5.30.1/.cpanplus/5.30.1/build/WPGSIiP9nb/Data-Hopen-0.000021/blib/lib/Data/Hopen/G/DAG.pm:201)
# -> Data::Hopen::G::CollectOp op1 input $VAR1 = {
#   'foo' => 42,
#   'bar' => 'Bar'
# }; (at /home/cpan/pit/bare-ld/conf/perl-5.30.1/.cpanplus/5.30.1/build/WPGSIiP9nb/Data-Hopen-0.000021/blib/lib/Data/Hopen/G/Runnable.pm:112)
# <- Data::Hopen::G::CollectOp op1 output $VAR1 = {
#   'foo' => 42,
#   'bar' => 'Bar'
# }; (at /home/cpan/pit/bare-ld/conf/perl-5.30.1/.cpanplus/5.30.1/build/WPGSIiP9nb/Data-Hopen-0.000021/blib/lib/Data/Hopen/G/Runnable.pm:119)
# Finished node op1 with outputs $VAR1 = {
#   'foo' => 42,
#   'bar' => 'Bar'
# }; (at /home/cpan/pit/bare-ld/conf/perl-5.30.1/.cpanplus/5.30.1/build/WPGSIiP9nb/Data-Hopen-0.000021/blib/lib/Data/Hopen/G/DAG.pm:300)
# -> Data::Hopen::G::OutputOp op2 input $VAR1 = {
#   'foo' => 42,
#   'bar' => 'Bar'
# }; (at /home/cpan/pit/bare-ld/conf/perl-5.30.1/.cpanplus/5.30.1/build/WPGSIiP9nb/Data-Hopen-0.000021/blib/lib/Data/Hopen/G/Runnable.pm:112)
# <- Data::Hopen::G::OutputOp op2 output $VAR1 = {
#   'foo' => 1337
# }; (at /home/cpan/pit/bare-ld/conf/perl-5.30.1/.cpanplus/5.30.1/build/WPGSIiP9nb/Data-Hopen-0.000021/blib/lib/Data/Hopen/G/Runnable.pm:119)
# Finished node op2 with outputs $VAR1 = {
#   'foo' => 1337
# }; (at /home/cpan/pit/bare-ld/conf/perl-5.30.1/.cpanplus/5.30.1/build/WPGSIiP9nb/Data-Hopen-0.000021/blib/lib/Data/Hopen/G/DAG.pm:300)
# From op1 to all (at /home/cpan/pit/bare-ld/conf/perl-5.30.1/.cpanplus/5.30.1/build/WPGSIiP9nb/Data-Hopen-0.000021/blib/lib/Data/Hopen/G/DAG.pm:225)
#   -- no links (at /home/cpan/pit/bare-ld/conf/perl-5.30.1/.cpanplus/5.30.1/build/WPGSIiP9nb/Data-Hopen-0.000021/blib/lib/Data/Hopen/G/DAG.pm:238)
# From op2 to all (at /home/cpan/pit/bare-ld/conf/perl-5.30.1/.cpanplus/5.30.1/build/WPGSIiP9nb/Data-Hopen-0.000021/blib/lib/Data/Hopen/G/DAG.pm:225)
#   -- no links (at /home/cpan/pit/bare-ld/conf/perl-5.30.1/.cpanplus/5.30.1/build/WPGSIiP9nb/Data-Hopen-0.000021/blib/lib/Data/Hopen/G/DAG.pm:238)
# -> Data::Hopen::G::Goal all input $VAR1 = {
#   'foo' => [
#     42,
#     1337
#   ],
#   'bar' => 'Bar'
# }; (at /home/cpan/pit/bare-ld/conf/perl-5.30.1/.cpanplus/5.30.1/build/WPGSIiP9nb/Data-Hopen-0.000021/blib/lib/Data/Hopen/G/Runnable.pm:112)
# Goal all with outputs (at /home/cpan/pit/bare-ld/conf/perl-5.30.1/.cpanplus/5.30.1/build/WPGSIiP9nb/Data-Hopen-0.000021/blib/lib/Data/Hopen/G/Goal.pm:50)
# <- Data::Hopen::G::Goal all output $VAR1 = {
#   'foo' => [
#     42,
#     1337
#   ],
#   'bar' => 'Bar'
# }; (at /home/cpan/pit/bare-ld/conf/perl-5.30.1/.cpanplus/5.30.1/build/WPGSIiP9nb/Data-Hopen-0.000021/blib/lib/Data/Hopen/G/Runnable.pm:119)
# Finished node all with outputs $VAR1 = {
#   'foo' => [
#     42,
#     1337
#   ],
#   'bar' => 'Bar'
# }; (at /home/cpan/pit/bare-ld/conf/perl-5.30.1/.cpanplus/5.30.1/build/WPGSIiP9nb/Data-Hopen-0.000021/blib/lib/Data/Hopen/G/DAG.pm:300)
# <- Data::Hopen::G::DAG dag output $VAR1 = {
#   'all' => {
#     'foo' => [
#       42,
#       1337
#     ],
#     'bar' => 'Bar'
#   }
# }; (at /home/cpan/pit/bare-ld/conf/perl-5.30.1/.cpanplus/5.30.1/build/WPGSIiP9nb/Data-Hopen-0.000021/blib/lib/Data/Hopen/G/Runnable.pm:119)
# -> Data::Hopen::G::DAG dag input $VAR1 = {
#   'bar' => 'Bar',
#   'foo' => 42
# }; (at /home/cpan/pit/bare-ld/conf/perl-5.30.1/.cpanplus/5.30.1/build/WPGSIiP9nb/Data-Hopen-0.000021/blib/lib/Data/Hopen/G/Runnable.pm:112)
# Traversing DAG dag ********************************************************** (at /home/cpan/pit/bare-ld/conf/perl-5.30.1/.cpanplus/5.30.1/build/WPGSIiP9nb/Data-Hopen-0.000021/blib/lib/Data/Hopen/G/DAG.pm:201)
# -> Data::Hopen::G::OutputOp op2 input $VAR1 = {
#   'foo' => 42,
#   'bar' => 'Bar'
# }; (at /home/cpan/pit/bare-ld/conf/perl-5.30.1/.cpanplus/5.30.1/build/WPGSIiP9nb/Data-Hopen-0.000021/blib/lib/Data/Hopen/G/Runnable.pm:112)
# <- Data::Hopen::G::OutputOp op2 output $VAR1 = {
#   'foo' => 1337
# }; (at /home/cpan/pit/bare-ld/conf/perl-5.30.1/.cpanplus/5.30.1/build/WPGSIiP9nb/Data-Hopen-0.000021/blib/lib/Data/Hopen/G/Runnable.pm:119)
# Finished node op2 with outputs $VAR1 = {
#   'foo' => 1337
# }; (at /home/cpan/pit/bare-ld/conf/perl-5.30.1/.cpanplus/5.30.1/build/WPGSIiP9nb/Data-Hopen-0.000021/blib/lib/Data/Hopen/G/DAG.pm:300)
# -> Data::Hopen::G::CollectOp op1 input $VAR1 = {
#   'bar' => 'Bar',
#   'foo' => 42
# }; (at /home/cpan/pit/bare-ld/conf/perl-5.30.1/.cpanplus/5.30.1/build/WPGSIiP9nb/Data-Hopen-0.000021/blib/lib/Data/Hopen/G/Runnable.pm:112)
# <- Data::Hopen::G::CollectOp op1 output $VAR1 = {
#   'bar' => 'Bar',
#   'foo' => 42
# }; (at /home/cpan/pit/bare-ld/conf/perl-5.30.1/.cpanplus/5.30.1/build/WPGSIiP9nb/Data-Hopen-0.000021/blib/lib/Data/Hopen/G/Runnable.pm:119)
# Finished node op1 with outputs $VAR1 = {
#   'bar' => 'Bar',
#   'foo' => 42
# }; (at /home/cpan/pit/bare-ld/conf/perl-5.30.1/.cpanplus/5.30.1/build/WPGSIiP9nb/Data-Hopen-0.000021/blib/lib/Data/Hopen/G/DAG.pm:300)
# From op1 to all (at /home/cpan/pit/bare-ld/conf/perl-5.30.1/.cpanplus/5.30.1/build/WPGSIiP9nb/Data-Hopen-0.000021/blib/lib/Data/Hopen/G/DAG.pm:225)
#   -- no links (at /home/cpan/pit/bare-ld/conf/perl-5.30.1/.cpanplus/5.30.1/build/WPGSIiP9nb/Data-Hopen-0.000021/blib/lib/Data/Hopen/G/DAG.pm:238)
# From op2 to all (at /home/cpan/pit/bare-ld/conf/perl-5.30.1/.cpanplus/5.30.1/build/WPGSIiP9nb/Data-Hopen-0.000021/blib/lib/Data/Hopen/G/DAG.pm:225)
#   -- no links (at /home/cpan/pit/bare-ld/conf/perl-5.30.1/.cpanplus/5.30.1/build/WPGSIiP9nb/Data-Hopen-0.000021/blib/lib/Data/Hopen/G/DAG.pm:238)
# -> Data::Hopen::G::Goal all input $VAR1 = {
#   'bar' => 'Bar',
#   'foo' => [
#     42,
#     1337
#   ]
# }; (at /home/cpan/pit/bare-ld/conf/perl-5.30.1/.cpanplus/5.30.1/build/WPGSIiP9nb/Data-Hopen-0.000021/blib/lib/Data/Hopen/G/Runnable.pm:112)
# Goal all with outputs (at /home/cpan/pit/bare-ld/conf/perl-5.30.1/.cpanplus/5.30.1/build/WPGSIiP9nb/Data-Hopen-0.000021/blib/lib/Data/Hopen/G/Goal.pm:50)
# <- Data::Hopen::G::Goal all output $VAR1 = {
#   'foo' => [
#     42,
#     1337
#   ],
#   'bar' => 'Bar'
# }; (at /home/cpan/pit/bare-ld/conf/perl-5.30.1/.cpanplus/5.30.1/build/WPGSIiP9nb/Data-Hopen-0.000021/blib/lib/Data/Hopen/G/Runnable.pm:119)
# Finished node all with outputs $VAR1 = {
#   'foo' => [
#     42,
#     1337
#   ],
#   'bar' => 'Bar'
# }; (at /home/cpan/pit/bare-ld/conf/perl-5.30.1/.cpanplus/5.30.1/build/WPGSIiP9nb/Data-Hopen-0.000021/blib/lib/Data/Hopen/G/DAG.pm:300)
# <- Data::Hopen::G::DAG dag output $VAR1 = {
#   'all' => {
#     'foo' => [
#       42,
#       1337
#     ],
#     'bar' => 'Bar'
#   }
# }; (at /home/cpan/pit/bare-ld/conf/perl-5.30.1/.cpanplus/5.30.1/build/WPGSIiP9nb/Data-Hopen-0.000021/blib/lib/Data/Hopen/G/Runnable.pm:119)
# -> Data::Hopen::G::DAG dag input $VAR1 = {
#   'bar' => 'Bar',
#   'foo' => 42
# }; (at /home/cpan/pit/bare-ld/conf/perl-5.30.1/.cpanplus/5.30.1/build/WPGSIiP9nb/Data-Hopen-0.000021/blib/lib/Data/Hopen/G/Runnable.pm:112)
# Traversing DAG dag ********************************************************** (at /home/cpan/pit/bare-ld/conf/perl-5.30.1/.cpanplus/5.30.1/build/WPGSIiP9nb/Data-Hopen-0.000021/blib/lib/Data/Hopen/G/DAG.pm:201)
# -> Data::Hopen::G::CollectOp op1 input $VAR1 = {
#   'bar' => 'Bar',
#   'foo' => 42
# }; (at /home/cpan/pit/bare-ld/conf/perl-5.30.1/.cpanplus/5.30.1/build/WPGSIiP9nb/Data-Hopen-0.000021/blib/lib/Data/Hopen/G/Runnable.pm:112)
# <- Data::Hopen::G::CollectOp op1 output $VAR1 = {
#   'bar' => 'Bar',
#   'foo' => 42
# }; (at /home/cpan/pit/bare-ld/conf/perl-5.30.1/.cpanplus/5.30.1/build/WPGSIiP9nb/Data-Hopen-0.000021/blib/lib/Data/Hopen/G/Runnable.pm:119)
# Finished node op1 with outputs $VAR1 = {
#   'bar' => 'Bar',
#   'foo' => 42
# }; (at /home/cpan/pit/bare-ld/conf/perl-5.30.1/.cpanplus/5.30.1/build/WPGSIiP9nb/Data-Hopen-0.000021/blib/lib/Data/Hopen/G/DAG.pm:300)
# -> Data::Hopen::G::OutputOp op2 input $VAR1 = {
#   'foo' => 42,
#   'bar' => 'Bar'
# }; (at /home/cpan/pit/bare-ld/conf/perl-5.30.1/.cpanplus/5.30.1/build/WPGSIiP9nb/Data-Hopen-0.000021/blib/lib/Data/Hopen/G/Runnable.pm:112)
# <- Data::Hopen::G::OutputOp op2 output $VAR1 = {
#   'foo' => 1337
# }; (at /home/cpan/pit/bare-ld/conf/perl-5.30.1/.cpanplus/5.30.1/build/WPGSIiP9nb/Data-Hopen-0.000021/blib/lib/Data/Hopen/G/Runnable.pm:119)
# Finished node op2 with outputs $VAR1 = {
#   'foo' => 1337
# }; (at /home/cpan/pit/bare-ld/conf/perl-5.30.1/.cpanplus/5.30.1/build/WPGSIiP9nb/Data-Hopen-0.000021/blib/lib/Data/Hopen/G/DAG.pm:300)
# From op1 to all (at /home/cpan/pit/bare-ld/conf/perl-5.30.1/.cpanplus/5.30.1/build/WPGSIiP9nb/Data-Hopen-0.000021/blib/lib/Data/Hopen/G/DAG.pm:225)
#   -- no links (at /home/cpan/pit/bare-ld/conf/perl-5.30.1/.cpanplus/5.30.1/build/WPGSIiP9nb/Data-Hopen-0.000021/blib/lib/Data/Hopen/G/DAG.pm:238)
# From op2 to all (at /home/cpan/pit/bare-ld/conf/perl-5.30.1/.cpanplus/5.30.1/build/WPGSIiP9nb/Data-Hopen-0.000021/blib/lib/Data/Hopen/G/DAG.pm:225)
#   -- no links (at /home/cpan/pit/bare-ld/conf/perl-5.30.1/.cpanplus/5.30.1/build/WPGSIiP9nb/Data-Hopen-0.000021/blib/lib/Data/Hopen/G/DAG.pm:238)
# -> Data::Hopen::G::Goal all input $VAR1 = {
#   'foo' => 42,
#   'bar' => 'Bar'
# }; (at /home/cpan/pit/bare-ld/conf/perl-5.30.1/.cpanplus/5.30.1/build/WPGSIiP9nb/Data-Hopen-0.000021/blib/lib/Data/Hopen/G/Runnable.pm:112)
# Goal all with outputs (at /home/cpan/pit/bare-ld/conf/perl-5.30.1/.cpanplus/5.30.1/build/WPGSIiP9nb/Data-Hopen-0.000021/blib/lib/Data/Hopen/G/Goal.pm:50)
# <- Data::Hopen::G::Goal all output $VAR1 = {
#   'foo' => 42,
#   'bar' => 'Bar'
# }; (at /home/cpan/pit/bare-ld/conf/perl-5.30.1/.cpanplus/5.30.1/build/WPGSIiP9nb/Data-Hopen-0.000021/blib/lib/Data/Hopen/G/Runnable.pm:119)
# Finished node all with outputs $VAR1 = {
#   'foo' => 42,
#   'bar' => 'Bar'
# }; (at /home/cpan/pit/bare-ld/conf/perl-5.30.1/.cpanplus/5.30.1/build/WPGSIiP9nb/Data-Hopen-0.000021/blib/lib/Data/Hopen/G/DAG.pm:300)
# <- Data::Hopen::G::DAG dag output $VAR1 = {
#   'all' => {
#     'foo' => 42,
#     'bar' => 'Bar'
#   }
# }; (at /home/cpan/pit/bare-ld/conf/perl-5.30.1/.cpanplus/5.30.1/build/WPGSIiP9nb/Data-Hopen-0.000021/blib/lib/Data/Hopen/G/Runnable.pm:119)
# -> Data::Hopen::G::DAG dag input $VAR1 = {
#   'foo' => 42,
#   'bar' => 'Bar'
# }; (at /home/cpan/pit/bare-ld/conf/perl-5.30.1/.cpanplus/5.30.1/build/WPGSIiP9nb/Data-Hopen-0.000021/blib/lib/Data/Hopen/G/Runnable.pm:112)
# Traversing DAG dag ********************************************************** (at /home/cpan/pit/bare-ld/conf/perl-5.30.1/.cpanplus/5.30.1/build/WPGSIiP9nb/Data-Hopen-0.000021/blib/lib/Data/Hopen/G/DAG.pm:201)
# -> Data::Hopen::G::CollectOp op1 input $VAR1 = {
#   'bar' => 'Bar',
#   'foo' => 42
# }; (at /home/cpan/pit/bare-ld/conf/perl-5.30.1/.cpanplus/5.30.1/build/WPGSIiP9nb/Data-Hopen-0.000021/blib/lib/Data/Hopen/G/Runnable.pm:112)
# <- Data::Hopen::G::CollectOp op1 output $VAR1 = {
#   'foo' => 42,
#   'bar' => 'Bar'
# }; (at /home/cpan/pit/bare-ld/conf/perl-5.30.1/.cpanplus/5.30.1/build/WPGSIiP9nb/Data-Hopen-0.000021/blib/lib/Data/Hopen/G/Runnable.pm:119)
# Finished node op1 with outputs $VAR1 = {
#   'foo' => 42,
#   'bar' => 'Bar'
# }; (at /home/cpan/pit/bare-ld/conf/perl-5.30.1/.cpanplus/5.30.1/build/WPGSIiP9nb/Data-Hopen-0.000021/blib/lib/Data/Hopen/G/DAG.pm:300)
# -> Data::Hopen::G::OutputOp op2 input $VAR1 = {
#   'foo' => 42,
#   'bar' => 'Bar'
# }; (at /home/cpan/pit/bare-ld/conf/perl-5.30.1/.cpanplus/5.30.1/build/WPGSIiP9nb/Data-Hopen-0.000021/blib/lib/Data/Hopen/G/Runnable.pm:112)
# <- Data::Hopen::G::OutputOp op2 output $VAR1 = {
#   'foo' => 1337
# }; (at /home/cpan/pit/bare-ld/conf/perl-5.30.1/.cpanplus/5.30.1/build/WPGSIiP9nb/Data-Hopen-0.000021/blib/lib/Data/Hopen/G/Runnable.pm:119)
# Finished node op2 with outputs $VAR1 = {
#   'foo' => 1337
# }; (at /home/cpan/pit/bare-ld/conf/perl-5.30.1/.cpanplus/5.30.1/build/WPGSIiP9nb/Data-Hopen-0.000021/blib/lib/Data/Hopen/G/DAG.pm:300)
# From op1 to all (at /home/cpan/pit/bare-ld/conf/perl-5.30.1/.cpanplus/5.30.1/build/WPGSIiP9nb/Data-Hopen-0.000021/blib/lib/Data/Hopen/G/DAG.pm:225)
#   -- no links (at /home/cpan/pit/bare-ld/conf/perl-5.30.1/.cpanplus/5.30.1/build/WPGSIiP9nb/Data-Hopen-0.000021/blib/lib/Data/Hopen/G/DAG.pm:238)
# From op2 to all (at /home/cpan/pit/bare-ld/conf/perl-5.30.1/.cpanplus/5.30.1/build/WPGSIiP9nb/Data-Hopen-0.000021/blib/lib/Data/Hopen/G/DAG.pm:225)
#   -- no links (at /home/cpan/pit/bare-ld/conf/perl-5.30.1/.cpanplus/5.30.1/build/WPGSIiP9nb/Data-Hopen-0.000021/blib/lib/Data/Hopen/G/DAG.pm:238)
# -> Data::Hopen::G::Goal all input $VAR1 = {
#   'bar' => 'Bar',
#   'foo' => 42
# }; (at /home/cpan/pit/bare-ld/conf/perl-5.30.1/.cpanplus/5.30.1/build/WPGSIiP9nb/Data-Hopen-0.000021/blib/lib/Data/Hopen/G/Runnable.pm:112)
# Goal all with outputs (at /home/cpan/pit/bare-ld/conf/perl-5.30.1/.cpanplus/5.30.1/build/WPGSIiP9nb/Data-Hopen-0.000021/blib/lib/Data/Hopen/G/Goal.pm:50)
# <- Data::Hopen::G::Goal all output $VAR1 = {
#   'foo' => 42,
#   'bar' => 'Bar'
# }; (at /home/cpan/pit/bare-ld/conf/perl-5.30.1/.cpanplus/5.30.1/build/WPGSIiP9nb/Data-Hopen-0.000021/blib/lib/Data/Hopen/G/Runnable.pm:119)
# Finished node all with outputs $VAR1 = {
#   'foo' => 42,
#   'bar' => 'Bar'
# }; (at /home/cpan/pit/bare-ld/conf/perl-5.30.1/.cpanplus/5.30.1/build/WPGSIiP9nb/Data-Hopen-0.000021/blib/lib/Data/Hopen/G/DAG.pm:300)
# <- Data::Hopen::G::DAG dag output $VAR1 = {
#   'all' => {
#     'foo' => 42,
#     'bar' => 'Bar'
#   }
# }; (at /home/cpan/pit/bare-ld/conf/perl-5.30.1/.cpanplus/5.30.1/build/WPGSIiP9nb/Data-Hopen-0.000021/blib/lib/Data/Hopen/G/Runnable.pm:119)
# -> Data::Hopen::G::DAG dag input $VAR1 = {
#   'bar' => 'Bar',
#   'foo' => 42
# }; (at /home/cpan/pit/bare-ld/conf/perl-5.30.1/.cpanplus/5.30.1/build/WPGSIiP9nb/Data-Hopen-0.000021/blib/lib/Data/Hopen/G/Runnable.pm:112)
# Traversing DAG dag ********************************************************** (at /home/cpan/pit/bare-ld/conf/perl-5.30.1/.cpanplus/5.30.1/build/WPGSIiP9nb/Data-Hopen-0.000021/blib/lib/Data/Hopen/G/DAG.pm:201)
# -> Data::Hopen::G::CollectOp op1 input $VAR1 = {
#   'bar' => 'Bar',
#   'foo' => 42
# }; (at /home/cpan/pit/bare-ld/conf/perl-5.30.1/.cpanplus/5.30.1/build/WPGSIiP9nb/Data-Hopen-0.000021/blib/lib/Data/Hopen/G/Runnable.pm:112)
# <- Data::Hopen::G::CollectOp op1 output $VAR1 = {
#   'bar' => 'Bar',
#   'foo' => 42
# }; (at /home/cpan/pit/bare-ld/conf/perl-5.30.1/.cpanplus/5.30.1/build/WPGSIiP9nb/Data-Hopen-0.000021/blib/lib/Data/Hopen/G/Runnable.pm:119)
# Finished node op1 with outputs $VAR1 = {
#   'bar' => 'Bar',
#   'foo' => 42
# }; (at /home/cpan/pit/bare-ld/conf/perl-5.30.1/.cpanplus/5.30.1/build/WPGSIiP9nb/Data-Hopen-0.000021/blib/lib/Data/Hopen/G/DAG.pm:300)
# -> Data::Hopen::G::OutputOp op2 input $VAR1 = {
#   'foo' => 42,
#   'bar' => 'Bar'
# }; (at /home/cpan/pit/bare-ld/conf/perl-5.30.1/.cpanplus/5.30.1/build/WPGSIiP9nb/Data-Hopen-0.000021/blib/lib/Data/Hopen/G/Runnable.pm:112)
# <- Data::Hopen::G::OutputOp op2 output $VAR1 = {
#   'foo' => 1337
# }; (at /home/cpan/pit/bare-ld/conf/perl-5.30.1/.cpanplus/5.30.1/build/WPGSIiP9nb/Data-Hopen-0.000021/blib/lib/Data/Hopen/G/Runnable.pm:119)
# Finished node op2 with outputs $VAR1 = {
#   'foo' => 1337
# }; (at /home/cpan/pit/bare-ld/conf/perl-5.30.1/.cpanplus/5.30.1/build/WPGSIiP9nb/Data-Hopen-0.000021/blib/lib/Data/Hopen/G/DAG.pm:300)
# From op1 to all (at /home/cpan/pit/bare-ld/conf/perl-5.30.1/.cpanplus/5.30.1/build/WPGSIiP9nb/Data-Hopen-0.000021/blib/lib/Data/Hopen/G/DAG.pm:225)
#   -- no links (at /home/cpan/pit/bare-ld/conf/perl-5.30.1/.cpanplus/5.30.1/build/WPGSIiP9nb/Data-Hopen-0.000021/blib/lib/Data/Hopen/G/DAG.pm:238)
# From op2 to all (at /home/cpan/pit/bare-ld/conf/perl-5.30.1/.cpanplus/5.30.1/build/WPGSIiP9nb/Data-Hopen-0.000021/blib/lib/Data/Hopen/G/DAG.pm:225)
#   -- no links (at /home/cpan/pit/bare-ld/conf/perl-5.30.1/.cpanplus/5.30.1/build/WPGSIiP9nb/Data-Hopen-0.000021/blib/lib/Data/Hopen/G/DAG.pm:238)
# -> Data::Hopen::G::Goal all input $VAR1 = {
#   'bar' => 'Bar',
#   'foo' => 42
# }; (at /home/cpan/pit/bare-ld/conf/perl-5.30.1/.cpanplus/5.30.1/build/WPGSIiP9nb/Data-Hopen-0.000021/blib/lib/Data/Hopen/G/Runnable.pm:112)
# Goal all with outputs (at /home/cpan/pit/bare-ld/conf/perl-5.30.1/.cpanplus/5.30.1/build/WPGSIiP9nb/Data-Hopen-0.000021/blib/lib/Data/Hopen/G/Goal.pm:50)
# <- Data::Hopen::G::Goal all output $VAR1 = {
#   'bar' => 'Bar',
#   'foo' => 42
# }; (at /home/cpan/pit/bare-ld/conf/perl-5.30.1/.cpanplus/5.30.1/build/WPGSIiP9nb/Data-Hopen-0.000021/blib/lib/Data/Hopen/G/Runnable.pm:119)
# Finished node all with outputs $VAR1 = {
#   'bar' => 'Bar',
#   'foo' => 42
# }; (at /home/cpan/pit/bare-ld/conf/perl-5.30.1/.cpanplus/5.30.1/build/WPGSIiP9nb/Data-Hopen-0.000021/blib/lib/Data/Hopen/G/DAG.pm:300)
# <- Data::Hopen::G::DAG dag output $VAR1 = {
#   'all' => {
#     'bar' => 'Bar',
#     'foo' => 42
#   }
# }; (at /home/cpan/pit/bare-ld/conf/perl-5.30.1/.cpanplus/5.30.1/build/WPGSIiP9nb/Data-Hopen-0.000021/blib/lib/Data/Hopen/G/Runnable.pm:119)
# -> Data::Hopen::G::DAG dag input $VAR1 = {
#   'bar' => 'Bar',
#   'foo' => 42
# }; (at /home/cpan/pit/bare-ld/conf/perl-5.30.1/.cpanplus/5.30.1/build/WPGSIiP9nb/Data-Hopen-0.000021/blib/lib/Data/Hopen/G/Runnable.pm:112)
# Traversing DAG dag ********************************************************** (at /home/cpan/pit/bare-ld/conf/perl-5.30.1/.cpanplus/5.30.1/build/WPGSIiP9nb/Data-Hopen-0.000021/blib/lib/Data/Hopen/G/DAG.pm:201)
# -> Data::Hopen::G::OutputOp op2 input $VAR1 = {
#   'bar' => 'Bar',
#   'foo' => 42
# }; (at /home/cpan/pit/bare-ld/conf/perl-5.30.1/.cpanplus/5.30.1/build/WPGSIiP9nb/Data-Hopen-0.000021/blib/lib/Data/Hopen/G/Runnable.pm:112)
# <- Data::Hopen::G::OutputOp op2 output $VAR1 = {
#   'foo' => 1337
# }; (at /home/cpan/pit/bare-ld/conf/perl-5.30.1/.cpanplus/5.30.1/build/WPGSIiP9nb/Data-Hopen-0.000021/blib/lib/Data/Hopen/G/Runnable.pm:119)
# Finished node op2 with outputs $VAR1 = {
#   'foo' => 1337
# }; (at /home/cpan/pit/bare-ld/conf/perl-5.30.1/.cpanplus/5.30.1/build/WPGSIiP9nb/Data-Hopen-0.000021/blib/lib/Data/Hopen/G/DAG.pm:300)
# -> Data::Hopen::G::CollectOp op1 input $VAR1 = {
#   'foo' => 42,
#   'bar' => 'Bar'
# }; (at /home/cpan/pit/bare-ld/conf/perl-5.30.1/.cpanplus/5.30.1/build/WPGSIiP9nb/Data-Hopen-0.000021/blib/lib/Data/Hopen/G/Runnable.pm:112)
# <- Data::Hopen::G::CollectOp op1 output $VAR1 = {
#   'bar' => 'Bar',
#   'foo' => 42
# }; (at /home/cpan/pit/bare-ld/conf/perl-5.30.1/.cpanplus/5.30.1/build/WPGSIiP9nb/Data-Hopen-0.000021/blib/lib/Data/Hopen/G/Runnable.pm:119)
# Finished node op1 with outputs $VAR1 = {
#   'bar' => 'Bar',
#   'foo' => 42
# }; (at /home/cpan/pit/bare-ld/conf/perl-5.30.1/.cpanplus/5.30.1/build/WPGSIiP9nb/Data-Hopen-0.000021/blib/lib/Data/Hopen/G/DAG.pm:300)
# From op1 to all (at /home/cpan/pit/bare-ld/conf/perl-5.30.1/.cpanplus/5.30.1/build/WPGSIiP9nb/Data-Hopen-0.000021/blib/lib/Data/Hopen/G/DAG.pm:225)
#   -- no links (at /home/cpan/pit/bare-ld/conf/perl-5.30.1/.cpanplus/5.30.1/build/WPGSIiP9nb/Data-Hopen-0.000021/blib/lib/Data/Hopen/G/DAG.pm:238)
# From op2 to all (at /home/cpan/pit/bare-ld/conf/perl-5.30.1/.cpanplus/5.30.1/build/WPGSIiP9nb/Data-Hopen-0.000021/blib/lib/Data/Hopen/G/DAG.pm:225)
#   -- no links (at /home/cpan/pit/bare-ld/conf/perl-5.30.1/.cpanplus/5.30.1/build/WPGSIiP9nb/Data-Hopen-0.000021/blib/lib/Data/Hopen/G/DAG.pm:238)
# -> Data::Hopen::G::Goal all input $VAR1 = {
#   'bar' => 'Bar',
#   'foo' => 42
# }; (at /home/cpan/pit/bare-ld/conf/perl-5.30.1/.cpanplus/5.30.1/build/WPGSIiP9nb/Data-Hopen-0.000021/blib/lib/Data/Hopen/G/Runnable.pm:112)
# Goal all with outputs (at /home/cpan/pit/bare-ld/conf/perl-5.30.1/.cpanplus/5.30.1/build/WPGSIiP9nb/Data-Hopen-0.000021/blib/lib/Data/Hopen/G/Goal.pm:50)
# <- Data::Hopen::G::Goal all output $VAR1 = {
#   'foo' => 42,
#   'bar' => 'Bar'
# }; (at /home/cpan/pit/bare-ld/conf/perl-5.30.1/.cpanplus/5.30.1/build/WPGSIiP9nb/Data-Hopen-0.000021/blib/lib/Data/Hopen/G/Runnable.pm:119)
# Finished node all with outputs $VAR1 = {
#   'foo' => 42,
#   'bar' => 'Bar'
# }; (at /home/cpan/pit/bare-ld/conf/perl-5.30.1/.cpanplus/5.30.1/build/WPGSIiP9nb/Data-Hopen-0.000021/blib/lib/Data/Hopen/G/DAG.pm:300)
# <- Data::Hopen::G::DAG dag output $VAR1 = {
#   'all' => {
#     'foo' => 42,
#     'bar' => 'Bar'
#   }
# }; (at /home/cpan/pit/bare-ld/conf/perl-5.30.1/.cpanplus/5.30.1/build/WPGSIiP9nb/Data-Hopen-0.000021/blib/lib/Data/Hopen/G/Runnable.pm:119)
# -> Data::Hopen::G::DAG dag input $VAR1 = {
#   'bar' => 'Bar',
#   'foo' => 42
# }; (at /home/cpan/pit/bare-ld/conf/perl-5.30.1/.cpanplus/5.30.1/build/WPGSIiP9nb/Data-Hopen-0.000021/blib/lib/Data/Hopen/G/Runnable.pm:112)
# Traversing DAG dag ********************************************************** (at /home/cpan/pit/bare-ld/conf/perl-5.30.1/.cpanplus/5.30.1/build/WPGSIiP9nb/Data-Hopen-0.000021/blib/lib/Data/Hopen/G/DAG.pm:201)
# -> Data::Hopen::G::CollectOp op1 input $VAR1 = {
#   'foo' => 42,
#   'bar' => 'Bar'
# }; (at /home/cpan/pit/bare-ld/conf/perl-5.30.1/.cpanplus/5.30.1/build/WPGSIiP9nb/Data-Hopen-0.000021/blib/lib/Data/Hopen/G/Runnable.pm:112)
# <- Data::Hopen::G::CollectOp op1 output $VAR1 = {
#   'foo' => 42,
#   'bar' => 'Bar'
# }; (at /home/cpan/pit/bare-ld/conf/perl-5.30.1/.cpanplus/5.30.1/build/WPGSIiP9nb/Data-Hopen-0.000021/blib/lib/Data/Hopen/G/Runnable.pm:119)
# Finished node op1 with outputs $VAR1 = {
#   'foo' => 42,
#   'bar' => 'Bar'
# }; (at /home/cpan/pit/bare-ld/conf/perl-5.30.1/.cpanplus/5.30.1/build/WPGSIiP9nb/Data-Hopen-0.000021/blib/lib/Data/Hopen/G/DAG.pm:300)
# -> Data::Hopen::G::OutputOp op2 input $VAR1 = {
#   'bar' => 'Bar',
#   'foo' => 42
# }; (at /home/cpan/pit/bare-ld/conf/perl-5.30.1/.cpanplus/5.30.1/build/WPGSIiP9nb/Data-Hopen-0.000021/blib/lib/Data/Hopen/G/Runnable.pm:112)
# <- Data::Hopen::G::OutputOp op2 output $VAR1 = {
#   'foo' => 1337
# }; (at /home/cpan/pit/bare-ld/conf/perl-5.30.1/.cpanplus/5.30.1/build/WPGSIiP9nb/Data-Hopen-0.000021/blib/lib/Data/Hopen/G/Runnable.pm:119)
# Finished node op2 with outputs $VAR1 = {
#   'foo' => 1337
# }; (at /home/cpan/pit/bare-ld/conf/perl-5.30.1/.cpanplus/5.30.1/build/WPGSIiP9nb/Data-Hopen-0.000021/blib/lib/Data/Hopen/G/DAG.pm:300)
# From op1 to all (at /home/cpan/pit/bare-ld/conf/perl-5.30.1/.cpanplus/5.30.1/build/WPGSIiP9nb/Data-Hopen-0.000021/blib/lib/Data/Hopen/G/DAG.pm:225)
#   -- no links (at /home/cpan/pit/bare-ld/conf/perl-5.30.1/.cpanplus/5.30.1/build/WPGSIiP9nb/Data-Hopen-0.000021/blib/lib/Data/Hopen/G/DAG.pm:238)
# From op2 to all (at /home/cpan/pit/bare-ld/conf/perl-5.30.1/.cpanplus/5.30.1/build/WPGSIiP9nb/Data-Hopen-0.000021/blib/lib/Data/Hopen/G/DAG.pm:225)
#   -- no links (at /home/cpan/pit/bare-ld/conf/perl-5.30.1/.cpanplus/5.30.1/build/WPGSIiP9nb/Data-Hopen-0.000021/blib/lib/Data/Hopen/G/DAG.pm:238)
# -> Data::Hopen::G::Goal all input $VAR1 = {
#   'bar' => 'Bar',
#   'foo' => 1337
# }; (at /home/cpan/pit/bare-ld/conf/perl-5.30.1/.cpanplus/5.30.1/build/WPGSIiP9nb/Data-Hopen-0.000021/blib/lib/Data/Hopen/G/Runnable.pm:112)
# Goal all with outputs (at /home/cpan/pit/bare-ld/conf/perl-5.30.1/.cpanplus/5.30.1/build/WPGSIiP9nb/Data-Hopen-0.000021/blib/lib/Data/Hopen/G/Goal.pm:50)
# <- Data::Hopen::G::Goal all output $VAR1 = {
#   'bar' => 'Bar',
#   'foo' => 1337
# }; (at /home/cpan/pit/bare-ld/conf/perl-5.30.1/.cpanplus/5.30.1/build/WPGSIiP9nb/Data-Hopen-0.000021/blib/lib/Data/Hopen/G/Runnable.pm:119)
# Finished node all with outputs $VAR1 = {
#   'bar' => 'Bar',
#   'foo' => 1337
# }; (at /home/cpan/pit/bare-ld/conf/perl-5.30.1/.cpanplus/5.30.1/build/WPGSIiP9nb/Data-Hopen-0.000021/blib/lib/Data/Hopen/G/DAG.pm:300)
# <- Data::Hopen::G::DAG dag output $VAR1 = {
#   'all' => {
#     'bar' => 'Bar',
#     'foo' => 1337
#   }
# }; (at /home/cpan/pit/bare-ld/conf/perl-5.30.1/.cpanplus/5.30.1/build/WPGSIiP9nb/Data-Hopen-0.000021/blib/lib/Data/Hopen/G/Runnable.pm:119)
# -> Data::Hopen::G::DAG dag input $VAR1 = {
#   'bar' => 'Bar',
#   'foo' => 42
# }; (at /home/cpan/pit/bare-ld/conf/perl-5.30.1/.cpanplus/5.30.1/build/WPGSIiP9nb/Data-Hopen-0.000021/blib/lib/Data/Hopen/G/Runnable.pm:112)
# Traversing DAG dag ********************************************************** (at /home/cpan/pit/bare-ld/conf/perl-5.30.1/.cpanplus/5.30.1/build/WPGSIiP9nb/Data-Hopen-0.000021/blib/lib/Data/Hopen/G/DAG.pm:201)
# -> Data::Hopen::G::CollectOp op1 input $VAR1 = {
#   'bar' => 'Bar',
#   'foo' => 42
# }; (at /home/cpan/pit/bare-ld/conf/perl-5.30.1/.cpanplus/5.30.1/build/WPGSIiP9nb/Data-Hopen-0.000021/blib/lib/Data/Hopen/G/Runnable.pm:112)
# <- Data::Hopen::G::CollectOp op1 output $VAR1 = {
#   'foo' => 42,
#   'bar' => 'Bar'
# }; (at /home/cpan/pit/bare-ld/conf/perl-5.30.1/.cpanplus/5.30.1/build/WPGSIiP9nb/Data-Hopen-0.000021/blib/lib/Data/Hopen/G/Runnable.pm:119)
# Finished node op1 with outputs $VAR1 = {
#   'foo' => 42,
#   'bar' => 'Bar'
# }; (at /home/cpan/pit/bare-ld/conf/perl-5.30.1/.cpanplus/5.30.1/build/WPGSIiP9nb/Data-Hopen-0.000021/blib/lib/Data/Hopen/G/DAG.pm:300)
# -> Data::Hopen::G::OutputOp op2 input $VAR1 = {
#   'bar' => 'Bar',
#   'foo' => 42
# }; (at /home/cpan/pit/bare-ld/conf/perl-5.30.1/.cpanplus/5.30.1/build/WPGSIiP9nb/Data-Hopen-0.000021/blib/lib/Data/Hopen/G/Runnable.pm:112)
# <- Data::Hopen::G::OutputOp op2 output $VAR1 = {
#   'foo' => 1337
# }; (at /home/cpan/pit/bare-ld/conf/perl-5.30.1/.cpanplus/5.30.1/build/WPGSIiP9nb/Data-Hopen-0.000021/blib/lib/Data/Hopen/G/Runnable.pm:119)
# Finished node op2 with outputs $VAR1 = {
#   'foo' => 1337
# }; (at /home/cpan/pit/bare-ld/conf/perl-5.30.1/.cpanplus/5.30.1/build/WPGSIiP9nb/Data-Hopen-0.000021/blib/lib/Data/Hopen/G/DAG.pm:300)
# From op1 to all (at /home/cpan/pit/bare-ld/conf/perl-5.30.1/.cpanplus/5.30.1/build/WPGSIiP9nb/Data-Hopen-0.000021/blib/lib/Data/Hopen/G/DAG.pm:225)
#   -- no links (at /home/cpan/pit/bare-ld/conf/perl-5.30.1/.cpanplus/5.30.1/build/WPGSIiP9nb/Data-Hopen-0.000021/blib/lib/Data/Hopen/G/DAG.pm:238)
# From op2 to all (at /home/cpan/pit/bare-ld/conf/perl-5.30.1/.cpanplus/5.30.1/build/WPGSIiP9nb/Data-Hopen-0.000021/blib/lib/Data/Hopen/G/DAG.pm:225)
#   -- no links (at /home/cpan/pit/bare-ld/conf/perl-5.30.1/.cpanplus/5.30.1/build/WPGSIiP9nb/Data-Hopen-0.000021/blib/lib/Data/Hopen/G/DAG.pm:238)
# -> Data::Hopen::G::Goal all input $VAR1 = {
#   'foo' => 1337,
#   'bar' => 'Bar'
# }; (at /home/cpan/pit/bare-ld/conf/perl-5.30.1/.cpanplus/5.30.1/build/WPGSIiP9nb/Data-Hopen-0.000021/blib/lib/Data/Hopen/G/Runnable.pm:112)
# Goal all with outputs (at /home/cpan/pit/bare-ld/conf/perl-5.30.1/.cpanplus/5.30.1/build/WPGSIiP9nb/Data-Hopen-0.000021/blib/lib/Data/Hopen/G/Goal.pm:50)
# <- Data::Hopen::G::Goal all output $VAR1 = {
#   'foo' => 1337,
#   'bar' => 'Bar'
# }; (at /home/cpan/pit/bare-ld/conf/perl-5.30.1/.cpanplus/5.30.1/build/WPGSIiP9nb/Data-Hopen-0.000021/blib/lib/Data/Hopen/G/Runnable.pm:119)
# Finished node all with outputs $VAR1 = {
#   'foo' => 1337,
#   'bar' => 'Bar'
# }; (at /home/cpan/pit/bare-ld/conf/perl-5.30.1/.cpanplus/5.30.1/build/WPGSIiP9nb/Data-Hopen-0.000021/blib/lib/Data/Hopen/G/DAG.pm:300)
# <- Data::Hopen::G::DAG dag output $VAR1 = {
#   'all' => {
#     'foo' => 1337,
#     'bar' => 'Bar'
#   }
# }; (at /home/cpan/pit/bare-ld/conf/perl-5.30.1/.cpanplus/5.30.1/build/WPGSIiP9nb/Data-Hopen-0.000021/blib/lib/Data/Hopen/G/Runnable.pm:119)
# -> Data::Hopen::G::DAG dag input $VAR1 = {
#   'bar' => 'Bar',
#   'foo' => 42
# }; (at /home/cpan/pit/bare-ld/conf/perl-5.30.1/.cpanplus/5.30.1/build/WPGSIiP9nb/Data-Hopen-0.000021/blib/lib/Data/Hopen/G/Runnable.pm:112)
# Traversing DAG dag ********************************************************** (at /home/cpan/pit/bare-ld/conf/perl-5.30.1/.cpanplus/5.30.1/build/WPGSIiP9nb/Data-Hopen-0.000021/blib/lib/Data/Hopen/G/DAG.pm:201)
# -> Data::Hopen::G::CollectOp op1 input $VAR1 = {
#   'bar' => 'Bar',
#   'foo' => 42
# }; (at /home/cpan/pit/bare-ld/conf/perl-5.30.1/.cpanplus/5.30.1/build/WPGSIiP9nb/Data-Hopen-0.000021/blib/lib/Data/Hopen/G/Runnable.pm:112)
# <- Data::Hopen::G::CollectOp op1 output $VAR1 = {
#   'bar' => 'Bar',
#   'foo' => 42
# }; (at /home/cpan/pit/bare-ld/conf/perl-5.30.1/.cpanplus/5.30.1/build/WPGSIiP9nb/Data-Hopen-0.000021/blib/lib/Data/Hopen/G/Runnable.pm:119)
# Finished node op1 with outputs $VAR1 = {
#   'bar' => 'Bar',
#   'foo' => 42
# }; (at /home/cpan/pit/bare-ld/conf/perl-5.30.1/.cpanplus/5.30.1/build/WPGSIiP9nb/Data-Hopen-0.000021/blib/lib/Data/Hopen/G/DAG.pm:300)
# -> Data::Hopen::G::OutputOp op2 input $VAR1 = {
#   'foo' => 42,
#   'bar' => 'Bar'
# }; (at /home/cpan/pit/bare-ld/conf/perl-5.30.1/.cpanplus/5.30.1/build/WPGSIiP9nb/Data-Hopen-0.000021/blib/lib/Data/Hopen/G/Runnable.pm:112)
# <- Data::Hopen::G::OutputOp op2 output $VAR1 = {
#   'foo' => 1337
# }; (at /home/cpan/pit/bare-ld/conf/perl-5.30.1/.cpanplus/5.30.1/build/WPGSIiP9nb/Data-Hopen-0.000021/blib/lib/Data/Hopen/G/Runnable.pm:119)
# Finished node op2 with outputs $VAR1 = {
#   'foo' => 1337
# }; (at /home/cpan/pit/bare-ld/conf/perl-5.30.1/.cpanplus/5.30.1/build/WPGSIiP9nb/Data-Hopen-0.000021/blib/lib/Data/Hopen/G/DAG.pm:300)
# From op1 to all (at /home/cpan/pit/bare-ld/conf/perl-5.30.1/.cpanplus/5.30.1/build/WPGSIiP9nb/Data-Hopen-0.000021/blib/lib/Data/Hopen/G/DAG.pm:225)
#   -- no links (at /home/cpan/pit/bare-ld/conf/perl-5.30.1/.cpanplus/5.30.1/build/WPGSIiP9nb/Data-Hopen-0.000021/blib/lib/Data/Hopen/G/DAG.pm:238)
# From op2 to all (at /home/cpan/pit/bare-ld/conf/perl-5.30.1/.cpanplus/5.30.1/build/WPGSIiP9nb/Data-Hopen-0.000021/blib/lib/Data/Hopen/G/DAG.pm:225)
#   -- no links (at /home/cpan/pit/bare-ld/conf/perl-5.30.1/.cpanplus/5.30.1/build/WPGSIiP9nb/Data-Hopen-0.000021/blib/lib/Data/Hopen/G/DAG.pm:238)
# -> Data::Hopen::G::Goal all input $VAR1 = {
#   'bar' => 'Bar',
#   'foo' => 1337
# }; (at /home/cpan/pit/bare-ld/conf/perl-5.30.1/.cpanplus/5.30.1/build/WPGSIiP9nb/Data-Hopen-0.000021/blib/lib/Data/Hopen/G/Runnable.pm:112)
# Goal all with outputs (at /home/cpan/pit/bare-ld/conf/perl-5.30.1/.cpanplus/5.30.1/build/WPGSIiP9nb/Data-Hopen-0.000021/blib/lib/Data/Hopen/G/Goal.pm:50)
# <- Data::Hopen::G::Goal all output $VAR1 = {
#   'bar' => 'Bar',
#   'foo' => 1337
# }; (at /home/cpan/pit/bare-ld/conf/perl-5.30.1/.cpanplus/5.30.1/build/WPGSIiP9nb/Data-Hopen-0.000021/blib/lib/Data/Hopen/G/Runnable.pm:119)
# Finished node all with outputs $VAR1 = {
#   'bar' => 'Bar',
#   'foo' => 1337
# }; (at /home/cpan/pit/bare-ld/conf/perl-5.30.1/.cpanplus/5.30.1/build/WPGSIiP9nb/Data-Hopen-0.000021/blib/lib/Data/Hopen/G/DAG.pm:300)
# <- Data::Hopen::G::DAG dag output $VAR1 = {
#   'all' => {
#     'bar' => 'Bar',
#     'foo' => 1337
#   }
# }; (at /home/cpan/pit/bare-ld/conf/perl-5.30.1/.cpanplus/5.30.1/build/WPGSIiP9nb/Data-Hopen-0.000021/blib/lib/Data/Hopen/G/Runnable.pm:119)
# -> Data::Hopen::G::DAG dag input $VAR1 = {
#   'bar' => 'Bar',
#   'foo' => 42
# }; (at /home/cpan/pit/bare-ld/conf/perl-5.30.1/.cpanplus/5.30.1/build/WPGSIiP9nb/Data-Hopen-0.000021/blib/lib/Data/Hopen/G/Runnable.pm:112)
# Traversing DAG dag ********************************************************** (at /home/cpan/pit/bare-ld/conf/perl-5.30.1/.cpanplus/5.30.1/build/WPGSIiP9nb/Data-Hopen-0.000021/blib/lib/Data/Hopen/G/DAG.pm:201)
# -> Data::Hopen::G::CollectOp op1 input $VAR1 = {
#   'bar' => 'Bar',
#   'foo' => 42
# }; (at /home/cpan/pit/bare-ld/conf/perl-5.30.1/.cpanplus/5.30.1/build/WPGSIiP9nb/Data-Hopen-0.000021/blib/lib/Data/Hopen/G/Runnable.pm:112)
# <- Data::Hopen::G::CollectOp op1 output $VAR1 = {
#   'foo' => 42,
#   'bar' => 'Bar'
# }; (at /home/cpan/pit/bare-ld/conf/perl-5.30.1/.cpanplus/5.30.1/build/WPGSIiP9nb/Data-Hopen-0.000021/blib/lib/Data/Hopen/G/Runnable.pm:119)
# Finished node op1 with outputs $VAR1 = {
#   'foo' => 42,
#   'bar' => 'Bar'
# }; (at /home/cpan/pit/bare-ld/conf/perl-5.30.1/.cpanplus/5.30.1/build/WPGSIiP9nb/Data-Hopen-0.000021/blib/lib/Data/Hopen/G/DAG.pm:300)
# -> Data::Hopen::G::OutputOp op2 input $VAR1 = {
#   'foo' => 42,
#   'bar' => 'Bar'
# }; (at /home/cpan/pit/bare-ld/conf/perl-5.30.1/.cpanplus/5.30.1/build/WPGSIiP9nb/Data-Hopen-0.000021/blib/lib/Data/Hopen/G/Runnable.pm:112)
# <- Data::Hopen::G::OutputOp op2 output $VAR1 = {
#   'foo' => 1337
# }; (at /home/cpan/pit/bare-ld/conf/perl-5.30.1/.cpanplus/5.30.1/build/WPGSIiP9nb/Data-Hopen-0.000021/blib/lib/Data/Hopen/G/Runnable.pm:119)
# Finished node op2 with outputs $VAR1 = {
#   'foo' => 1337
# }; (at /home/cpan/pit/bare-ld/conf/perl-5.30.1/.cpanplus/5.30.1/build/WPGSIiP9nb/Data-Hopen-0.000021/blib/lib/Data/Hopen/G/DAG.pm:300)
# From op1 to all (at /home/cpan/pit/bare-ld/conf/perl-5.30.1/.cpanplus/5.30.1/build/WPGSIiP9nb/Data-Hopen-0.000021/blib/lib/Data/Hopen/G/DAG.pm:225)
#   -- no links (at /home/cpan/pit/bare-ld/conf/perl-5.30.1/.cpanplus/5.30.1/build/WPGSIiP9nb/Data-Hopen-0.000021/blib/lib/Data/Hopen/G/DAG.pm:238)
# From op2 to all (at /home/cpan/pit/bare-ld/conf/perl-5.30.1/.cpanplus/5.30.1/build/WPGSIiP9nb/Data-Hopen-0.000021/blib/lib/Data/Hopen/G/DAG.pm:225)
#   -- no links (at /home/cpan/pit/bare-ld/conf/perl-5.30.1/.cpanplus/5.30.1/build/WPGSIiP9nb/Data-Hopen-0.000021/blib/lib/Data/Hopen/G/DAG.pm:238)
# -> Data::Hopen::G::Goal all input $VAR1 = {
#   'foo' => 1337,
#   'bar' => 'Bar'
# }; (at /home/cpan/pit/bare-ld/conf/perl-5.30.1/.cpanplus/5.30.1/build/WPGSIiP9nb/Data-Hopen-0.000021/blib/lib/Data/Hopen/G/Runnable.pm:112)
# Goal all with outputs (at /home/cpan/pit/bare-ld/conf/perl-5.30.1/.cpanplus/5.30.1/build/WPGSIiP9nb/Data-Hopen-0.000021/blib/lib/Data/Hopen/G/Goal.pm:50)
# <- Data::Hopen::G::Goal all output $VAR1 = {
#   'foo' => 1337,
#   'bar' => 'Bar'
# }; (at /home/cpan/pit/bare-ld/conf/perl-5.30.1/.cpanplus/5.30.1/build/WPGSIiP9nb/Data-Hopen-0.000021/blib/lib/Data/Hopen/G/Runnable.pm:119)
# Finished node all with outputs $VAR1 = {
#   'foo' => 1337,
#   'bar' => 'Bar'
# }; (at /home/cpan/pit/bare-ld/conf/perl-5.30.1/.cpanplus/5.30.1/build/WPGSIiP9nb/Data-Hopen-0.000021/blib/lib/Data/Hopen/G/DAG.pm:300)
# <- Data::Hopen::G::DAG dag output $VAR1 = {
#   'all' => {
#     'foo' => 1337,
#     'bar' => 'Bar'
#   }
# }; (at /home/cpan/pit/bare-ld/conf/perl-5.30.1/.cpanplus/5.30.1/build/WPGSIiP9nb/Data-Hopen-0.000021/blib/lib/Data/Hopen/G/Runnable.pm:119)
# -> Data::Hopen::G::DAG dag input $VAR1 = {}; (at /home/cpan/pit/bare-ld/conf/perl-5.30.1/.cpanplus/5.30.1/build/WPGSIiP9nb/Data-Hopen-0.000021/blib/lib/Data/Hopen/G/Runnable.pm:112)
# -> Data::Hopen::G::DAG dag input $VAR1 = {}; (at /home/cpan/pit/bare-ld/conf/perl-5.30.1/.cpanplus/5.30.1/build/WPGSIiP9nb/Data-Hopen-0.000021/blib/lib/Data/Hopen/G/Runnable.pm:112)
# -> Data::Hopen::G::DAG dag input $VAR1 = {}; (at /home/cpan/pit/bare-ld/conf/perl-5.30.1/.cpanplus/5.30.1/build/WPGSIiP9nb/Data-Hopen-0.000021/blib/lib/Data/Hopen/G/Runnable.pm:112)
# -> Data::Hopen::G::DAG dag input $VAR1 = {}; (at /home/cpan/pit/bare-ld/conf/perl-5.30.1/.cpanplus/5.30.1/build/WPGSIiP9nb/Data-Hopen-0.000021/blib/lib/Data/Hopen/G/Runnable.pm:112)
# -> Data::Hopen::G::DAG dag input $VAR1 = {}; (at /home/cpan/pit/bare-ld/conf/perl-5.30.1/.cpanplus/5.30.1/build/WPGSIiP9nb/Data-Hopen-0.000021/blib/lib/Data/Hopen/G/Runnable.pm:112)
t/124-dag-merge-node-inputs.t .. ok
# DAG::connect(): Edge from op1 via (no link) to all (at /home/cpan/pit/bare-ld/conf/perl-5.30.1/.cpanplus/5.30.1/build/WPGSIiP9nb/Data-Hopen-0.000021/blib/lib/Data/Hopen/G/DAG.pm:391)
# -> Data::Hopen::G::DAG dag input $VAR1 = {
#   'foo' => 42,
#   'bar' => 'Bar'
# }; (at /home/cpan/pit/bare-ld/conf/perl-5.30.1/.cpanplus/5.30.1/build/WPGSIiP9nb/Data-Hopen-0.000021/blib/lib/Data/Hopen/G/Runnable.pm:112)
# Traversing DAG dag ********************************************************** (at /home/cpan/pit/bare-ld/conf/perl-5.30.1/.cpanplus/5.30.1/build/WPGSIiP9nb/Data-Hopen-0.000021/blib/lib/Data/Hopen/G/DAG.pm:201)
# -> Data::Hopen::G::CollectOp op1 input $VAR1 = {
#   'foo' => 42,
#   'bar' => 'Bar'
# }; (at /home/cpan/pit/bare-ld/conf/perl-5.30.1/.cpanplus/5.30.1/build/WPGSIiP9nb/Data-Hopen-0.000021/blib/lib/Data/Hopen/G/Runnable.pm:112)
# <- Data::Hopen::G::CollectOp op1 output $VAR1 = {
#   'bar' => 'Bar',
#   'foo' => 42
# }; (at /home/cpan/pit/bare-ld/conf/perl-5.30.1/.cpanplus/5.30.1/build/WPGSIiP9nb/Data-Hopen-0.000021/blib/lib/Data/Hopen/G/Runnable.pm:119)
# Finished node op1 with outputs $VAR1 = {
#   'bar' => 'Bar',
#   'foo' => 42
# }; (at /home/cpan/pit/bare-ld/conf/perl-5.30.1/.cpanplus/5.30.1/build/WPGSIiP9nb/Data-Hopen-0.000021/blib/lib/Data/Hopen/G/DAG.pm:300)
# From op1 to all (at /home/cpan/pit/bare-ld/conf/perl-5.30.1/.cpanplus/5.30.1/build/WPGSIiP9nb/Data-Hopen-0.000021/blib/lib/Data/Hopen/G/DAG.pm:225)
#   -- no links (at /home/cpan/pit/bare-ld/conf/perl-5.30.1/.cpanplus/5.30.1/build/WPGSIiP9nb/Data-Hopen-0.000021/blib/lib/Data/Hopen/G/DAG.pm:238)
# -> Data::Hopen::G::Goal all input $VAR1 = {
#   'bar' => 'Bar',
#   'foo' => 42
# }; (at /home/cpan/pit/bare-ld/conf/perl-5.30.1/.cpanplus/5.30.1/build/WPGSIiP9nb/Data-Hopen-0.000021/blib/lib/Data/Hopen/G/Runnable.pm:112)
# Goal all with outputs (at /home/cpan/pit/bare-ld/conf/perl-5.30.1/.cpanplus/5.30.1/build/WPGSIiP9nb/Data-Hopen-0.000021/blib/lib/Data/Hopen/G/Goal.pm:50)
# <- Data::Hopen::G::Goal all output $VAR1 = {
#   'bar' => 'Bar',
#   'foo' => 42
# }; (at /home/cpan/pit/bare-ld/conf/perl-5.30.1/.cpanplus/5.30.1/build/WPGSIiP9nb/Data-Hopen-0.000021/blib/lib/Data/Hopen/G/Runnable.pm:119)
# Finished node all with outputs $VAR1 = {
#   'bar' => 'Bar',
#   'foo' => 42
# }; (at /home/cpan/pit/bare-ld/conf/perl-5.30.1/.cpanplus/5.30.1/build/WPGSIiP9nb/Data-Hopen-0.000021/blib/lib/Data/Hopen/G/DAG.pm:300)
# <- Data::Hopen::G::DAG dag output $VAR1 = {
#   'all' => {
#     'bar' => 'Bar',
#     'foo' => 42
#   }
# }; (at /home/cpan/pit/bare-ld/conf/perl-5.30.1/.cpanplus/5.30.1/build/WPGSIiP9nb/Data-Hopen-0.000021/blib/lib/Data/Hopen/G/Runnable.pm:119)
# DAG::connect(): Edge from op1 via FixedLink=HASH(0x29f7750) to all (at /home/cpan/pit/bare-ld/conf/perl-5.30.1/.cpanplus/5.30.1/build/WPGSIiP9nb/Data-Hopen-0.000021/blib/lib/Data/Hopen/G/DAG.pm:391)
# -> Data::Hopen::G::DAG dag input $VAR1 = {
#   'bar' => 'Bar',
#   'foo' => 42
# }; (at /home/cpan/pit/bare-ld/conf/perl-5.30.1/.cpanplus/5.30.1/build/WPGSIiP9nb/Data-Hopen-0.000021/blib/lib/Data/Hopen/G/Runnable.pm:112)
# Traversing DAG dag ********************************************************** (at /home/cpan/pit/bare-ld/conf/perl-5.30.1/.cpanplus/5.30.1/build/WPGSIiP9nb/Data-Hopen-0.000021/blib/lib/Data/Hopen/G/DAG.pm:201)
# -> Data::Hopen::G::CollectOp op1 input $VAR1 = {
#   'foo' => 42,
#   'bar' => 'Bar'
# }; (at /home/cpan/pit/bare-ld/conf/perl-5.30.1/.cpanplus/5.30.1/build/WPGSIiP9nb/Data-Hopen-0.000021/blib/lib/Data/Hopen/G/Runnable.pm:112)
# <- Data::Hopen::G::CollectOp op1 output $VAR1 = {
#   'bar' => 'Bar',
#   'foo' => 42
# }; (at /home/cpan/pit/bare-ld/conf/perl-5.30.1/.cpanplus/5.30.1/build/WPGSIiP9nb/Data-Hopen-0.000021/blib/lib/Data/Hopen/G/Runnable.pm:119)
# Finished node op1 with outputs $VAR1 = {
#   'bar' => 'Bar',
#   'foo' => 42
# }; (at /home/cpan/pit/bare-ld/conf/perl-5.30.1/.cpanplus/5.30.1/build/WPGSIiP9nb/Data-Hopen-0.000021/blib/lib/Data/Hopen/G/DAG.pm:300)
# From op1 to all (at /home/cpan/pit/bare-ld/conf/perl-5.30.1/.cpanplus/5.30.1/build/WPGSIiP9nb/Data-Hopen-0.000021/blib/lib/Data/Hopen/G/DAG.pm:225)
# From op1 via FixedLink=HASH(0x29f7750) to all (at /home/cpan/pit/bare-ld/conf/perl-5.30.1/.cpanplus/5.30.1/build/WPGSIiP9nb/Data-Hopen-0.000021/blib/lib/Data/Hopen/G/DAG.pm:268)
# -> FixedLink FixedLink=HASH(0x29f7750) input $VAR1 = {
#   'bar' => 'Bar',
#   'foo' => 42
# }; (at /home/cpan/pit/bare-ld/conf/perl-5.30.1/.cpanplus/5.30.1/build/WPGSIiP9nb/Data-Hopen-0.000021/blib/lib/Data/Hopen/G/Runnable.pm:112)
# <- FixedLink FixedLink=HASH(0x29f7750) output $VAR1 = {
#   'xyzzy' => 'plugh'
# }; (at /home/cpan/pit/bare-ld/conf/perl-5.30.1/.cpanplus/5.30.1/build/WPGSIiP9nb/Data-Hopen-0.000021/blib/lib/Data/Hopen/G/Runnable.pm:119)
# -> Data::Hopen::G::Goal all input $VAR1 = {
#   'xyzzy' => 'plugh',
#   'bar' => 'Bar',
#   'foo' => 42
# }; (at /home/cpan/pit/bare-ld/conf/perl-5.30.1/.cpanplus/5.30.1/build/WPGSIiP9nb/Data-Hopen-0.000021/blib/lib/Data/Hopen/G/Runnable.pm:112)
# Goal all with outputs (at /home/cpan/pit/bare-ld/conf/perl-5.30.1/.cpanplus/5.30.1/build/WPGSIiP9nb/Data-Hopen-0.000021/blib/lib/Data/Hopen/G/Goal.pm:50)
# <- Data::Hopen::G::Goal all output $VAR1 = {
#   'xyzzy' => 'plugh'
# }; (at /home/cpan/pit/bare-ld/conf/perl-5.30.1/.cpanplus/5.30.1/build/WPGSIiP9nb/Data-Hopen-0.000021/blib/lib/Data/Hopen/G/Runnable.pm:119)
# Finished node all with outputs $VAR1 = {
#   'xyzzy' => 'plugh'
# }; (at /home/cpan/pit/bare-ld/conf/perl-5.30.1/.cpanplus/5.30.1/build/WPGSIiP9nb/Data-Hopen-0.000021/blib/lib/Data/Hopen/G/DAG.pm:300)
# <- Data::Hopen::G::DAG dag output $VAR1 = {
#   'all' => {
#     'xyzzy' => 'plugh'
#   }
# }; (at /home/cpan/pit/bare-ld/conf/perl-5.30.1/.cpanplus/5.30.1/build/WPGSIiP9nb/Data-Hopen-0.000021/blib/lib/Data/Hopen/G/Runnable.pm:119)
# DAG::connect(): Edge from op1 via AdditiveLink=HASH(0x2e5b290) to all (at /home/cpan/pit/bare-ld/conf/perl-5.30.1/.cpanplus/5.30.1/build/WPGSIiP9nb/Data-Hopen-0.000021/blib/lib/Data/Hopen/G/DAG.pm:391)
# -> Data::Hopen::G::DAG dag input $VAR1 = {
#   'bar' => 'Bar',
#   'foo' => 42
# }; (at /home/cpan/pit/bare-ld/conf/perl-5.30.1/.cpanplus/5.30.1/build/WPGSIiP9nb/Data-Hopen-0.000021/blib/lib/Data/Hopen/G/Runnable.pm:112)
# Traversing DAG dag ********************************************************** (at /home/cpan/pit/bare-ld/conf/perl-5.30.1/.cpanplus/5.30.1/build/WPGSIiP9nb/Data-Hopen-0.000021/blib/lib/Data/Hopen/G/DAG.pm:201)
# -> Data::Hopen::G::CollectOp op1 input $VAR1 = {
#   'foo' => 42,
#   'bar' => 'Bar'
# }; (at /home/cpan/pit/bare-ld/conf/perl-5.30.1/.cpanplus/5.30.1/build/WPGSIiP9nb/Data-Hopen-0.000021/blib/lib/Data/Hopen/G/Runnable.pm:112)
# <- Data::Hopen::G::CollectOp op1 output $VAR1 = {
#   'bar' => 'Bar',
#   'foo' => 42
# }; (at /home/cpan/pit/bare-ld/conf/perl-5.30.1/.cpanplus/5.30.1/build/WPGSIiP9nb/Data-Hopen-0.000021/blib/lib/Data/Hopen/G/Runnable.pm:119)
# Finished node op1 with outputs $VAR1 = {
#   'bar' => 'Bar',
#   'foo' => 42
# }; (at /home/cpan/pit/bare-ld/conf/perl-5.30.1/.cpanplus/5.30.1/build/WPGSIiP9nb/Data-Hopen-0.000021/blib/lib/Data/Hopen/G/DAG.pm:300)
# From op1 to all (at /home/cpan/pit/bare-ld/conf/perl-5.30.1/.cpanplus/5.30.1/build/WPGSIiP9nb/Data-Hopen-0.000021/blib/lib/Data/Hopen/G/DAG.pm:225)
# From op1 via AdditiveLink=HASH(0x2e5b290) to all (at /home/cpan/pit/bare-ld/conf/perl-5.30.1/.cpanplus/5.30.1/build/WPGSIiP9nb/Data-Hopen-0.000021/blib/lib/Data/Hopen/G/DAG.pm:268)
# -> AdditiveLink AdditiveLink=HASH(0x2e5b290) input $VAR1 = {
#   'foo' => 42,
#   'bar' => 'Bar'
# }; (at /home/cpan/pit/bare-ld/conf/perl-5.30.1/.cpanplus/5.30.1/build/WPGSIiP9nb/Data-Hopen-0.000021/blib/lib/Data/Hopen/G/Runnable.pm:112)
# <- AdditiveLink AdditiveLink=HASH(0x2e5b290) output $VAR1 = {
#   'xyzzy' => 'plugh',
#   'foo' => 42,
#   'bar' => 'Bar'
# }; (at /home/cpan/pit/bare-ld/conf/perl-5.30.1/.cpanplus/5.30.1/build/WPGSIiP9nb/Data-Hopen-0.000021/blib/lib/Data/Hopen/G/Runnable.pm:119)
# -> Data::Hopen::G::Goal all input $VAR1 = {
#   'bar' => 'Bar',
#   'foo' => 42,
#   'xyzzy' => 'plugh'
# }; (at /home/cpan/pit/bare-ld/conf/perl-5.30.1/.cpanplus/5.30.1/build/WPGSIiP9nb/Data-Hopen-0.000021/blib/lib/Data/Hopen/G/Runnable.pm:112)
# Goal all with outputs (at /home/cpan/pit/bare-ld/conf/perl-5.30.1/.cpanplus/5.30.1/build/WPGSIiP9nb/Data-Hopen-0.000021/blib/lib/Data/Hopen/G/Goal.pm:50)
# <- Data::Hopen::G::Goal all output $VAR1 = {
#   'xyzzy' => 'plugh',
#   'bar' => 'Bar',
#   'foo' => 42
# }; (at /home/cpan/pit/bare-ld/conf/perl-5.30.1/.cpanplus/5.30.1/build/WPGSIiP9nb/Data-Hopen-0.000021/blib/lib/Data/Hopen/G/Runnable.pm:119)
# Finished node all with outputs $VAR1 = {
#   'xyzzy' => 'plugh',
#   'bar' => 'Bar',
#   'foo' => 42
# }; (at /home/cpan/pit/bare-ld/conf/perl-5.30.1/.cpanplus/5.30.1/build/WPGSIiP9nb/Data-Hopen-0.000021/blib/lib/Data/Hopen/G/DAG.pm:300)
# <- Data::Hopen::G::DAG dag output $VAR1 = {
#   'all' => {
#     'xyzzy' => 'plugh',
#     'bar' => 'Bar',
#     'foo' => 42
#   }
# }; (at /home/cpan/pit/bare-ld/conf/perl-5.30.1/.cpanplus/5.30.1/build/WPGSIiP9nb/Data-Hopen-0.000021/blib/lib/Data/Hopen/G/Runnable.pm:119)
# DAG::connect(): Edge from op1 via MutantLink=HASH(0x2e5b040) to all (at /home/cpan/pit/bare-ld/conf/perl-5.30.1/.cpanplus/5.30.1/build/WPGSIiP9nb/Data-Hopen-0.000021/blib/lib/Data/Hopen/G/DAG.pm:391)
# -> Data::Hopen::G::DAG dag input $VAR1 = {
#   'foo' => 42,
#   'bar' => 'Bar'
# }; (at /home/cpan/pit/bare-ld/conf/perl-5.30.1/.cpanplus/5.30.1/build/WPGSIiP9nb/Data-Hopen-0.000021/blib/lib/Data/Hopen/G/Runnable.pm:112)
# Traversing DAG dag ********************************************************** (at /home/cpan/pit/bare-ld/conf/perl-5.30.1/.cpanplus/5.30.1/build/WPGSIiP9nb/Data-Hopen-0.000021/blib/lib/Data/Hopen/G/DAG.pm:201)
# -> Data::Hopen::G::CollectOp op1 input $VAR1 = {
#   'bar' => 'Bar',
#   'foo' => 42
# }; (at /home/cpan/pit/bare-ld/conf/perl-5.30.1/.cpanplus/5.30.1/build/WPGSIiP9nb/Data-Hopen-0.000021/blib/lib/Data/Hopen/G/Runnable.pm:112)
# <- Data::Hopen::G::CollectOp op1 output $VAR1 = {
#   'bar' => 'Bar',
#   'foo' => 42
# }; (at /home/cpan/pit/bare-ld/conf/perl-5.30.1/.cpanplus/5.30.1/build/WPGSIiP9nb/Data-Hopen-0.000021/blib/lib/Data/Hopen/G/Runnable.pm:119)
# Finished node op1 with outputs $VAR1 = {
#   'bar' => 'Bar',
#   'foo' => 42
# }; (at /home/cpan/pit/bare-ld/conf/perl-5.30.1/.cpanplus/5.30.1/build/WPGSIiP9nb/Data-Hopen-0.000021/blib/lib/Data/Hopen/G/DAG.pm:300)
# From op1 to all (at /home/cpan/pit/bare-ld/conf/perl-5.30.1/.cpanplus/5.30.1/build/WPGSIiP9nb/Data-Hopen-0.000021/blib/lib/Data/Hopen/G/DAG.pm:225)
# From op1 via MutantLink=HASH(0x2e5b040) to all (at /home/cpan/pit/bare-ld/conf/perl-5.30.1/.cpanplus/5.30.1/build/WPGSIiP9nb/Data-Hopen-0.000021/blib/lib/Data/Hopen/G/DAG.pm:268)
# -> MutantLink MutantLink=HASH(0x2e5b040) input $VAR1 = {
#   'bar' => 'Bar',
#   'foo' => 42
# }; (at /home/cpan/pit/bare-ld/conf/perl-5.30.1/.cpanplus/5.30.1/build/WPGSIiP9nb/Data-Hopen-0.000021/blib/lib/Data/Hopen/G/Runnable.pm:112)
# <- MutantLink MutantLink=HASH(0x2e5b040) output $VAR1 = {
#   'foo' => 84,
#   'bar' => 'Bar'
# }; (at /home/cpan/pit/bare-ld/conf/perl-5.30.1/.cpanplus/5.30.1/build/WPGSIiP9nb/Data-Hopen-0.000021/blib/lib/Data/Hopen/G/Runnable.pm:119)
# -> Data::Hopen::G::Goal all input $VAR1 = {
#   'foo' => 84,
#   'bar' => 'Bar'
# }; (at /home/cpan/pit/bare-ld/conf/perl-5.30.1/.cpanplus/5.30.1/build/WPGSIiP9nb/Data-Hopen-0.000021/blib/lib/Data/Hopen/G/Runnable.pm:112)
# Goal all with outputs (at /home/cpan/pit/bare-ld/conf/perl-5.30.1/.cpanplus/5.30.1/build/WPGSIiP9nb/Data-Hopen-0.000021/blib/lib/Data/Hopen/G/Goal.pm:50)
# <- Data::Hopen::G::Goal all output $VAR1 = {
#   'foo' => 84,
#   'bar' => 'Bar'
# }; (at /home/cpan/pit/bare-ld/conf/perl-5.30.1/.cpanplus/5.30.1/build/WPGSIiP9nb/Data-Hopen-0.000021/blib/lib/Data/Hopen/G/Runnable.pm:119)
# Finished node all with outputs $VAR1 = {
#   'foo' => 84,
#   'bar' => 'Bar'
# }; (at /home/cpan/pit/bare-ld/conf/perl-5.30.1/.cpanplus/5.30.1/build/WPGSIiP9nb/Data-Hopen-0.000021/blib/lib/Data/Hopen/G/DAG.pm:300)
# <- Data::Hopen::G::DAG dag output $VAR1 = {
#   'all' => {
#     'foo' => 84,
#     'bar' => 'Bar'
#   }
# }; (at /home/cpan/pit/bare-ld/conf/perl-5.30.1/.cpanplus/5.30.1/build/WPGSIiP9nb/Data-Hopen-0.000021/blib/lib/Data/Hopen/G/Runnable.pm:119)
# DAG::connect(): Edge from op1 via AdditiveLink=HASH(0x2daae30) to all (at /home/cpan/pit/bare-ld/conf/perl-5.30.1/.cpanplus/5.30.1/build/WPGSIiP9nb/Data-Hopen-0.000021/blib/lib/Data/Hopen/G/DAG.pm:391)
# DAG::connect(): Edge from op1 via MutantLink=HASH(0x2e5ee60) to all (at /home/cpan/pit/bare-ld/conf/perl-5.30.1/.cpanplus/5.30.1/build/WPGSIiP9nb/Data-Hopen-0.000021/blib/lib/Data/Hopen/G/DAG.pm:391)
# -> Data::Hopen::G::DAG dag input $VAR1 = {
#   'foo' => 42,
#   'bar' => 'Bar'
# }; (at /home/cpan/pit/bare-ld/conf/perl-5.30.1/.cpanplus/5.30.1/build/WPGSIiP9nb/Data-Hopen-0.000021/blib/lib/Data/Hopen/G/Runnable.pm:112)
# Traversing DAG dag ********************************************************** (at /home/cpan/pit/bare-ld/conf/perl-5.30.1/.cpanplus/5.30.1/build/WPGSIiP9nb/Data-Hopen-0.000021/blib/lib/Data/Hopen/G/DAG.pm:201)
# -> Data::Hopen::G::CollectOp op1 input $VAR1 = {
#   'foo' => 42,
#   'bar' => 'Bar'
# }; (at /home/cpan/pit/bare-ld/conf/perl-5.30.1/.cpanplus/5.30.1/build/WPGSIiP9nb/Data-Hopen-0.000021/blib/lib/Data/Hopen/G/Runnable.pm:112)
# <- Data::Hopen::G::CollectOp op1 output $VAR1 = {
#   'bar' => 'Bar',
#   'foo' => 42
# }; (at /home/cpan/pit/bare-ld/conf/perl-5.30.1/.cpanplus/5.30.1/build/WPGSIiP9nb/Data-Hopen-0.000021/blib/lib/Data/Hopen/G/Runnable.pm:119)
# Finished node op1 with outputs $VAR1 = {
#   'bar' => 'Bar',
#   'foo' => 42
# }; (at /home/cpan/pit/bare-ld/conf/perl-5.30.1/.cpanplus/5.30.1/build/WPGSIiP9nb/Data-Hopen-0.000021/blib/lib/Data/Hopen/G/DAG.pm:300)
# From op1 to all (at /home/cpan/pit/bare-ld/conf/perl-5.30.1/.cpanplus/5.30.1/build/WPGSIiP9nb/Data-Hopen-0.000021/blib/lib/Data/Hopen/G/DAG.pm:225)
# From op1 via AdditiveLink=HASH(0x2daae30) to all (at /home/cpan/pit/bare-ld/conf/perl-5.30.1/.cpanplus/5.30.1/build/WPGSIiP9nb/Data-Hopen-0.000021/blib/lib/Data/Hopen/G/DAG.pm:268)
# -> AdditiveLink AdditiveLink=HASH(0x2daae30) input $VAR1 = {
#   'foo' => 42,
#   'bar' => 'Bar'
# }; (at /home/cpan/pit/bare-ld/conf/perl-5.30.1/.cpanplus/5.30.1/build/WPGSIiP9nb/Data-Hopen-0.000021/blib/lib/Data/Hopen/G/Runnable.pm:112)
# <- AdditiveLink AdditiveLink=HASH(0x2daae30) output $VAR1 = {
#   'xyzzy' => 'plugh',
#   'bar' => 'Bar',
#   'foo' => 42
# }; (at /home/cpan/pit/bare-ld/conf/perl-5.30.1/.cpanplus/5.30.1/build/WPGSIiP9nb/Data-Hopen-0.000021/blib/lib/Data/Hopen/G/Runnable.pm:119)
# From op1 via MutantLink=HASH(0x2e5ee60) to all (at /home/cpan/pit/bare-ld/conf/perl-5.30.1/.cpanplus/5.30.1/build/WPGSIiP9nb/Data-Hopen-0.000021/blib/lib/Data/Hopen/G/DAG.pm:268)
# -> MutantLink MutantLink=HASH(0x2e5ee60) input $VAR1 = {
#   'xyzzy' => 'plugh',
#   'foo' => 42,
#   'bar' => 'Bar'
# }; (at /home/cpan/pit/bare-ld/conf/perl-5.30.1/.cpanplus/5.30.1/build/WPGSIiP9nb/Data-Hopen-0.000021/blib/lib/Data/Hopen/G/Runnable.pm:112)
# <- MutantLink MutantLink=HASH(0x2e5ee60) output $VAR1 = {
#   'xyzzy' => 'plugh',
#   'bar' => 'Bar',
#   'foo' => 84
# }; (at /home/cpan/pit/bare-ld/conf/perl-5.30.1/.cpanplus/5.30.1/build/WPGSIiP9nb/Data-Hopen-0.000021/blib/lib/Data/Hopen/G/Runnable.pm:119)
# -> Data::Hopen::G::Goal all input $VAR1 = {
#   'xyzzy' => 'plugh',
#   'bar' => 'Bar',
#   'foo' => 84
# }; (at /home/cpan/pit/bare-ld/conf/perl-5.30.1/.cpanplus/5.30.1/build/WPGSIiP9nb/Data-Hopen-0.000021/blib/lib/Data/Hopen/G/Runnable.pm:112)
# Goal all with outputs (at /home/cpan/pit/bare-ld/conf/perl-5.30.1/.cpanplus/5.30.1/build/WPGSIiP9nb/Data-Hopen-0.000021/blib/lib/Data/Hopen/G/Goal.pm:50)
# <- Data::Hopen::G::Goal all output $VAR1 = {
#   'bar' => 'Bar',
#   'foo' => 84,
#   'xyzzy' => 'plugh'
# }; (at /home/cpan/pit/bare-ld/conf/perl-5.30.1/.cpanplus/5.30.1/build/WPGSIiP9nb/Data-Hopen-0.000021/blib/lib/Data/Hopen/G/Runnable.pm:119)
# Finished node all with outputs $VAR1 = {
#   'bar' => 'Bar',
#   'foo' => 84,
#   'xyzzy' => 'plugh'
# }; (at /home/cpan/pit/bare-ld/conf/perl-5.30.1/.cpanplus/5.30.1/build/WPGSIiP9nb/Data-Hopen-0.000021/blib/lib/Data/Hopen/G/DAG.pm:300)
# <- Data::Hopen::G::DAG dag output $VAR1 = {
#   'all' => {
#     'bar' => 'Bar',
#     'foo' => 84,
#     'xyzzy' => 'plugh'
#   }
# }; (at /home/cpan/pit/bare-ld/conf/perl-5.30.1/.cpanplus/5.30.1/build/WPGSIiP9nb/Data-Hopen-0.000021/blib/lib/Data/Hopen/G/Runnable.pm:119)
# DAG::connect(): Edge from op1 via AdditiveLink=HASH(0x2b00000) to all (at /home/cpan/pit/bare-ld/conf/perl-5.30.1/.cpanplus/5.30.1/build/WPGSIiP9nb/Data-Hopen-0.000021/blib/lib/Data/Hopen/G/DAG.pm:391)
# DAG::connect(): Edge from op1 via MutantLink=HASH(0x2daaf00) to all (at /home/cpan/pit/bare-ld/conf/perl-5.30.1/.cpanplus/5.30.1/build/WPGSIiP9nb/Data-Hopen-0.000021/blib/lib/Data/Hopen/G/DAG.pm:391)
# -> Data::Hopen::G::DAG dag input $VAR1 = {
#   'bar' => 'Bar',
#   'foo' => 42
# }; (at /home/cpan/pit/bare-ld/conf/perl-5.30.1/.cpanplus/5.30.1/build/WPGSIiP9nb/Data-Hopen-0.000021/blib/lib/Data/Hopen/G/Runnable.pm:112)
# Traversing DAG dag ********************************************************** (at /home/cpan/pit/bare-ld/conf/perl-5.30.1/.cpanplus/5.30.1/build/WPGSIiP9nb/Data-Hopen-0.000021/blib/lib/Data/Hopen/G/DAG.pm:201)
# -> Data::Hopen::G::CollectOp op1 input $VAR1 = {
#   'foo' => 42,
#   'bar' => 'Bar'
# }; (at /home/cpan/pit/bare-ld/conf/perl-5.30.1/.cpanplus/5.30.1/build/WPGSIiP9nb/Data-Hopen-0.000021/blib/lib/Data/Hopen/G/Runnable.pm:112)
# <- Data::Hopen::G::CollectOp op1 output $VAR1 = {
#   'bar' => 'Bar',
#   'foo' => 42
# }; (at /home/cpan/pit/bare-ld/conf/perl-5.30.1/.cpanplus/5.30.1/build/WPGSIiP9nb/Data-Hopen-0.000021/blib/lib/Data/Hopen/G/Runnable.pm:119)
# Finished node op1 with outputs $VAR1 = {
#   'bar' => 'Bar',
#   'foo' => 42
# }; (at /home/cpan/pit/bare-ld/conf/perl-5.30.1/.cpanplus/5.30.1/build/WPGSIiP9nb/Data-Hopen-0.000021/blib/lib/Data/Hopen/G/DAG.pm:300)
# From op1 to all (at /home/cpan/pit/bare-ld/conf/perl-5.30.1/.cpanplus/5.30.1/build/WPGSIiP9nb/Data-Hopen-0.000021/blib/lib/Data/Hopen/G/DAG.pm:225)
# From op1 via AdditiveLink=HASH(0x2b00000) to all (at /home/cpan/pit/bare-ld/conf/perl-5.30.1/.cpanplus/5.30.1/build/WPGSIiP9nb/Data-Hopen-0.000021/blib/lib/Data/Hopen/G/DAG.pm:268)
# -> AdditiveLink AdditiveLink=HASH(0x2b00000) input $VAR1 = {
#   'bar' => 'Bar',
#   'foo' => 42
# }; (at /home/cpan/pit/bare-ld/conf/perl-5.30.1/.cpanplus/5.30.1/build/WPGSIiP9nb/Data-Hopen-0.000021/blib/lib/Data/Hopen/G/Runnable.pm:112)
# <- AdditiveLink AdditiveLink=HASH(0x2b00000) output $VAR1 = {
#   'multiplier' => 3,
#   'foo' => 42,
#   'bar' => 'Bar'
# }; (at /home/cpan/pit/bare-ld/conf/perl-5.30.1/.cpanplus/5.30.1/build/WPGSIiP9nb/Data-Hopen-0.000021/blib/lib/Data/Hopen/G/Runnable.pm:119)
# From op1 via MutantLink=HASH(0x2daaf00) to all (at /home/cpan/pit/bare-ld/conf/perl-5.30.1/.cpanplus/5.30.1/build/WPGSIiP9nb/Data-Hopen-0.000021/blib/lib/Data/Hopen/G/DAG.pm:268)
# -> MutantLink MutantLink=HASH(0x2daaf00) input $VAR1 = {
#   'multiplier' => 3,
#   'bar' => 'Bar',
#   'foo' => 42
# }; (at /home/cpan/pit/bare-ld/conf/perl-5.30.1/.cpanplus/5.30.1/build/WPGSIiP9nb/Data-Hopen-0.000021/blib/lib/Data/Hopen/G/Runnable.pm:112)
# <- MutantLink MutantLink=HASH(0x2daaf00) output $VAR1 = {
#   'bar' => 'Bar',
#   'foo' => 126,
#   'multiplier' => 3
# }; (at /home/cpan/pit/bare-ld/conf/perl-5.30.1/.cpanplus/5.30.1/build/WPGSIiP9nb/Data-Hopen-0.000021/blib/lib/Data/Hopen/G/Runnable.pm:119)
# -> Data::Hopen::G::Goal all input $VAR1 = {
#   'foo' => 126,
#   'bar' => 'Bar',
#   'multiplier' => 3
# }; (at /home/cpan/pit/bare-ld/conf/perl-5.30.1/.cpanplus/5.30.1/build/WPGSIiP9nb/Data-Hopen-0.000021/blib/lib/Data/Hopen/G/Runnable.pm:112)
# Goal all with outputs (at /home/cpan/pit/bare-ld/conf/perl-5.30.1/.cpanplus/5.30.1/build/WPGSIiP9nb/Data-Hopen-0.000021/blib/lib/Data/Hopen/G/Goal.pm:50)
# <- Data::Hopen::G::Goal all output $VAR1 = {
#   'foo' => 126,
#   'bar' => 'Bar',
#   'multiplier' => 3
# }; (at /home/cpan/pit/bare-ld/conf/perl-5.30.1/.cpanplus/5.30.1/build/WPGSIiP9nb/Data-Hopen-0.000021/blib/lib/Data/Hopen/G/Runnable.pm:119)
# Finished node all with outputs $VAR1 = {
#   'foo' => 126,
#   'bar' => 'Bar',
#   'multiplier' => 3
# }; (at /home/cpan/pit/bare-ld/conf/perl-5.30.1/.cpanplus/5.30.1/build/WPGSIiP9nb/Data-Hopen-0.000021/blib/lib/Data/Hopen/G/DAG.pm:300)
# <- Data::Hopen::G::DAG dag output $VAR1 = {
#   'all' => {
#     'foo' => 126,
#     'bar' => 'Bar',
#     'multiplier' => 3
#   }
# }; (at /home/cpan/pit/bare-ld/conf/perl-5.30.1/.cpanplus/5.30.1/build/WPGSIiP9nb/Data-Hopen-0.000021/blib/lib/Data/Hopen/G/Runnable.pm:119)
# DAG::connect(): Edge from op1 via MutantLink=HASH(0x2e61370) to all (at /home/cpan/pit/bare-ld/conf/perl-5.30.1/.cpanplus/5.30.1/build/WPGSIiP9nb/Data-Hopen-0.000021/blib/lib/Data/Hopen/G/DAG.pm:391)
# DAG::connect(): Edge from op1 via AdditiveLink=HASH(0x2e5e7a0) to all (at /home/cpan/pit/bare-ld/conf/perl-5.30.1/.cpanplus/5.30.1/build/WPGSIiP9nb/Data-Hopen-0.000021/blib/lib/Data/Hopen/G/DAG.pm:391)
# -> Data::Hopen::G::DAG dag input $VAR1 = {
#   'bar' => 'Bar',
#   'foo' => 42
# }; (at /home/cpan/pit/bare-ld/conf/perl-5.30.1/.cpanplus/5.30.1/build/WPGSIiP9nb/Data-Hopen-0.000021/blib/lib/Data/Hopen/G/Runnable.pm:112)
# Traversing DAG dag ********************************************************** (at /home/cpan/pit/bare-ld/conf/perl-5.30.1/.cpanplus/5.30.1/build/WPGSIiP9nb/Data-Hopen-0.000021/blib/lib/Data/Hopen/G/DAG.pm:201)
# -> Data::Hopen::G::CollectOp op1 input $VAR1 = {
#   'foo' => 42,
#   'bar' => 'Bar'
# }; (at /home/cpan/pit/bare-ld/conf/perl-5.30.1/.cpanplus/5.30.1/build/WPGSIiP9nb/Data-Hopen-0.000021/blib/lib/Data/Hopen/G/Runnable.pm:112)
# <- Data::Hopen::G::CollectOp op1 output $VAR1 = {
#   'foo' => 42,
#   'bar' => 'Bar'
# }; (at /home/cpan/pit/bare-ld/conf/perl-5.30.1/.cpanplus/5.30.1/build/WPGSIiP9nb/Data-Hopen-0.000021/blib/lib/Data/Hopen/G/Runnable.pm:119)
# Finished node op1 with outputs $VAR1 = {
#   'foo' => 42,
#   'bar' => 'Bar'
# }; (at /home/cpan/pit/bare-ld/conf/perl-5.30.1/.cpanplus/5.30.1/build/WPGSIiP9nb/Data-Hopen-0.000021/blib/lib/Data/Hopen/G/DAG.pm:300)
# From op1 to all (at /home/cpan/pit/bare-ld/conf/perl-5.30.1/.cpanplus/5.30.1/build/WPGSIiP9nb/Data-Hopen-0.000021/blib/lib/Data/Hopen/G/DAG.pm:225)
# From op1 via MutantLink=HASH(0x2e61370) to all (at /home/cpan/pit/bare-ld/conf/perl-5.30.1/.cpanplus/5.30.1/build/WPGSIiP9nb/Data-Hopen-0.000021/blib/lib/Data/Hopen/G/DAG.pm:268)
# -> MutantLink MutantLink=HASH(0x2e61370) input $VAR1 = {
#   'bar' => 'Bar',
#   'foo' => 42
# }; (at /home/cpan/pit/bare-ld/conf/perl-5.30.1/.cpanplus/5.30.1/build/WPGSIiP9nb/Data-Hopen-0.000021/blib/lib/Data/Hopen/G/Runnable.pm:112)
# <- MutantLink MutantLink=HASH(0x2e61370) output $VAR1 = {
#   'bar' => 'Bar',
#   'foo' => 84
# }; (at /home/cpan/pit/bare-ld/conf/perl-5.30.1/.cpanplus/5.30.1/build/WPGSIiP9nb/Data-Hopen-0.000021/blib/lib/Data/Hopen/G/Runnable.pm:119)
# From op1 via AdditiveLink=HASH(0x2e5e7a0) to all (at /home/cpan/pit/bare-ld/conf/perl-5.30.1/.cpanplus/5.30.1/build/WPGSIiP9nb/Data-Hopen-0.000021/blib/lib/Data/Hopen/G/DAG.pm:268)
# -> AdditiveLink AdditiveLink=HASH(0x2e5e7a0) input $VAR1 = {
#   'bar' => 'Bar',
#   'foo' => 84
# }; (at /home/cpan/pit/bare-ld/conf/perl-5.30.1/.cpanplus/5.30.1/build/WPGSIiP9nb/Data-Hopen-0.000021/blib/lib/Data/Hopen/G/Runnable.pm:112)
# <- AdditiveLink AdditiveLink=HASH(0x2e5e7a0) output $VAR1 = {
#   'multiplier' => 3,
#   'foo' => 84,
#   'bar' => 'Bar'
# }; (at /home/cpan/pit/bare-ld/conf/perl-5.30.1/.cpanplus/5.30.1/build/WPGSIiP9nb/Data-Hopen-0.000021/blib/lib/Data/Hopen/G/Runnable.pm:119)
# -> Data::Hopen::G::Goal all input $VAR1 = {
#   'multiplier' => 3,
#   'foo' => 84,
#   'bar' => 'Bar'
# }; (at /home/cpan/pit/bare-ld/conf/perl-5.30.1/.cpanplus/5.30.1/build/WPGSIiP9nb/Data-Hopen-0.000021/blib/lib/Data/Hopen/G/Runnable.pm:112)
# Goal all with outputs (at /home/cpan/pit/bare-ld/conf/perl-5.30.1/.cpanplus/5.30.1/build/WPGSIiP9nb/Data-Hopen-0.000021/blib/lib/Data/Hopen/G/Goal.pm:50)
# <- Data::Hopen::G::Goal all output $VAR1 = {
#   'foo' => 84,
#   'bar' => 'Bar',
#   'multiplier' => 3
# }; (at /home/cpan/pit/bare-ld/conf/perl-5.30.1/.cpanplus/5.30.1/build/WPGSIiP9nb/Data-Hopen-0.000021/blib/lib/Data/Hopen/G/Runnable.pm:119)
# Finished node all with outputs $VAR1 = {
#   'foo' => 84,
#   'bar' => 'Bar',
#   'multiplier' => 3
# }; (at /home/cpan/pit/bare-ld/conf/perl-5.30.1/.cpanplus/5.30.1/build/WPGSIiP9nb/Data-Hopen-0.000021/blib/lib/Data/Hopen/G/DAG.pm:300)
# <- Data::Hopen::G::DAG dag output $VAR1 = {
#   'all' => {
#     'foo' => 84,
#     'bar' => 'Bar',
#     'multiplier' => 3
#   }
# }; (at /home/cpan/pit/bare-ld/conf/perl-5.30.1/.cpanplus/5.30.1/build/WPGSIiP9nb/Data-Hopen-0.000021/blib/lib/Data/Hopen/G/Runnable.pm:119)
t/125-dag-links.t .............. ok
t/998-sig-die.t ................ ok
# TestDataHopen
# TestDataHopenScope
# TestDataHopenGOutputOp
# TestDataHopenGNode
# TestDataHopenUtilData
t/999-extras-for-coverage.t .... ok
All tests successful.
Files=25, Tests=538,  3 wallclock secs ( 0.12 usr  0.02 sys +  2.55 cusr  0.30 csys =  2.99 CPU)
Result: PASS


PREREQUISITES:

Here is a list of prerequisites you specified and versions we
managed to load:

	  Module Name                        Have     Want
	  Capture::Tiny                      0.48        0
	  Carp                               1.50        0
	  Class::Method::Modifiers           2.15     2.10
	  Class::Tiny                       1.008    1.001
	  Data::Dumper                      2.174        0
	  Exporter                           5.73        0
	  File::Spec                         3.78        0
	  Getargs::Mixed                     1.06     1.04
	  Getopt::Long                        2.5      2.5
	  Graph                            0.9732   0.9704
	  Hash::Merge                       0.302    0.299
	  Import::Into                   1.002005        0
	  List::AutoNumbered             0.000010 0.000009
	  Path::Class                        0.37     0.37
	  Pod::Markdown                     3.400        0
	  Pod::Text                          4.11        0
	  Quote::Code                      1.0104   1.0102
	  Regexp::Assemble                   0.38     0.38
	  Scalar::Util                       1.68        0
	  Set::Scalar                        1.29     1.27
	  Storable                           3.25     3.06
	  Sub::Identify                      0.14     0.14
	  Sub::ScopeFinalizer                0.02     0.02
	  Test::Deep                        1.204    0.098
	  Test::Fatal                       0.017    0.014
	  Test::More                     1.302199        0
	  Test::UseAllModules                0.17     0.17
	  Test::Warn                         0.37     0.35
	  constant                           1.33        0
	  experimental                      0.020    0.009
	  feature                            1.54        0
	  overload                           1.30        0
	  rlib                               0.02        0
	  strict                             1.11        0
	  vars::i                        2.000000 2.000000
	  warnings                           1.44        0

Perl module toolchain versions installed:
	Module Name                        Have
	CPANPLUS                         0.9914
	CPANPLUS::Dist::Build              0.90
	Cwd                                3.78
	ExtUtils::CBuilder             0.280236
	ExtUtils::Command                  7.70
	ExtUtils::Install                  2.22
	ExtUtils::MakeMaker                7.70
	ExtUtils::Manifest                 1.75
	ExtUtils::ParseXS                  3.51
	File::Spec                         3.78
	Module::Build                    0.4234
	Pod::Parser                        1.63
	Pod::Simple                        3.35
	Test2                          1.302199
	Test::Harness                      3.48
	Test::More                     1.302199
	version                          0.9932

******************************** NOTE ********************************
The comments above are created mechanically, possibly without manual
checking by the sender.  As there are many people performing automatic
tests on each upload to CPAN, it is likely that you will receive
identical messages about the same problem.

If you believe that the message is mistaken, please reply to the first
one with correction and/or additional informations, and do not take
it personally.  We appreciate your patience. :)
**********************************************************************

Additional comments:


This report was machine-generated by CPANPLUS::Dist::YACSmoke 1.08.
Powered by minismokebox version 0.68

CPANPLUS is prefering Build.PL

------------------------------
ENVIRONMENT AND OTHER CONTEXT
------------------------------

Environment variables:

    AUTOMATED_TESTING = 1
    LANG = en_GB.UTF-8
    LANGUAGE = en_GB:en
    NONINTERACTIVE_TESTING = 1
    PATH = /usr/local/bin:/usr/bin:/bin:/usr/local/games:/usr/games
    PERL5LIB = /home/cpan/pit/jail/R9ObC4sAOZ/lib/perl5:/home/cpan/pit/bare-ld/conf/perl-5.30.1/.cpanplus/5.30.1/build/WPGSIiP9nb/Data-Hopen-0.000021/blib/lib:/home/cpan/pit/bare-ld/conf/perl-5.30.1/.cpanplus/5.30.1/build/WPGSIiP9nb/Data-Hopen-0.000021/blib/arch
    PERL5_CPANPLUS_IS_RUNNING = 32280
    PERL5_CPANPLUS_IS_VERSION = 0.9914
    PERL5_MINISMOKEBOX = 0.68
    PERL5_YACSMOKE_BASE = /home/cpan/pit/bare-ld/conf/perl-5.30.1
    PERL_EXTUTILS_AUTOINSTALL = --defaultdeps
    PERL_LOCAL_LIB_ROOT = /home/cpan/pit/jail/R9ObC4sAOZ
    PERL_MB_OPT = --install_base "/home/cpan/pit/jail/R9ObC4sAOZ"
    PERL_MM_OPT = INSTALL_BASE=/home/cpan/pit/jail/R9ObC4sAOZ
    PERL_MM_USE_DEFAULT = 1
    SHELL = /bin/bash
    TERM = screen.xterm-256color

Perl special variables (and OS-specific diagnostics, for MSWin32):

    Perl: $^X = /home/cpan/pit/bare-ld/perl-5.30.1/bin/perl
    UID:  $<  = 1001
    EUID: $>  = 1001
    GID:  $(  = 1001 1001
    EGID: $)  = 1001 1001


-------------------------------


--

Summary of my perl5 (revision 5 version 30 subversion 1) configuration:
   
  Platform:
    osname=linux
    osvers=5.10.0-12-686
    archname=i686-linux-ld
    uname='linux dagobah 5.10.0-12-686 #1 smp debian 5.10.103-1 (2022-03-07) i686 gnulinux '
    config_args='-des -Dprefix=/home/cpan/pit/bare-ld/perl-5.30.1 -Duselongdouble'
    hint=recommended
    useposix=true
    d_sigaction=define
    useithreads=undef
    usemultiplicity=undef
    use64bitint=undef
    use64bitall=undef
    uselongdouble=define
    usemymalloc=n
    default_inc_excludes_dot=define
    bincompat5005=undef
  Compiler:
    cc='cc'
    ccflags ='-fwrapv -fno-strict-aliasing -pipe -fstack-protector-strong -I/usr/local/include -D_LARGEFILE_SOURCE -D_FILE_OFFSET_BITS=64 -D_FORTIFY_SOURCE=2'
    optimize='-O2'
    cppflags='-fwrapv -fno-strict-aliasing -pipe -fstack-protector-strong -I/usr/local/include'
    ccversion=''
    gccversion='10.2.1 20210110'
    gccosandvers=''
    intsize=4
    longsize=4
    ptrsize=4
    doublesize=8
    byteorder=1234
    doublekind=3
    d_longlong=define
    longlongsize=8
    d_longdbl=define
    longdblsize=12
    longdblkind=3
    ivtype='long'
    ivsize=4
    nvtype='long double'
    nvsize=12
    Off_t='off_t'
    lseeksize=8
    alignbytes=4
    prototype=define
  Linker and Libraries:
    ld='cc'
    ldflags =' -fstack-protector-strong -L/usr/local/lib'
    libpth=/usr/local/lib /usr/include/i386-linux-gnu /usr/lib /lib/i386-linux-gnu /lib/../lib /usr/lib/i386-linux-gnu /usr/lib/../lib /lib /lib64 /usr/lib64
    libs=-lpthread -lnsl -lgdbm -ldl -lm -lcrypt -lutil -lc
    perllibs=-lpthread -lnsl -ldl -lm -lcrypt -lutil -lc
    libc=libc-2.31.so
    so=so
    useshrplib=false
    libperl=libperl.a
    gnulibc_version='2.31'
  Dynamic Linking:
    dlsrc=dl_dlopen.xs
    dlext=so
    d_dlsymun=undef
    ccdlflags='-Wl,-E'
    cccdlflags='-fPIC'
    lddlflags='-shared -O2 -L/usr/local/lib -fstack-protector-strong'


Characteristics of this binary (from libperl): 
  Compile-time options:
    HAS_TIMES
    PERLIO_LAYERS
    PERL_COPY_ON_WRITE
    PERL_DONT_CREATE_GVSV
    PERL_MALLOC_WRAP
    PERL_OP_PARENT
    PERL_PRESERVE_IVUV
    USE_LARGE_FILES
    USE_LOCALE
    USE_LOCALE_COLLATE
    USE_LOCALE_CTYPE
    USE_LOCALE_NUMERIC
    USE_LOCALE_TIME
    USE_LONG_DOUBLE
    USE_PERLIO
    USE_PERL_ATOF
  Locally applied patches:
    Devel::PatchPerl 2.08
  Built under linux
  Compiled at Mar 19 2022 09:10:25
  %ENV:
    PERL5LIB="/home/cpan/pit/jail/R9ObC4sAOZ/lib/perl5:/home/cpan/pit/bare-ld/conf/perl-5.30.1/.cpanplus/5.30.1/build/WPGSIiP9nb/Data-Hopen-0.000021/blib/lib:/home/cpan/pit/bare-ld/conf/perl-5.30.1/.cpanplus/5.30.1/build/WPGSIiP9nb/Data-Hopen-0.000021/blib/arch"
    PERL5_CPANPLUS_IS_RUNNING="32280"
    PERL5_CPANPLUS_IS_VERSION="0.9914"
    PERL5_MINISMOKEBOX="0.68"
    PERL5_YACSMOKE_BASE="/home/cpan/pit/bare-ld/conf/perl-5.30.1"
    PERL_EXTUTILS_AUTOINSTALL="--defaultdeps"
    PERL_LOCAL_LIB_ROOT="/home/cpan/pit/jail/R9ObC4sAOZ"
    PERL_MB_OPT="--install_base "/home/cpan/pit/jail/R9ObC4sAOZ""
    PERL_MM_OPT="INSTALL_BASE=/home/cpan/pit/jail/R9ObC4sAOZ"
    PERL_MM_USE_DEFAULT="1"
  @INC:
    /home/cpan/pit/jail/R9ObC4sAOZ/lib/perl5/5.30.1/i686-linux-ld
    /home/cpan/pit/jail/R9ObC4sAOZ/lib/perl5/5.30.1
    /home/cpan/pit/jail/R9ObC4sAOZ/lib/perl5/i686-linux-ld
    /home/cpan/pit/jail/R9ObC4sAOZ/lib/perl5
    /home/cpan/pit/bare-ld/conf/perl-5.30.1/.cpanplus/5.30.1/build/WPGSIiP9nb/Data-Hopen-0.000021/blib/lib
    /home/cpan/pit/bare-ld/conf/perl-5.30.1/.cpanplus/5.30.1/build/WPGSIiP9nb/Data-Hopen-0.000021/blib/arch
    /home/cpan/pit/bare-ld/perl-5.30.1/lib/site_perl/5.30.1/i686-linux-ld
    /home/cpan/pit/bare-ld/perl-5.30.1/lib/site_perl/5.30.1
    /home/cpan/pit/bare-ld/perl-5.30.1/lib/5.30.1/i686-linux-ld
    /home/cpan/pit/bare-ld/perl-5.30.1/lib/5.30.1