XML-Parser v2.44 Perl 5 v5.26.2 x86_64-linux

Status
Pass
From
Reini Urban (RURBAN)
Dist
XML-Parser v2.44
Platform
Perl 5 v5.26.2 x86_64-linux
Date
2018-01-31 13:39:09
ID
1d9b852c-068c-11e8-90e3-ff5eccfea7cd
This distribution has been tested as part of the CPAN Testers
project, supporting the Perl programming language.  See
http://wiki.cpantesters.org/ for more information or email
questions to cpan-testers-discuss@perl.org


--
Dear Todd Rinaldo,

This is a computer-generated report for XML-Parser-2.44
on perl 5.26.2, created by CPAN-Reporter-1.2018.

Thank you for uploading your work to CPAN.  Congratulations!
All tests were successful.

Sections of this report:

    * Tester comments
    * Program output
    * Prerequisites
    * Environment and other context

------------------------------
TESTER COMMENTS
------------------------------

Additional comments from tester:

this report is from an automated smoke testing program
and was not reviewed by a human for accuracy

------------------------------
PROGRAM OUTPUT
------------------------------

Output from '/usr/bin/make test':

make[1]: Entering directory '/home/rurban/Perl/.cpan-build/XML-Parser-2.44-8/Expat'
"/usr/local/bin/cperl5.26.2-nt" -MExtUtils::Command::MM -e 'cp_nonempty' -- Expat.bs ../blib/arch/auto/XML/Parser/Expat/Expat.bs 644
make[1]: Leaving directory '/home/rurban/Perl/.cpan-build/XML-Parser-2.44-8/Expat'
PERL_DL_NONLAZY=1 "/usr/local/bin/cperl5.26.2-nt" "-MExtUtils::Command::MM" "-MTest::Harness" "-e" "undef *Test::Harness::Switches; test_harness(0, 'blib/lib', 'blib/arch')" t/*.t
t/astress.t ........... ok
t/cdata.t ............. ok
t/decl.t .............. ok
t/defaulted.t ......... ok
t/encoding.t .......... ok
t/external_ent.t ...... ok
t/file.t .............. ok
t/file_open_scalar.t .. ok
t/finish.t ............ ok
t/namespaces.t ........ ok
t/parament.t .......... ok
t/partial.t ........... ok
t/skip.t .............. ok
t/stream.t ............ ok
t/styles.t ............ ok
All tests successful.
Files=15, Tests=141,  1 wallclock secs ( 0.06 usr  0.00 sys +  0.47 cusr  0.04 csys =  0.57 CPU)
Result: PASS

------------------------------
PREREQUISITES
------------------------------

Prerequisite modules loaded:

requires:

    Module              Need    Have     
    ------------------- ------- ---------
    LWP::UserAgent      0       6.31     
    perl                5.00405 5.026002 

build_requires:

    Module              Need    Have     
    ------------------- ------- ---------
    Test::More          0       1.401015c

configure_requires:

    Module              Need    Have     
    ------------------- ------- ---------
    ExtUtils::MakeMaker 0       8.30_04  


------------------------------
ENVIRONMENT AND OTHER CONTEXT
------------------------------

Environment variables:

    AUTOMATED_TESTING = 1
    LANG = en_US.UTF-8
    LC_CTYPE = en_US.UTF-8
    NONINTERACTIVE_TESTING = 1
    PATH = /home/rurban/bin:/usr/local/bin:/usr/bin:/bin:/usr/local/games:/usr/games:/home/rurban/go/bin
    PERL5LIB = 
    PERL5OPT = 
    PERL5_CPANPLUS_IS_RUNNING = 18225
    PERL5_CPAN_IS_RUNNING = 18225
    PERL_MM_USE_DEFAULT = 1
    PERL_USE_UNSAFE_INC = 1
    SHELL = /bin/bash
    TERM = screen

Perl special variables (and OS-specific diagnostics, for MSWin32):

    $^X = /usr/local/bin/cperl5.26.2-nt
    $UID/$EUID = 1000 / 1000
    $GID = 1000 27 124 157 1000 1001
    $EGID = 1000 27 124 157 1000 1001

Perl module toolchain versions installed:

    Module              Have      
    ------------------- ----------
    CPAN                2.18_01   
    CPAN::Meta          2.150010  
    Cwd                 4.68c     
    ExtUtils::CBuilder  0.280230  
    ExtUtils::Command   7.30      
    ExtUtils::Install   2.14      
    ExtUtils::MakeMaker 8.30_04   
    ExtUtils::Manifest  1.70      
    ExtUtils::ParseXS   3.36_03   
    File::Spec          4.68c     
    JSON                2.97001   
    JSON::PP            2.97001_04
    Module::Build       0.4224    
    Module::Signature   0.81      
    Parse::CPAN::Meta   2.150010  
    Test::Harness       3.39_01   
    Test::More          1.401015c 
    YAML                1.24      
    YAML::Syck          n/a       
    version             0.9918_02c


--

Summary of my cperl (revision 5 version 26 subversion 2) configuration:
   
  Platform:
    osname=linux, osvers=4.12.0-2-amd64, archname=x86_64-linux
    uname='linux reini 4.12.0-2-amd64 #1 smp debian 4.12.13-1 (2017-09-19) x86_64 gnulinux '
    config_args='-sder -Dcc=ccache gcc-7 -Accflags=-msse4.2 -march=native -Dinstallman1dir=none -Dinstallman3dir=none -Dinstallsiteman1dir=none -Dinstallsiteman3dir=none -Darchname=x86_64-linux -Darchlib=/usr/local/lib/cperl/5.26.2/x86_64-linux -Dsitearch=/usr/local/lib/cperl/site_cperl/5.26.2/x86_64-linux -Dperlpath=/usr/local/bin/cperl5.26.2-nt -Dstartperl=#!/usr/local/bin/cperl5.26.2-nt -Dcf_email=rurban@cpanel.net -Doptimize=-O3 -g'
    hint=recommended, useposix=true, d_sigaction=define
    useithreads=undef, usemultiplicity=undef
    use64bitint=define, use64bitall=define, uselongdouble=undef
    usemymalloc=n, bincompat5005=undef default_inc_excludes_dot=define
  Compiler:
    cc='ccache gcc-7', ccflags ='-msse4.2 -march=native -fwrapv -fno-strict-aliasing -pipe -fstack-protector-strong -D_LARGEFILE_SOURCE -D_FILE_OFFSET_BITS=64 -D_FORTIFY_SOURCE=2',
    optimize='-O3 -g',
    cppflags='-msse4.2 -march=native -fwrapv -fno-strict-aliasing -pipe -fstack-protector-strong'
    ccversion='', gccversion='7.2.0', gccosandvers=''
    intsize=4, longsize=8, ptrsize=8, doublesize=8, byteorder=12345678, doublekind=3
    d_longlong=define, longlongsize=8, d_longdbl=define, longdblsize=16, longdblkind=3
    ivtype='long', ivsize=8, nvtype='double', nvsize=8, Off_t='off_t', lseeksize=8
    alignbytes=8, prototype=define
  Linker and Libraries:
    ld='ccache gcc-7', ldflags =' -fstack-protector-strong -L/usr/local/lib -L/opt/local/lib'
    libpth=/usr/lib/gcc/x86_64-linux-gnu/7 /usr/lib/x86_64-linux-gnu /usr/lib /lib/x86_64-linux-gnu /lib /usr/local/lib /opt/local/lib /lib64 /usr/lib64 /usr/local/lib64
    libs=-lpthread -lnsl -ldl -lm -lcrypt -lutil -lc
    perllibs=-lpthread -lnsl -ldl -lm -lcrypt -lutil -lc
    libc=libc-2.24.so, so=so, useshrplib=false, libperl=libperl.a
    gnulibc_version='2.24'
  Dynamic Linking:
    dlsrc=dl_dlopen.xs, dlext=so, d_dlsymun=undef, ccdlflags='-Wl,-E'
    cccdlflags='-fPIC', lddlflags='-shared -O3 -g -L/usr/local/lib -L/opt/local/lib -fstack-protector-strong'


Characteristics of this binary (from libperl): 
  Compile-time options: HAS_TIMES PERLIO_LAYERS PERL_COPY_ON_WRITE
                        PERL_DONT_CREATE_GVSV PERL_HASH_FUNC_FNV1A
                        PERL_MALLOC_WRAP PERL_OP_PARENT PERL_PERTURB_KEYS_TOP
                        PERL_PRESERVE_IVUV USE_64_BIT_ALL USE_64_BIT_INT
                        USE_CPERL USE_LARGE_FILES USE_LOCALE
                        USE_LOCALE_COLLATE USE_LOCALE_CTYPE
                        USE_LOCALE_NUMERIC USE_LOCALE_TIME USE_PERLIO
                        USE_PERL_ATOF
  Built under linux
  Compiled at Mon Jan  8 16:45:12 UTC 2018
  %ENV:
    PERL5LIB=""
    PERL5OPT=""
    PERL5_CPANPLUS_IS_RUNNING="18225"
    PERL5_CPAN_IS_RUNNING="18225"
    PERL_MM_USE_DEFAULT="1"
    PERL_USE_UNSAFE_INC="1"
  @INC:
    /usr/local/lib/cperl/site_cperl/5.26.2/x86_64-linux
    /usr/local/lib/cperl/site_cperl/5.26.2
    /usr/local/lib/cperl/5.26.2/x86_64-linux
    /usr/local/lib/cperl/5.26.2
    /usr/local/lib/cperl/site_cperl/5.26.1/x86_64-linux
    /usr/local/lib/cperl/site_cperl/5.26.1
    /usr/local/lib/cperl/site_cperl/5.24.3
    /usr/local/lib/cperl/site_cperl/5.22.5
    /usr/local/lib/cperl/site_cperl
    .