Report for Module-Refresh-0.17

Back
From: metabase:user:323dcade-2aae-11df-837a-5e0a49663a4f
Subject: PASS Module-Refresh-0.17 v5.14.4 Mac OS X
Date: 2015-07-03T08:18:42Z

This distribution has been tested as part of the CPAN Testers
project, supporting the Perl programming language.  See
http://wiki.cpantesters.org/ for more information or email
questions to cpan-testers-discuss@perl.org


--
Dear Alex Vandiver,

This is a computer-generated report for Module-Refresh-0.17
on perl 5.14.4, created by CPAN-Reporter-1.2014.

Thank you for uploading your work to CPAN.  Congratulations!
All tests were successful.

Sections of this report:

    * Tester comments
    * Program output
    * Prerequisites
    * Environment and other context

------------------------------
TESTER COMMENTS
------------------------------

Additional comments from tester:

none provided

------------------------------
PROGRAM OUTPUT
------------------------------

Output from '/usr/bin/make test':

PERL_DL_NONLAZY=1 "/usr/local/bin/perl5.14.4-nt" "-MExtUtils::Command::MM" "-MTest::Harness" "-e" "undef *Test::Harness::Switches; test_harness(0, 'inc', 'blib/lib', 'blib/arch')" t/*.t
t/0-smoke.t ......... ok
t/1api.t ............ ok
t/2lateuse.t ........ ok
t/clear_symtable.t .. ok
All tests successful.
Files=4, Tests=16,  2 wallclock secs ( 0.02 usr  0.01 sys +  0.13 cusr  0.02 csys =  0.18 CPU)
Result: PASS

------------------------------
PREREQUISITES
------------------------------

Prerequisite modules loaded:

build_requires:

    Module              Need Have    
    ------------------- ---- --------
    ExtUtils::MakeMaker 6.42 7.04    
    File::Temp          0.19 0.2304  
    Path::Class         0    0.35    
    Test::More          0    1.001014

configure_requires:

    Module              Need Have    
    ------------------- ---- --------
    ExtUtils::MakeMaker 6.42 7.04    


------------------------------
ENVIRONMENT AND OTHER CONTEXT
------------------------------

Environment variables:

    LANG = en_US.UTF-8
    LC_CTYPE = en_US.UTF-8
    NONINTERACTIVE_TESTING = 1
    PATH = /opt/local/libexec/gnubin:/opt/local/bin:/opt/local/sbin:/Users/rurban/bin:/opt/local/libexec/perl5.18/sitebin:/usr/local/bin:/usr/bin:/bin:/usr/sbin:/sbin:/opt/X11/bin
    PERL5LIB = 
    PERL5OPT = 
    PERL5_CPANPLUS_IS_RUNNING = 88052
    PERL5_CPAN_IS_RUNNING = 88052
    PERL_MM_USE_DEFAULT = 1
    SHELL = /bin/bash
    TERM = xterm-256color
    TMPDIR = /var/folders/px/n5mb0_td0czbxztsqz1cg5c80000gn/T/

Perl special variables (and OS-specific diagnostics, for MSWin32):

    $^X = /usr/local/bin/perl5.14.4-nt
    $UID/$EUID = 501 / 501
    $GID = 20 20 12 61 79 80 81 98 702 33 100 204 398 399 701
    $EGID = 20 20 12 61 79 80 81 98 702 33 100 204 398 399 701

Perl module toolchain versions installed:

    Module              Have    
    ------------------- --------
    CPAN                2.10    
    CPAN::Meta          2.150001
    Cwd                 3.47    
    ExtUtils::CBuilder  0.280223
    ExtUtils::Command   1.17    
    ExtUtils::Install   2.04    
    ExtUtils::MakeMaker 7.04    
    ExtUtils::Manifest  1.70    
    ExtUtils::ParseXS   3.24    
    File::Spec          3.47    
    JSON                2.90    
    JSON::PP            2.27203 
    Module::Build       0.4212  
    Module::Signature   0.73    
    Parse::CPAN::Meta   1.4414  
    Test::Harness       3.35    
    Test::More          1.001014
    YAML                1.15    
    YAML::Syck          1.21    
    version             0.9908  


--

Summary of my perl5 (revision 5 version 14 subversion 4) configuration:
   
  Platform:
    osname=darwin, osvers=12.3.0, archname=darwin
    uname='darwin localhost 12.3.0 darwin kernel version 12.3.0: sun jan 6 22:37:10 pst 2013; root:xnu-2050.22.13~1release_x86_64 x86_64 i386 macbookair5,2 darwin '
    config_args='-de -Dusedevel -Uversiononly -Dinstallman1dir=none -Dinstallman3dir=none -Dinstallsiteman1dir=none -Dinstallsiteman3dir=none -Uuseithreads -Dcc='gcc-mp-4.8' -Dld='gcc-mp-4.8' -Accflags='-m64' -Accflags='-mssse3' -Duseshrplib -Aldflags=-flat_namespace'
    hint=recommended, useposix=true, d_sigaction=define
    useithreads=undef, usemultiplicity=undef
    useperlio=define, d_sfio=undef, uselargefiles=define, usesocks=undef
    use64bitint=define, use64bitall=define, uselongdouble=undef
    usemymalloc=n, bincompat5005=undef
  Compiler:
    cc='gcc-mp-4.8', ccflags ='-fno-common -DPERL_DARWIN -m64 -mssse3 -fno-strict-aliasing -pipe -fstack-protector -I/usr/local/include -I/opt/local/include',
    optimize='-O3',
    cppflags='-fno-common -DPERL_DARWIN -m64 -mssse3 -fno-strict-aliasing -pipe -fstack-protector -I/usr/local/include -I/opt/local/include'
    ccversion='', gccversion='4.8.1 20130411 (prerelease)', gccosandvers=''
    intsize=4, longsize=8, ptrsize=8, doublesize=8, byteorder=12345678
    d_longlong=define, longlongsize=8, d_longdbl=define, longdblsize=16
    ivtype='long', ivsize=8, nvtype='double', nvsize=8, Off_t='off_t', lseeksize=8
    alignbytes=8, prototype=define
  Linker and Libraries:
    ld='gcc-mp-4.8', ldflags =' -flat_namespace -fstack-protector -L/usr/local/lib -L/opt/local/lib'
    libpth=/usr/local/lib /opt/local/lib /usr/lib
    libs=-lgdbm -ldbm -ldl -lm -lutil -lc
    perllibs=-ldl -lm -lutil -lc
    libc=, so=dylib, useshrplib=true, libperl=libperl.dylib
    gnulibc_version=''
  Dynamic Linking:
    dlsrc=dl_dlopen.xs, dlext=bundle, d_dlsymun=undef, ccdlflags=' '
    cccdlflags=' ', lddlflags=' -bundle -undefined dynamic_lookup -L/usr/local/lib -L/opt/local/lib -fstack-protector'


Characteristics of this binary (from libperl): 
  Compile-time options: PERL_DONT_CREATE_GVSV PERL_MALLOC_WRAP
                        PERL_PRESERVE_IVUV PERL_USE_DEVEL USE_64_BIT_ALL
                        USE_64_BIT_INT USE_LARGE_FILES USE_PERLIO
                        USE_PERL_ATOF
  Built under darwin
  Compiled at May  1 2013 18:58:22
  %ENV:
    PERL5LIB=""
    PERL5OPT=""
    PERL5_CPANPLUS_IS_RUNNING="88052"
    PERL5_CPAN_IS_RUNNING="88052"
    PERL_MM_USE_DEFAULT="1"
  @INC:
    /usr/local/lib/perl5/site_perl/5.14.4/darwin
    /usr/local/lib/perl5/site_perl/5.14.4
    /usr/local/lib/perl5/5.14.4/darwin
    /usr/local/lib/perl5/5.14.4
    /usr/local/lib/perl5/site_perl/5.14.3/darwin
    /usr/local/lib/perl5/site_perl/5.14.3
    /usr/local/lib/perl5/site_perl/5.14.2
    /usr/local/lib/perl5/site_perl/5.14.1
    /usr/local/lib/perl5/site_perl/5.14.0
    /usr/local/lib/perl5/site_perl/5.12.4
    /usr/local/lib/perl5/site_perl/5.10.1
    /usr/local/lib/perl5/site_perl/5.8.9
    /usr/local/lib/perl5/site_perl/5.8.8
    /usr/local/lib/perl5/site_perl/5.8.5
    /usr/local/lib/perl5/site_perl/5.8.4
    /usr/local/lib/perl5/site_perl/5.6.2
    /usr/local/lib/perl5/site_perl
    .