MooseX-MethodAttributes v0.32 Perl 5 v5.35.11 darwin-2level

Status
Pass
From
John SJ Anderson
Dist
MooseX-MethodAttributes v0.32
Platform
Perl 5 v5.35.11 darwin-2level
Date
2022-05-04 15:30:24
ID
1dcb9fe4-cbbf-11ec-940b-5e5c25e64d5c
This distribution has been tested as part of the CPAN Testers
project, supporting the Perl programming language.  See
http://wiki.cpantesters.org/ for more information or email
questions to cpan-testers-discuss@perl.org


--
Dear ETHER,

This is a computer-generated report for MooseX-MethodAttributes-0.32
on perl 5.35.11, created by App::cpanminus::reporter 0.17 (1.7046).

Thank you for uploading your work to CPAN.  Congratulations!
All tests were successful.

Sections of this report:

    * Tester comments
    * Program output
    * Prerequisites
    * Environment and other context

------------------------------
TESTER COMMENTS
------------------------------

Additional comments from tester:

none provided

------------------------------
PROGRAM OUTPUT
------------------------------

Output from '':

Building and testing MooseX-MethodAttributes-0.32
cp lib/MooseX/MethodAttributes/Role.pm blib/lib/MooseX/MethodAttributes/Role.pm
cp lib/MooseX/MethodAttributes/Role/Meta/Role/Application/Summation.pm blib/lib/MooseX/MethodAttributes/Role/Meta/Role/Application/Summation.pm
cp lib/MooseX/MethodAttributes/Role/AttrContainer/Inheritable.pm blib/lib/MooseX/MethodAttributes/Role/AttrContainer/Inheritable.pm
cp lib/MooseX/MethodAttributes/Role/Meta/Role/Application.pm blib/lib/MooseX/MethodAttributes/Role/Meta/Role/Application.pm
cp lib/MooseX/MethodAttributes/Role/Meta/Class.pm blib/lib/MooseX/MethodAttributes/Role/Meta/Class.pm
cp lib/MooseX/MethodAttributes/Role/Meta/Method.pm blib/lib/MooseX/MethodAttributes/Role/Meta/Method.pm
cp lib/MooseX/MethodAttributes/Role/Meta/Role.pm blib/lib/MooseX/MethodAttributes/Role/Meta/Role.pm
cp lib/MooseX/MethodAttributes/Role/Meta/Method/Wrapped.pm blib/lib/MooseX/MethodAttributes/Role/Meta/Method/Wrapped.pm
cp lib/MooseX/MethodAttributes/Role/Meta/Method/MaybeWrapped.pm blib/lib/MooseX/MethodAttributes/Role/Meta/Method/MaybeWrapped.pm
cp lib/MooseX/MethodAttributes/Inheritable.pm blib/lib/MooseX/MethodAttributes/Inheritable.pm
cp lib/MooseX/MethodAttributes/Role/AttrContainer.pm blib/lib/MooseX/MethodAttributes/Role/AttrContainer.pm
cp lib/MooseX/MethodAttributes/Role/Meta/Map.pm blib/lib/MooseX/MethodAttributes/Role/Meta/Map.pm
cp lib/MooseX/MethodAttributes.pm blib/lib/MooseX/MethodAttributes.pm
Manifying 13 pod documents
PERL_DL_NONLAZY=1 "/opt/plenv/versions/5.35.11/bin/perl5.35.11" "-MExtUtils::Command::MM" "-MTest::Harness" "-e" "undef *Test::Harness::Switches; test_harness(0, 'blib/lib', 'blib/arch')" t/*.t
# 
# Versions for all modules listed in MYMETA.json (including optional ones):
# 
# === Configure Requires ===
# 
#     Module              Want Have
#     ------------------- ---- ----
#     ExtUtils::MakeMaker  any 7.64
# 
# === Build Requires ===
# 
#     Module              Want Have
#     ------------------- ---- ----
#     ExtUtils::MakeMaker  any 7.64
# 
# === Test Requires ===
# 
#     Module                      Want     Have
#     --------------------------- ---- --------
#     ExtUtils::MakeMaker          any     7.64
#     File::Spec                   any     3.84
#     Moose::Meta::Class           any   2.2201
#     MooseX::Role::Parameterized  any     1.11
#     Test::Fatal                  any    0.016
#     Test::More                  0.88 1.302190
#     Test::Needs                  any 0.002009
#     base                         any     2.27
#     lib                          any     0.65
#     strict                       any     1.12
#     warnings                     any     1.58
# 
# === Test Recommends ===
# 
#     Module         Want     Have
#     ---------- -------- --------
#     CPAN::Meta 2.120900 2.150010
# 
# === Runtime Requires ===
# 
#     Module                Want   Have
#     --------------------- ---- ------
#     Carp                   any   1.52
#     Moose                  any 2.2201
#     Moose::Exporter        any 2.2201
#     Moose::Role            any 2.2201
#     Moose::Util            any 2.2201
#     Moose::Util::MetaRole  any 2.2201
#     namespace::autoclean  0.08   0.29
# 
# === Other Modules ===
# 
#     Module               Have
#     ----------------- -------
#     Catalyst::Runtime missing
#     Encode               3.17
#     File::Temp         0.2311
#     JSON::PP             4.07
#     Module::Runtime     0.016
#     Pod::Coverage        0.23
#     Sub::Name            0.26
#     YAML                 1.30
#     autodie              2.34
# 
t/00-report-prereqs.t .................. ok
t/basic.t .............................. ok
t/calling.t ............................ ok
t/catalyst.t ........................... ok
t/catalyst_role.t ...................... ok
t/catalyst_role_method_exclusion.t ..... ok
t/catalyst_role_preexist_methods.t ..... ok
t/inherited.t .......................... ok
t/inherited_non_moose_multilevel.t ..... ok
t/late_reinitialize.t .................. ok
t/multiple_roles.t ..................... ok
t/multiple_roles_astrait.t ............. ok
t/override_method_with_no_attribute.t .. ok
t/param_role.t ......................... ok
t/role.t ............................... ok
t/role_applied.t ....................... ok
t/role_comp.t .......................... ok
t/role_in_role.t ....................... ok
t/role_in_role_more.t .................. ok
t/role_method_conflict_detection.t ..... ok
t/role_with_anon_class.t ............... ok
t/zzz-check-breaks.t ................... ok
All tests successful.

Test Summary Report
-------------------
t/late_reinitialize.t                (Wstat: 0 Tests: 10 Failed: 0)
  TODO passed:   1-10
Files=22, Tests=144,  4 wallclock secs ( 0.05 usr  0.03 sys +  3.93 cusr  0.41 csys =  4.42 CPU)
Result: PASS

------------------------------
PREREQUISITES
------------------------------

Prerequisite modules loaded:

    No requirements found

------------------------------
ENVIRONMENT AND OTHER CONTEXT
------------------------------

Environment variables:

    LANG = en_US.UTF-8
    LC_ALL = en_US.UTF-8
    LC_TERMINAL = iTerm2
    LC_TERMINAL_VERSION = 3.4.15
    PATH = /opt/plenv/versions/5.35.11/bin:/opt/plenv/libexec:/opt/plenv/plugins/perl-build/bin:/opt/plenv/shims:/opt/plenv/bin:/Users/johnanderson/bin:/usr/local/opt/texinfo/bin:/opt/nvm/versions/node/v14.17.6/bin:/opt/git/bin:/opt/local/bin:/usr/local/bin:/usr/local/sbin:/usr/bin:/bin:/usr/sbin:/sbin
    PERL_CPANM_OPT = --skip-installed --prompt
    SHELL = /bin/zsh
    TERM = screen-256color
    TMPDIR = /var/folders/t7/8nhnkmk561s448776gc2b68w0000gp/T/

Perl special variables (and OS-specific diagnostics, for MSWin32):

    EGID = 20 20 12 61 79 80 81 98 702 33 100 204 250 395 398 399 101
    EUID = 502
    EXECUTABLE_NAME = /opt/plenv/versions/5.35.11/bin/perl5.35.11
    GID = 20 20 12 61 79 80 81 98 702 33 100 204 250 395 398 399 101
    UID = 502

Perl module toolchain versions installed:

    Module              Have    
    ------------------- --------
    CPAN                2.33    
    CPAN::Meta          2.150010
    Cwd                 3.84    
    ExtUtils::CBuilder  0.280236
    ExtUtils::Command   7.64    
    ExtUtils::Install   2.20    
    ExtUtils::MakeMaker 7.64    
    ExtUtils::Manifest  1.73    
    ExtUtils::ParseXS   3.45    
    File::Spec          3.84    
    JSON                4.05    
    JSON::PP            4.07    
    Module::Build       0.4231  
    Module::Signature   n/a     
    Parse::CPAN::Meta   2.150010
    Test::Harness       3.44    
    Test::More          1.302190
    YAML                1.30    
    YAML::Syck          n/a     
    version             0.9929  


--

Summary of my perl5 (revision 5 version 35 subversion 11) configuration:
   
  Platform:
    osname=darwin
    osvers=21.4.0
    archname=darwin-2level
    uname='darwin mcclintock.home.genehack.org 21.4.0 darwin kernel version 21.4.0: fri mar 18 00:45:05 pdt 2022; root:xnu-8020.101.4~15release_x86_64 x86_64 i386 macbookpro16,2 darwin '
    config_args='-Dprefix=/opt/plenv/versions/5.35.11 -de -Dversiononly -Dusedevel -A'eval:scriptdir=/opt/plenv/versions/5.35.11/bin''
    hint=recommended
    useposix=true
    d_sigaction=define
    useithreads=undef
    usemultiplicity=undef
    use64bitint=define
    use64bitall=define
    uselongdouble=undef
    usemymalloc=n
    default_inc_excludes_dot=define
  Compiler:
    cc='cc'
    ccflags ='-fno-common -DPERL_DARWIN -mmacosx-version-min=12.3 -fno-strict-aliasing -pipe -fstack-protector-strong -I/usr/local/include -DPERL_USE_SAFE_PUTENV'
    optimize='-O3'
    cppflags='-fno-common -DPERL_DARWIN -mmacosx-version-min=12.3 -fno-strict-aliasing -pipe -fstack-protector-strong -I/usr/local/include'
    ccversion=''
    gccversion='Apple LLVM 13.1.6 (clang-1316.0.21.2)'
    gccosandvers=''
    intsize=4
    longsize=8
    ptrsize=8
    doublesize=8
    byteorder=12345678
    doublekind=3
    d_longlong=define
    longlongsize=8
    d_longdbl=define
    longdblsize=16
    longdblkind=3
    ivtype='long'
    ivsize=8
    nvtype='double'
    nvsize=8
    Off_t='off_t'
    lseeksize=8
    alignbytes=8
    prototype=define
  Linker and Libraries:
    ld='cc'
    ldflags =' -mmacosx-version-min=12.3 -fstack-protector-strong -L/usr/local/lib'
    libpth=/usr/local/lib /Library/Developer/CommandLineTools/usr/lib/clang/13.1.6/lib /Library/Developer/CommandLineTools/SDKs/MacOSX12.3.sdk/usr/lib /Library/Developer/CommandLineTools/usr/lib /usr/lib
    libs= 
    perllibs=
    libc=
    so=dylib
    useshrplib=false
    libperl=libperl.a
    gnulibc_version=''
  Dynamic Linking:
    dlsrc=dl_dlopen.xs
    dlext=bundle
    d_dlsymun=undef
    ccdlflags=' '
    cccdlflags=' '
    lddlflags=' -mmacosx-version-min=12.3 -bundle -undefined dynamic_lookup -L/usr/local/lib -fstack-protector-strong'


Characteristics of this binary (from libperl): 
  Compile-time options:
    HAS_TIMES
    PERLIO_LAYERS
    PERL_COPY_ON_WRITE
    PERL_DONT_CREATE_GVSV
    PERL_MALLOC_WRAP
    PERL_OP_PARENT
    PERL_PRESERVE_IVUV
    PERL_USE_DEVEL
    PERL_USE_SAFE_PUTENV
    USE_64_BIT_ALL
    USE_64_BIT_INT
    USE_LARGE_FILES
    USE_LOCALE
    USE_LOCALE_COLLATE
    USE_LOCALE_CTYPE
    USE_LOCALE_NUMERIC
    USE_LOCALE_TIME
    USE_PERLIO
    USE_PERL_ATOF
  Built under darwin
  Compiled at May  3 2022 16:46:58
  %ENV:
    PERL_CPANM_OPT="--skip-installed --prompt"
  @INC:
    /opt/plenv/versions/5.35.11/lib/perl5/site_perl/5.35.11/darwin-2level
    /opt/plenv/versions/5.35.11/lib/perl5/site_perl/5.35.11
    /opt/plenv/versions/5.35.11/lib/perl5/5.35.11/darwin-2level
    /opt/plenv/versions/5.35.11/lib/perl5/5.35.11