Report for Dist-Zilla-Plugin-Test-Synopsis-2.000004

Back
From: metabase:user:553c21ce-8d47-11df-9de5-e28c4c42590d
Subject: PASS Dist-Zilla-Plugin-Test-Synopsis-2.000004 v5.20.0 GNU/Linux
Date: 2014-06-03T06:13:01Z

This distribution has been tested as part of the CPAN Testers
project, supporting the Perl programming language.  See
http://wiki.cpantesters.org/ for more information or email
questions to cpan-testers-discuss@perl.org


--
Dear DOHERTY,

This is a computer-generated report for Dist-Zilla-Plugin-Test-Synopsis-2.000004
on perl 5.20.0, created by App::cpanminus::reporter 0.10 (1.7004).

Thank you for uploading your work to CPAN.  Congratulations!
All tests were successful.

Sections of this report:

    * Tester comments
    * Program output
    * Prerequisites
    * Environment and other context

------------------------------
TESTER COMMENTS
------------------------------

Additional comments from tester:

none provided

------------------------------
PROGRAM OUTPUT
------------------------------

Output from '':

Building and testing Dist-Zilla-Plugin-Test-Synopsis-2.000004
Building Dist-Zilla-Plugin-Test-Synopsis
t/everything.t .. ok
t/00-compile.t .. ok
t/deprecated.t .. ok
All tests successful.
Files=3, Tests=5,  2 wallclock secs ( 0.04 usr  0.01 sys +  3.73 cusr  0.23 csys =  4.01 CPU)
Result: PASS

------------------------------
PREREQUISITES
------------------------------

Prerequisite modules loaded:

    No requirements found

------------------------------
ENVIRONMENT AND OTHER CONTEXT
------------------------------

Environment variables:

    LANG = en_GB.utf8
    LC_MEASUREMENT = en_GB.UTF-8
    LC_MONETARY = en_GB.UTF-8
    LC_NUMERIC = en_GB.UTF-8
    LC_PAPER = en_GB.UTF-8
    LC_TIME = en_GB.UTF-8
    PATH = /home/ioan/perl5/bin:/home/ioan/perl5/perlbrew/bin::/home/ioan/bin:/usr/local/bin:/usr/bin:/bin:/usr/local/sbin:/sbin:/usr/sbin:/usr/games
    PERLBREW_BASHRC_VERSION = 0.66
    PERLBREW_HOME = /home/ioan/.perlbrew
    PERLBREW_ROOT = /home/ioan/perl5/perlbrew
    PERL_CPANM_DEV = 1
    PERL_CPANM_OPT = --prompt --no-man-pages --verify --mirror http://mirrors.gossamer-threads.com/CPAN/
    SHELL = /bin/bash
    TERM = xterm-256color

Perl special variables (and OS-specific diagnostics, for MSWin32):

    EGID = 1001 10 996 997 998 999 1001
    EUID = 1001
    EXECUTABLE_NAME = /home/ioan/perl5/perlbrew/perls/perl-5.20.0/bin/perl
    GID = 1001 10 996 997 998 999 1001
    UID = 1001

Perl module toolchain versions installed:

    Module              Have    
    ------------------- --------
    CPAN                2.05    
    CPAN::Meta          2.140640
    Cwd                 3.47    
    ExtUtils::CBuilder  0.280216
    ExtUtils::Command   1.18    
    ExtUtils::Install   1.67    
    ExtUtils::MakeMaker 6.98    
    ExtUtils::Manifest  1.63    
    ExtUtils::ParseXS   3.24    
    File::Spec          3.47    
    JSON                2.90    
    JSON::PP            2.27203 
    Module::Build       0.4205  
    Module::Signature   0.73    
    Parse::CPAN::Meta   1.4414  
    Test::Harness       3.30    
    Test::More          1.001002
    YAML                0.92    
    YAML::Syck          n/a     
    version             0.9908  


--

Summary of my perl5 (revision 5 version 20 subversion 0) configuration:
   
  Platform:
    osname=linux, osvers=3.14.4-200.fc20.x86_64, archname=x86_64-linux
    uname='linux despair.dirtysoft.ca 3.14.4-200.fc20.x86_64 #1 smp tue may 13 13:51:08 utc 2014 x86_64 x86_64 x86_64 gnulinux '
    config_args='-de -Dprefix=/home/ioan/perl5/perlbrew/perls/perl-5.20.0 -Dman1dir=none -Dman3dir=none -Dcc=clang -Aeval:scriptdir=/home/ioan/perl5/perlbrew/perls/perl-5.20.0/bin'
    hint=recommended, useposix=true, d_sigaction=define
    useithreads=undef, usemultiplicity=undef
    use64bitint=define, use64bitall=define, uselongdouble=undef
    usemymalloc=n, bincompat5005=undef
  Compiler:
    cc='clang', ccflags ='-fno-strict-aliasing -pipe -fstack-protector -I/usr/local/include -D_LARGEFILE_SOURCE -D_FILE_OFFSET_BITS=64',
    optimize='-O2',
    cppflags='-fno-strict-aliasing -pipe -fstack-protector -I/usr/local/include'
    ccversion='', gccversion='4.2.1 Compatible Clang 3.4 (tags/RELEASE_34/final)', gccosandvers=''
    intsize=4, longsize=8, ptrsize=8, doublesize=8, byteorder=12345678
    d_longlong=define, longlongsize=8, d_longdbl=define, longdblsize=16
    ivtype='long', ivsize=8, nvtype='double', nvsize=8, Off_t='off_t', lseeksize=8
    alignbytes=8, prototype=define
  Linker and Libraries:
    ld='clang', ldflags =' -fstack-protector -L/usr/local/lib'
    libpth=/usr/local/lib /usr/bin/../lib/clang/3.4/lib /usr/lib /lib/../lib64 /usr/lib/../lib64 /lib /lib64 /usr/lib64 /usr/local/lib64
    libs=-lnsl -lgdbm -ldb -ldl -lm -lcrypt -lutil -lc -lgdbm_compat
    perllibs=-lnsl -ldl -lm -lcrypt -lutil -lc
    libc=/lib/libc-2.18.so, so=so, useshrplib=false, libperl=libperl.a
    gnulibc_version='2.18'
  Dynamic Linking:
    dlsrc=dl_dlopen.xs, dlext=so, d_dlsymun=undef, ccdlflags='-Wl,-E'
    cccdlflags='-fPIC', lddlflags='-shared -O2 -L/usr/local/lib -fstack-protector'


Characteristics of this binary (from libperl): 
  Compile-time options: HAS_TIMES PERLIO_LAYERS PERL_DONT_CREATE_GVSV
                        PERL_HASH_FUNC_ONE_AT_A_TIME_HARD PERL_MALLOC_WRAP
                        PERL_NEW_COPY_ON_WRITE PERL_PRESERVE_IVUV
                        USE_64_BIT_ALL USE_64_BIT_INT USE_LARGE_FILES
                        USE_LOCALE USE_LOCALE_COLLATE USE_LOCALE_CTYPE
                        USE_LOCALE_NUMERIC USE_PERLIO USE_PERL_ATOF
  Built under linux
  Compiled at Jun  2 2014 19:47:24
  %ENV:
    PERLBREW_BASHRC_VERSION="0.66"
    PERLBREW_HOME="/home/ioan/.perlbrew"
    PERLBREW_ROOT="/home/ioan/perl5/perlbrew"
    PERL_CPANM_DEV="1"
    PERL_CPANM_OPT="--prompt --no-man-pages --verify --mirror http://mirrors.gossamer-threads.com/CPAN/"
  @INC:
    /home/ioan/perl5/perlbrew/perls/perl-5.20.0/lib/site_perl/5.20.0/x86_64-linux
    /home/ioan/perl5/perlbrew/perls/perl-5.20.0/lib/site_perl/5.20.0
    /home/ioan/perl5/perlbrew/perls/perl-5.20.0/lib/5.20.0/x86_64-linux
    /home/ioan/perl5/perlbrew/perls/perl-5.20.0/lib/5.20.0
    .