Report for Catalyst-View-Email-0.33

Back
From: metabase:user:320bfe00-2aae-11df-837a-5e0a49663a4f
Subject: PASS Catalyst-View-Email-0.33 v5.19.12 GNU/Linux
Date: 2014-04-24T23:56:56Z

This distribution has been tested as part of the CPAN Testers
project, supporting the Perl programming language.  See
http://wiki.cpantesters.org/ for more information or email
questions to cpan-testers-discuss@perl.org


--
Dear Devin Austin,

This is a computer-generated report for Catalyst-View-Email-0.33
on perl 5.19.12, created by CPAN-Reporter-1.2011.

Thank you for uploading your work to CPAN.  Congratulations!
All tests were successful.

Sections of this report:

    * Tester comments
    * Program output
    * Prerequisites
    * Environment and other context

------------------------------
TESTER COMMENTS
------------------------------

Additional comments from tester:

this report is from an automated smoke testing program
and was not reviewed by a human for accuracy

------------------------------
PROGRAM OUTPUT
------------------------------

Output from '/usr/bin/make test':

PERL_DL_NONLAZY=1 /tmp/basesmoker-reloperl-Ey_v/bin/perl "-MExtUtils::Command::MM" "-MTest::Harness" "-e" "undef *Test::Harness::Switches; test_harness(0, 'inc', 'blib/lib', 'blib/arch')" t/01use.t t/02pod.t t/04basic.t t/05template.t t/06config.t t/07mason.t
t/01use.t ....... ok
t/02pod.t ....... skipped: set TEST_POD to enable this test
require TestApp::View::Mason was successful but the package is not defined. at /home/sand/src/perl/repoperls/installed-perls/perl/v5.19.11-12-g75200df/a2da/lib/site_perl/5.19.12/Catalyst/Utils.pm line 314.
Class::MOP::load_class is deprecated at /home/sand/src/perl/repoperls/installed-perls/perl/v5.19.11-12-g75200df/a2da/lib/site_perl/5.19.12/x86_64-linux-thread-multi-ld/Class/MOP.pm line 73.
	Class::MOP::load_class("Email::Sender::Transport::Test") called at /tmp/loop_over_bdir-20068-7Z_zTR/Catalyst-View-Email-0.33-c4WD6A/blib/lib/Catalyst/View/Email.pm line 226
	Catalyst::View::Email::_build_mailer_obj(TestApp::View::Email=HASH(0x52b2640)) called at accessor Catalyst::View::Email::_mailer_obj (defined at /tmp/loop_over_bdir-20068-7Z_zTR/Catalyst-View-Email-0.33-c4WD6A/blib/lib/Catalyst/View/Email.pm line 21) line 11
	Catalyst::View::Email::_mailer_obj(TestApp::View::Email=HASH(0x52b2640)) called at /tmp/loop_over_bdir-20068-7Z_zTR/Catalyst-View-Email-0.33-c4WD6A/blib/lib/Catalyst/View/Email.pm line 299
	Catalyst::View::Email::process(TestApp::View::Email=HASH(0x52b2640), TestApp=HASH(0x53ab078)) called at /home/sand/src/perl/repoperls/installed-perls/perl/v5.19.11-12-g75200df/a2da/lib/site_perl/5.19.12/Catalyst/Action.pm line 65
	Catalyst::Action::execute(Catalyst::Action=HASH(0x53b6180), TestApp::View::Email=HASH(0x52b2640), TestApp=HASH(0x53ab078)) called at /home/sand/src/perl/repoperls/installed-perls/perl/v5.19.11-12-g75200df/a2da/lib/site_perl/5.19.12/Catalyst.pm line 1734
	eval {...} called at /home/sand/src/perl/repoperls/installed-perls/perl/v5.19.11-12-g75200df/a2da/lib/site_perl/5.19.12/Catalyst.pm line 1734
	Catalyst::execute(TestApp=HASH(0x53ab078), "TestApp::View::Email", Catalyst::Action=HASH(0x53b6180)) called at /home/sand/src/perl/repoperls/installed-perls/perl/v5.19.11-12-g75200df/a2da/lib/site_perl/5.19.12/Catalyst/Action.pm line 60
	Catalyst::Action::dispatch(Catalyst::Action=HASH(0x53b6180), TestApp=HASH(0x53ab078)) called at /home/sand/src/perl/repoperls/installed-perls/perl/v5.19.11-12-g75200df/a2da/lib/site_perl/5.19.12/Catalyst/Dispatcher.pm line 258
	Catalyst::Dispatcher::_do_forward(Catalyst::Dispatcher=HASH(0x4a856b8), "forward", TestApp=HASH(0x53ab078), "TestApp::View::Email") called at /home/sand/src/perl/repoperls/installed-perls/perl/v5.19.11-12-g75200df/a2da/lib/site_perl/5.19.12/Catalyst/Dispatcher.pm line 238
	Catalyst::Dispatcher::forward(Catalyst::Dispatcher=HASH(0x4a856b8), TestApp=HASH(0x53ab078), "TestApp::View::Email") called at /home/sand/src/perl/repoperls/installed-perls/perl/v5.19.11-12-g75200df/a2da/lib/site_perl/5.19.12/Catalyst.pm line 397
	Catalyst::forward(TestApp=HASH(0x53ab078), "TestApp::View::Email") called at /tmp/loop_over_bdir-20068-7Z_zTR/Catalyst-View-Email-0.33-c4WD6A/t/lib/TestApp/Controller/Root.pm line 26
	TestApp::Controller::Root::email(TestApp::Controller::Root=HASH(0x513f168), TestApp=HASH(0x53ab078)) called at /home/sand/src/perl/repoperls/installed-perls/perl/v5.19.11-12-g75200df/a2da/lib/site_perl/5.19.12/Catalyst/Action.pm line 65
	Catalyst::Action::execute(Catalyst::Action=HASH(0x52fc4d8), TestApp::Controller::Root=HASH(0x513f168), TestApp=HASH(0x53ab078)) called at /home/sand/src/perl/repoperls/installed-perls/perl/v5.19.11-12-g75200df/a2da/lib/site_perl/5.19.12/Catalyst.pm line 1734
	eval {...} called at /home/sand/src/perl/repoperls/installed-perls/perl/v5.19.11-12-g75200df/a2da/lib/site_perl/5.19.12/Catalyst.pm line 1734
	Catalyst::execute(TestApp=HASH(0x53ab078), "TestApp::Controller::Root", Catalyst::Action=HASH(0x52fc4d8)) called at /home/sand/src/perl/repoperls/installed-perls/perl/v5.19.11-12-g75200df/a2da/lib/site_perl/5.19.12/Catalyst/Action.pm line 60
	Catalyst::Action::dispatch(Catalyst::Action=HASH(0x52fc4d8), TestApp=HASH(0x53ab078)) called at /home/sand/src/perl/repoperls/installed-perls/perl/v5.19.11-12-g75200df/a2da/lib/site_perl/5.19.12/Catalyst/Controller.pm line 161
	Catalyst::Controller::_ACTION(TestApp::Controller::Root=HASH(0x513f168), TestApp=HASH(0x53ab078)) called at /home/sand/src/perl/repoperls/installed-perls/perl/v5.19.11-12-g75200df/a2da/lib/site_perl/5.19.12/Catalyst/Action.pm line 65
	Catalyst::Action::execute(Catalyst::Action=HASH(0x52eae08), TestApp::Controller::Root=HASH(0x513f168), TestApp=HASH(0x53ab078)) called at /home/sand/src/perl/repoperls/installed-perls/perl/v5.19.11-12-g75200df/a2da/lib/site_perl/5.19.12/Catalyst.pm line 1734
	eval {...} called at /home/sand/src/perl/repoperls/installed-perls/perl/v5.19.11-12-g75200df/a2da/lib/site_perl/5.19.12/Catalyst.pm line 1734
	Catalyst::execute(TestApp=HASH(0x53ab078), "TestApp::Controller::Root", Catalyst::Action=HASH(0x52eae08)) called at /home/sand/src/perl/repoperls/installed-perls/perl/v5.19.11-12-g75200df/a2da/lib/site_perl/5.19.12/Catalyst/Action.pm line 60
	Catalyst::Action::dispatch(Catalyst::Action=HASH(0x52eae08), TestApp=HASH(0x53ab078)) called at /home/sand/src/perl/repoperls/installed-perls/perl/v5.19.11-12-g75200df/a2da/lib/site_perl/5.19.12/Catalyst/Dispatcher.pm line 258
	Catalyst::Dispatcher::_do_forward(Catalyst::Dispatcher=HASH(0x4a856b8), "forward", TestApp=HASH(0x53ab078), "_ACTION") called at /home/sand/src/perl/repoperls/installed-perls/perl/v5.19.11-12-g75200df/a2da/lib/site_perl/5.19.12/Catalyst/Dispatcher.pm line 238
	Catalyst::Dispatcher::forward(Catalyst::Dispatcher=HASH(0x4a856b8), TestApp=HASH(0x53ab078), "_ACTION") called at /home/sand/src/perl/repoperls/installed-perls/perl/v5.19.11-12-g75200df/a2da/lib/site_perl/5.19.12/Catalyst.pm line 397
	Catalyst::forward(TestApp=HASH(0x53ab078), "_ACTION") called at /home/sand/src/perl/repoperls/installed-perls/perl/v5.19.11-12-g75200df/a2da/lib/site_perl/5.19.12/Catalyst/Controller.pm line 135
	Catalyst::Controller::_DISPATCH(TestApp::Controller::Root=HASH(0x513f168), TestApp=HASH(0x53ab078)) called at /home/sand/src/perl/repoperls/installed-perls/perl/v5.19.11-12-g75200df/a2da/lib/site_perl/5.19.12/Catalyst/Action.pm line 65
	Catalyst::Action::execute(Catalyst::Action=HASH(0x52ea250), TestApp::Controller::Root=HASH(0x513f168), TestApp=HASH(0x53ab078)) called at /home/sand/src/perl/repoperls/installed-perls/perl/v5.19.11-12-g75200df/a2da/lib/site_perl/5.19.12/Catalyst.pm line 1734
	eval {...} called at /home/sand/src/perl/repoperls/installed-perls/perl/v5.19.11-12-g75200df/a2da/lib/site_perl/5.19.12/Catalyst.pm line 1734
	Catalyst::execute(TestApp=HASH(0x53ab078), "TestApp::Controller::Root", Catalyst::Action=HASH(0x52ea250)) called at /home/sand/src/perl/repoperls/installed-perls/perl/v5.19.11-12-g75200df/a2da/lib/site_perl/5.19.12/Catalyst/Action.pm line 60
	Catalyst::Action::dispatch(Catalyst::Action=HASH(0x52ea250), TestApp=HASH(0x53ab078)) called at /home/sand/src/perl/repoperls/installed-perls/perl/v5.19.11-12-g75200df/a2da/lib/site_perl/5.19.12/Catalyst/Dispatcher.pm line 258
	Catalyst::Dispatcher::_do_forward(Catalyst::Dispatcher=HASH(0x4a856b8), "forward", TestApp=HASH(0x53ab078), "/root/_DISPATCH") called at /home/sand/src/perl/repoperls/installed-perls/perl/v5.19.11-12-g75200df/a2da/lib/site_perl/5.19.12/Catalyst/Dispatcher.pm line 238
	Catalyst::Dispatcher::forward(Catalyst::Dispatcher=HASH(0x4a856b8), TestApp=HASH(0x53ab078), "/root/_DISPATCH") called at /home/sand/src/perl/repoperls/installed-perls/perl/v5.19.11-12-g75200df/a2da/lib/site_perl/5.19.12/Catalyst.pm line 397
	Catalyst::forward(TestApp=HASH(0x53ab078), "/root/_DISPATCH") called at /home/sand/src/perl/repoperls/installed-perls/perl/v5.19.11-12-g75200df/a2da/lib/site_perl/5.19.12/Catalyst/Dispatcher.pm line 107
	Catalyst::Dispatcher::dispatch(Catalyst::Dispatcher=HASH(0x4a856b8), TestApp=HASH(0x53ab078)) called at /home/sand/src/perl/repoperls/installed-perls/perl/v5.19.11-12-g75200df/a2da/lib/site_perl/5.19.12/Catalyst.pm line 1680
	Catalyst::dispatch(TestApp=HASH(0x53ab078)) called at /home/sand/src/perl/repoperls/installed-perls/perl/v5.19.11-12-g75200df/a2da/lib/site_perl/5.19.12/Catalyst.pm line 2015
	Catalyst::try {...} () called at /home/sand/src/perl/repoperls/installed-perls/perl/v5.19.11-12-g75200df/a2da/lib/site_perl/5.19.12/Try/Tiny.pm line 81
	eval {...} called at /home/sand/src/perl/repoperls/installed-perls/perl/v5.19.11-12-g75200df/a2da/lib/site_perl/5.19.12/Try/Tiny.pm line 72
	Try::Tiny::try(CODE(0x53aa9b8), Try::Tiny::Catch=REF(0x53aa850)) called at /home/sand/src/perl/repoperls/installed-perls/perl/v5.19.11-12-g75200df/a2da/lib/site_perl/5.19.12/Catalyst.pm line 2024
	Catalyst::handle_request("TestApp", "env", HASH(0x5006b28), "response_cb", CODE(0x53aa880)) called at /home/sand/src/perl/repoperls/installed-perls/perl/v5.19.11-12-g75200df/a2da/lib/site_perl/5.19.12/Catalyst/Engine.pm line 797
	Catalyst::Engine::__ANON__(CODE(0x53aa880)) called at /home/sand/src/perl/repoperls/installed-perls/perl/v5.19.11-12-g75200df/a2da/lib/site_perl/5.19.12/Plack/Middleware/HTTPExceptions.pm line 32
	Plack::Middleware::HTTPExceptions::try {...} () called at /home/sand/src/perl/repoperls/installed-perls/perl/v5.19.11-12-g75200df/a2da/lib/site_perl/5.19.12/Try/Tiny.pm line 81
	eval {...} called at /home/sand/src/perl/repoperls/installed-perls/perl/v5.19.11-12-g75200df/a2da/lib/site_perl/5.19.12/Try/Tiny.pm line 72
	Try::Tiny::try(CODE(0x53aa6e8), Try::Tiny::Catch=REF(0x5346788)) called at /home/sand/src/perl/repoperls/installed-perls/perl/v5.19.11-12-g75200df/a2da/lib/site_perl/5.19.12/Plack/Middleware/HTTPExceptions.pm line 41
	Plack::Middleware::HTTPExceptions::__ANON__(CODE(0x53aa5e0)) called at /home/sand/src/perl/repoperls/installed-perls/perl/v5.19.11-12-g75200df/a2da/lib/site_perl/5.19.12/Plack/Util.pm line 301
	Plack::Util::__ANON__(CODE(0x53aa4d8)) called at /home/sand/src/perl/repoperls/installed-perls/perl/v5.19.11-12-g75200df/a2da/lib/site_perl/5.19.12/Plack/Util.pm line 301
	Plack::Util::__ANON__(CODE(0x53aa3d0)) called at /home/sand/src/perl/repoperls/installed-perls/perl/v5.19.11-12-g75200df/a2da/lib/site_perl/5.19.12/Plack/Util.pm line 301
	Plack::Util::__ANON__(CODE(0x5346e48)) called at /home/sand/src/perl/repoperls/installed-perls/perl/v5.19.11-12-g75200df/a2da/lib/site_perl/5.19.12/HTTP/Message/PSGI.pm line 100
	HTTP::Message::PSGI::res_from_psgi(CODE(0x5346650)) called at /home/sand/src/perl/repoperls/installed-perls/perl/v5.19.11-12-g75200df/a2da/lib/site_perl/5.19.12/HTTP/Message/PSGI.pm line 155
	HTTP::Response::from_psgi("HTTP::Response", CODE(0x5346650)) called at /home/sand/src/perl/repoperls/installed-perls/perl/v5.19.11-12-g75200df/a2da/lib/site_perl/5.19.12/Plack/Test/MockHTTP.pm line 24
	Plack::Test::MockHTTP::try {...} () called at /home/sand/src/perl/repoperls/installed-perls/perl/v5.19.11-12-g75200df/a2da/lib/site_perl/5.19.12/Try/Tiny.pm line 79
	eval {...} called at /home/sand/src/perl/repoperls/installed-perls/perl/v5.19.11-12-g75200df/a2da/lib/site_perl/5.19.12/Try/Tiny.pm line 72
	Try::Tiny::try(CODE(0x5373840), Try::Tiny::Catch=REF(0x52be110)) called at /home/sand/src/perl/repoperls/installed-perls/perl/v5.19.11-12-g75200df/a2da/lib/site_perl/5.19.12/Plack/Test/MockHTTP.pm line 27
	Plack::Test::MockHTTP::request(Plack::Test::MockHTTP=HASH(0x533f9f8), HTTP::Request=HASH(0x5304bf0)) called at /home/sand/src/perl/repoperls/installed-perls/perl/v5.19.11-12-g75200df/a2da/lib/site_perl/5.19.12/Plack/Test.pm line 38
	Plack::Test::__ANON__(HTTP::Request=HASH(0x5304bf0)) called at /home/sand/src/perl/repoperls/installed-perls/perl/v5.19.11-12-g75200df/a2da/lib/site_perl/5.19.12/Catalyst/Test.pm line 281
	Catalyst::Test::__ANON__(CODE(0x533f878)) called at /home/sand/src/perl/repoperls/installed-perls/perl/v5.19.11-12-g75200df/a2da/lib/site_perl/5.19.12/Plack/Test.pm line 38
	Plack::Test::test_psgi("app", CODE(0x53047a0), "mangle_response", CODE(0x3ee4658), "app", CODE(0x5330b50), "client", CODE(0x5331288)) called at /home/sand/src/perl/repoperls/installed-perls/perl/v5.19.11-12-g75200df/a2da/lib/site_perl/5.19.12/Catalyst/Test.pm line 284
	Catalyst::Test::_request(HASH(0x1bf0c40), "/email?time=1398383806") called at /home/sand/src/perl/repoperls/installed-perls/perl/v5.19.11-12-g75200df/a2da/lib/site_perl/5.19.12/Catalyst/Test.pm line 327
	Catalyst::Test::_local_request("TestApp", "/email?time=1398383806") called at /home/sand/src/perl/repoperls/installed-perls/perl/v5.19.11-12-g75200df/a2da/lib/site_perl/5.19.12/Catalyst/Test.pm line 32
	Catalyst::Test::__ANON__("/email?time=1398383806") called at t/04basic.t line 14
t/04basic.t ..... ok
require TestApp::View::Mason was successful but the package is not defined. at /home/sand/src/perl/repoperls/installed-perls/perl/v5.19.11-12-g75200df/a2da/lib/site_perl/5.19.12/Catalyst/Utils.pm line 314.
Class::MOP::load_class is deprecated at /home/sand/src/perl/repoperls/installed-perls/perl/v5.19.11-12-g75200df/a2da/lib/site_perl/5.19.12/x86_64-linux-thread-multi-ld/Class/MOP.pm line 73.
	Class::MOP::load_class("Email::Sender::Transport::Test") called at /tmp/loop_over_bdir-20068-7Z_zTR/Catalyst-View-Email-0.33-c4WD6A/blib/lib/Catalyst/View/Email.pm line 226
	Catalyst::View::Email::_build_mailer_obj(TestApp::View::Email::Template=HASH(0x44169a0)) called at accessor Catalyst::View::Email::_mailer_obj (defined at /tmp/loop_over_bdir-20068-7Z_zTR/Catalyst-View-Email-0.33-c4WD6A/blib/lib/Catalyst/View/Email.pm line 21) line 11
	Catalyst::View::Email::_mailer_obj(TestApp::View::Email::Template=HASH(0x44169a0)) called at /tmp/loop_over_bdir-20068-7Z_zTR/Catalyst-View-Email-0.33-c4WD6A/blib/lib/Catalyst/View/Email.pm line 299
	Catalyst::View::Email::process(TestApp::View::Email::Template=HASH(0x44169a0), TestApp=HASH(0x4612b30)) called at /tmp/loop_over_bdir-20068-7Z_zTR/Catalyst-View-Email-0.33-c4WD6A/blib/lib/Catalyst/View/Email/Template.pm line 306
	Class::MOP::Class:::around(CODE(0x4320898), TestApp::View::Email::Template=HASH(0x44169a0), TestApp=HASH(0x4612b30)) called at /home/sand/src/perl/repoperls/installed-perls/perl/v5.19.11-12-g75200df/a2da/lib/site_perl/5.19.12/x86_64-linux-thread-multi-ld/Class/MOP/Method/Wrapped.pm line 163
	Class::MOP::Method::Wrapped::__ANON__(TestApp::View::Email::Template=HASH(0x44169a0), TestApp=HASH(0x4612b30)) called at /home/sand/src/perl/repoperls/installed-perls/perl/v5.19.11-12-g75200df/a2da/lib/site_perl/5.19.12/x86_64-linux-thread-multi-ld/Class/MOP/Method/Wrapped.pm line 92
	Catalyst::View::Email::Template::process(TestApp::View::Email::Template=HASH(0x44169a0), TestApp=HASH(0x4612b30)) called at /home/sand/src/perl/repoperls/installed-perls/perl/v5.19.11-12-g75200df/a2da/lib/site_perl/5.19.12/Catalyst/Action.pm line 65
	Catalyst::Action::execute(Catalyst::Action=HASH(0x461b400), TestApp::View::Email::Template=HASH(0x44169a0), TestApp=HASH(0x4612b30)) called at /home/sand/src/perl/repoperls/installed-perls/perl/v5.19.11-12-g75200df/a2da/lib/site_perl/5.19.12/Catalyst.pm line 1734
	eval {...} called at /home/sand/src/perl/repoperls/installed-perls/perl/v5.19.11-12-g75200df/a2da/lib/site_perl/5.19.12/Catalyst.pm line 1734
	Catalyst::execute(TestApp=HASH(0x4612b30), "TestApp::View::Email::Template", Catalyst::Action=HASH(0x461b400)) called at /home/sand/src/perl/repoperls/installed-perls/perl/v5.19.11-12-g75200df/a2da/lib/site_perl/5.19.12/Catalyst/Action.pm line 60
	Catalyst::Action::dispatch(Catalyst::Action=HASH(0x461b400), TestApp=HASH(0x4612b30)) called at /home/sand/src/perl/repoperls/installed-perls/perl/v5.19.11-12-g75200df/a2da/lib/site_perl/5.19.12/Catalyst/Dispatcher.pm line 258
	Catalyst::Dispatcher::_do_forward(Catalyst::Dispatcher=HASH(0x3f17088), "forward", TestApp=HASH(0x4612b30), "TestApp::View::Email::Template") called at /home/sand/src/perl/repoperls/installed-perls/perl/v5.19.11-12-g75200df/a2da/lib/site_perl/5.19.12/Catalyst/Dispatcher.pm line 238
	Catalyst::Dispatcher::forward(Catalyst::Dispatcher=HASH(0x3f17088), TestApp=HASH(0x4612b30), "TestApp::View::Email::Template") called at /home/sand/src/perl/repoperls/installed-perls/perl/v5.19.11-12-g75200df/a2da/lib/site_perl/5.19.12/Catalyst.pm line 397
	Catalyst::forward(TestApp=HASH(0x4612b30), "TestApp::View::Email::Template") called at /tmp/loop_over_bdir-20068-7Z_zTR/Catalyst-View-Email-0.33-c4WD6A/t/lib/TestApp/Controller/Root.pm line 81
	TestApp::Controller::Root::template_email(TestApp::Controller::Root=HASH(0x43e9200), TestApp=HASH(0x4612b30)) called at /home/sand/src/perl/repoperls/installed-perls/perl/v5.19.11-12-g75200df/a2da/lib/site_perl/5.19.12/Catalyst/Action.pm line 65
	Catalyst::Action::execute(Catalyst::Action=HASH(0x4562230), TestApp::Controller::Root=HASH(0x43e9200), TestApp=HASH(0x4612b30)) called at /home/sand/src/perl/repoperls/installed-perls/perl/v5.19.11-12-g75200df/a2da/lib/site_perl/5.19.12/Catalyst.pm line 1734
	eval {...} called at /home/sand/src/perl/repoperls/installed-perls/perl/v5.19.11-12-g75200df/a2da/lib/site_perl/5.19.12/Catalyst.pm line 1734
	Catalyst::execute(TestApp=HASH(0x4612b30), "TestApp::Controller::Root", Catalyst::Action=HASH(0x4562230)) called at /home/sand/src/perl/repoperls/installed-perls/perl/v5.19.11-12-g75200df/a2da/lib/site_perl/5.19.12/Catalyst/Action.pm line 60
	Catalyst::Action::dispatch(Catalyst::Action=HASH(0x4562230), TestApp=HASH(0x4612b30)) called at /home/sand/src/perl/repoperls/installed-perls/perl/v5.19.11-12-g75200df/a2da/lib/site_perl/5.19.12/Catalyst/Controller.pm line 161
	Catalyst::Controller::_ACTION(TestApp::Controller::Root=HASH(0x43e9200), TestApp=HASH(0x4612b30)) called at /home/sand/src/perl/repoperls/installed-perls/perl/v5.19.11-12-g75200df/a2da/lib/site_perl/5.19.12/Catalyst/Action.pm line 65
	Catalyst::Action::execute(Catalyst::Action=HASH(0x4561840), TestApp::Controller::Root=HASH(0x43e9200), TestApp=HASH(0x4612b30)) called at /home/sand/src/perl/repoperls/installed-perls/perl/v5.19.11-12-g75200df/a2da/lib/site_perl/5.19.12/Catalyst.pm line 1734
	eval {...} called at /home/sand/src/perl/repoperls/installed-perls/perl/v5.19.11-12-g75200df/a2da/lib/site_perl/5.19.12/Catalyst.pm line 1734
	Catalyst::execute(TestApp=HASH(0x4612b30), "TestApp::Controller::Root", Catalyst::Action=HASH(0x4561840)) called at /home/sand/src/perl/repoperls/installed-perls/perl/v5.19.11-12-g75200df/a2da/lib/site_perl/5.19.12/Catalyst/Action.pm line 60
	Catalyst::Action::dispatch(Catalyst::Action=HASH(0x4561840), TestApp=HASH(0x4612b30)) called at /home/sand/src/perl/repoperls/installed-perls/perl/v5.19.11-12-g75200df/a2da/lib/site_perl/5.19.12/Catalyst/Dispatcher.pm line 258
	Catalyst::Dispatcher::_do_forward(Catalyst::Dispatcher=HASH(0x3f17088), "forward", TestApp=HASH(0x4612b30), "_ACTION") called at /home/sand/src/perl/repoperls/installed-perls/perl/v5.19.11-12-g75200df/a2da/lib/site_perl/5.19.12/Catalyst/Dispatcher.pm line 238
	Catalyst::Dispatcher::forward(Catalyst::Dispatcher=HASH(0x3f17088), TestApp=HASH(0x4612b30), "_ACTION") called at /home/sand/src/perl/repoperls/installed-perls/perl/v5.19.11-12-g75200df/a2da/lib/site_perl/5.19.12/Catalyst.pm line 397
	Catalyst::forward(TestApp=HASH(0x4612b30), "_ACTION") called at /home/sand/src/perl/repoperls/installed-perls/perl/v5.19.11-12-g75200df/a2da/lib/site_perl/5.19.12/Catalyst/Controller.pm line 135
	Catalyst::Controller::_DISPATCH(TestApp::Controller::Root=HASH(0x43e9200), TestApp=HASH(0x4612b30)) called at /home/sand/src/perl/repoperls/installed-perls/perl/v5.19.11-12-g75200df/a2da/lib/site_perl/5.19.12/Catalyst/Action.pm line 65
	Catalyst::Action::execute(Catalyst::Action=HASH(0x4546308), TestApp::Controller::Root=HASH(0x43e9200), TestApp=HASH(0x4612b30)) called at /home/sand/src/perl/repoperls/installed-perls/perl/v5.19.11-12-g75200df/a2da/lib/site_perl/5.19.12/Catalyst.pm line 1734
	eval {...} called at /home/sand/src/perl/repoperls/installed-perls/perl/v5.19.11-12-g75200df/a2da/lib/site_perl/5.19.12/Catalyst.pm line 1734
	Catalyst::execute(TestApp=HASH(0x4612b30), "TestApp::Controller::Root", Catalyst::Action=HASH(0x4546308)) called at /home/sand/src/perl/repoperls/installed-perls/perl/v5.19.11-12-g75200df/a2da/lib/site_perl/5.19.12/Catalyst/Action.pm line 60
	Catalyst::Action::dispatch(Catalyst::Action=HASH(0x4546308), TestApp=HASH(0x4612b30)) called at /home/sand/src/perl/repoperls/installed-perls/perl/v5.19.11-12-g75200df/a2da/lib/site_perl/5.19.12/Catalyst/Dispatcher.pm line 258
	Catalyst::Dispatcher::_do_forward(Catalyst::Dispatcher=HASH(0x3f17088), "forward", TestApp=HASH(0x4612b30), "/root/_DISPATCH") called at /home/sand/src/perl/repoperls/installed-perls/perl/v5.19.11-12-g75200df/a2da/lib/site_perl/5.19.12/Catalyst/Dispatcher.pm line 238
	Catalyst::Dispatcher::forward(Catalyst::Dispatcher=HASH(0x3f17088), TestApp=HASH(0x4612b30), "/root/_DISPATCH") called at /home/sand/src/perl/repoperls/installed-perls/perl/v5.19.11-12-g75200df/a2da/lib/site_perl/5.19.12/Catalyst.pm line 397
	Catalyst::forward(TestApp=HASH(0x4612b30), "/root/_DISPATCH") called at /home/sand/src/perl/repoperls/installed-perls/perl/v5.19.11-12-g75200df/a2da/lib/site_perl/5.19.12/Catalyst/Dispatcher.pm line 107
	Catalyst::Dispatcher::dispatch(Catalyst::Dispatcher=HASH(0x3f17088), TestApp=HASH(0x4612b30)) called at /home/sand/src/perl/repoperls/installed-perls/perl/v5.19.11-12-g75200df/a2da/lib/site_perl/5.19.12/Catalyst.pm line 1680
	Catalyst::dispatch(TestApp=HASH(0x4612b30)) called at /home/sand/src/perl/repoperls/installed-perls/perl/v5.19.11-12-g75200df/a2da/lib/site_perl/5.19.12/Catalyst.pm line 2015
	Catalyst::try {...} () called at /home/sand/src/perl/repoperls/installed-perls/perl/v5.19.11-12-g75200df/a2da/lib/site_perl/5.19.12/Try/Tiny.pm line 81
	eval {...} called at /home/sand/src/perl/repoperls/installed-perls/perl/v5.19.11-12-g75200df/a2da/lib/site_perl/5.19.12/Try/Tiny.pm line 72
	Try::Tiny::try(CODE(0x460f718), Try::Tiny::Catch=REF(0x460f5b0)) called at /home/sand/src/perl/repoperls/installed-perls/perl/v5.19.11-12-g75200df/a2da/lib/site_perl/5.19.12/Catalyst.pm line 2024
	Catalyst::handle_request("TestApp", "env", HASH(0x459f938), "response_cb", CODE(0x460f5e0)) called at /home/sand/src/perl/repoperls/installed-perls/perl/v5.19.11-12-g75200df/a2da/lib/site_perl/5.19.12/Catalyst/Engine.pm line 797
	Catalyst::Engine::__ANON__(CODE(0x460f5e0)) called at /home/sand/src/perl/repoperls/installed-perls/perl/v5.19.11-12-g75200df/a2da/lib/site_perl/5.19.12/Plack/Middleware/HTTPExceptions.pm line 32
	Plack::Middleware::HTTPExceptions::try {...} () called at /home/sand/src/perl/repoperls/installed-perls/perl/v5.19.11-12-g75200df/a2da/lib/site_perl/5.19.12/Try/Tiny.pm line 81
	eval {...} called at /home/sand/src/perl/repoperls/installed-perls/perl/v5.19.11-12-g75200df/a2da/lib/site_perl/5.19.12/Try/Tiny.pm line 72
	Try::Tiny::try(CODE(0x460f448), Try::Tiny::Catch=REF(0x460b078)) called at /home/sand/src/perl/repoperls/installed-perls/perl/v5.19.11-12-g75200df/a2da/lib/site_perl/5.19.12/Plack/Middleware/HTTPExceptions.pm line 41
	Plack::Middleware::HTTPExceptions::__ANON__(CODE(0x460f340)) called at /home/sand/src/perl/repoperls/installed-perls/perl/v5.19.11-12-g75200df/a2da/lib/site_perl/5.19.12/Plack/Util.pm line 301
	Plack::Util::__ANON__(CODE(0x460f238)) called at /home/sand/src/perl/repoperls/installed-perls/perl/v5.19.11-12-g75200df/a2da/lib/site_perl/5.19.12/Plack/Util.pm line 301
	Plack::Util::__ANON__(CODE(0x460f130)) called at /home/sand/src/perl/repoperls/installed-perls/perl/v5.19.11-12-g75200df/a2da/lib/site_perl/5.19.12/Plack/Util.pm line 301
	Plack::Util::__ANON__(CODE(0x460f0a0)) called at /home/sand/src/perl/repoperls/installed-perls/perl/v5.19.11-12-g75200df/a2da/lib/site_perl/5.19.12/HTTP/Message/PSGI.pm line 100
	HTTP::Message::PSGI::res_from_psgi(CODE(0x460af40)) called at /home/sand/src/perl/repoperls/installed-perls/perl/v5.19.11-12-g75200df/a2da/lib/site_perl/5.19.12/HTTP/Message/PSGI.pm line 155
	HTTP::Response::from_psgi("HTTP::Response", CODE(0x460af40)) called at /home/sand/src/perl/repoperls/installed-perls/perl/v5.19.11-12-g75200df/a2da/lib/site_perl/5.19.12/Plack/Test/MockHTTP.pm line 24
	Plack::Test::MockHTTP::try {...} () called at /home/sand/src/perl/repoperls/installed-perls/perl/v5.19.11-12-g75200df/a2da/lib/site_perl/5.19.12/Try/Tiny.pm line 79
	eval {...} called at /home/sand/src/perl/repoperls/installed-perls/perl/v5.19.11-12-g75200df/a2da/lib/site_perl/5.19.12/Try/Tiny.pm line 72
	Try::Tiny::try(CODE(0x436a360), Try::Tiny::Catch=REF(0x4532288)) called at /home/sand/src/perl/repoperls/installed-perls/perl/v5.19.11-12-g75200df/a2da/lib/site_perl/5.19.12/Plack/Test/MockHTTP.pm line 27
	Plack::Test::MockHTTP::request(Plack::Test::MockHTTP=HASH(0x459f758), HTTP::Request=HASH(0x4570b50)) called at /home/sand/src/perl/repoperls/installed-perls/perl/v5.19.11-12-g75200df/a2da/lib/site_perl/5.19.12/Plack/Test.pm line 38
	Plack::Test::__ANON__(HTTP::Request=HASH(0x4570b50)) called at /home/sand/src/perl/repoperls/installed-perls/perl/v5.19.11-12-g75200df/a2da/lib/site_perl/5.19.12/Catalyst/Test.pm line 281
	Catalyst::Test::__ANON__(CODE(0x459f5f0)) called at /home/sand/src/perl/repoperls/installed-perls/perl/v5.19.11-12-g75200df/a2da/lib/site_perl/5.19.12/Plack/Test.pm line 38
	Plack::Test::test_psgi("mangle_response", CODE(0x3466e60), "app", CODE(0x4568088), "app", CODE(0x4593500), "client", CODE(0x459f200)) called at /home/sand/src/perl/repoperls/installed-perls/perl/v5.19.11-12-g75200df/a2da/lib/site_perl/5.19.12/Catalyst/Test.pm line 284
	Catalyst::Test::_request(HASH(0xe17c40), "/template_email?time=1398383807") called at /home/sand/src/perl/repoperls/installed-perls/perl/v5.19.11-12-g75200df/a2da/lib/site_perl/5.19.12/Catalyst/Test.pm line 327
	Catalyst::Test::_local_request("TestApp", "/template_email?time=1398383807") called at /home/sand/src/perl/repoperls/installed-perls/perl/v5.19.11-12-g75200df/a2da/lib/site_perl/5.19.12/Catalyst/Test.pm line 32
	Catalyst::Test::__ANON__("/template_email?time=1398383807") called at t/05template.t line 18
t/05template.t .. ok
require TestApp::View::Mason was successful but the package is not defined. at /home/sand/src/perl/repoperls/installed-perls/perl/v5.19.11-12-g75200df/a2da/lib/site_perl/5.19.12/Catalyst/Utils.pm line 314.
Class::MOP::load_class is deprecated at /home/sand/src/perl/repoperls/installed-perls/perl/v5.19.11-12-g75200df/a2da/lib/site_perl/5.19.12/x86_64-linux-thread-multi-ld/Class/MOP.pm line 73.
	Class::MOP::load_class("Email::Sender::Transport::Test") called at /tmp/loop_over_bdir-20068-7Z_zTR/Catalyst-View-Email-0.33-c4WD6A/blib/lib/Catalyst/View/Email.pm line 226
	Catalyst::View::Email::_build_mailer_obj(TestApp::View::Email::AppConfig=HASH(0x48e72d8)) called at accessor Catalyst::View::Email::_mailer_obj (defined at /tmp/loop_over_bdir-20068-7Z_zTR/Catalyst-View-Email-0.33-c4WD6A/blib/lib/Catalyst/View/Email.pm line 21) line 11
	Catalyst::View::Email::_mailer_obj(TestApp::View::Email::AppConfig=HASH(0x48e72d8)) called at /tmp/loop_over_bdir-20068-7Z_zTR/Catalyst-View-Email-0.33-c4WD6A/blib/lib/Catalyst/View/Email.pm line 299
	Catalyst::View::Email::process(TestApp::View::Email::AppConfig=HASH(0x48e72d8), TestApp=HASH(0x4a7bbf8)) called at /home/sand/src/perl/repoperls/installed-perls/perl/v5.19.11-12-g75200df/a2da/lib/site_perl/5.19.12/Catalyst/Action.pm line 65
	Catalyst::Action::execute(Catalyst::Action=HASH(0x4a871e0), TestApp::View::Email::AppConfig=HASH(0x48e72d8), TestApp=HASH(0x4a7bbf8)) called at /home/sand/src/perl/repoperls/installed-perls/perl/v5.19.11-12-g75200df/a2da/lib/site_perl/5.19.12/Catalyst.pm line 1734
	eval {...} called at /home/sand/src/perl/repoperls/installed-perls/perl/v5.19.11-12-g75200df/a2da/lib/site_perl/5.19.12/Catalyst.pm line 1734
	Catalyst::execute(TestApp=HASH(0x4a7bbf8), "TestApp::View::Email::AppConfig", Catalyst::Action=HASH(0x4a871e0)) called at /home/sand/src/perl/repoperls/installed-perls/perl/v5.19.11-12-g75200df/a2da/lib/site_perl/5.19.12/Catalyst/Action.pm line 60
	Catalyst::Action::dispatch(Catalyst::Action=HASH(0x4a871e0), TestApp=HASH(0x4a7bbf8)) called at /home/sand/src/perl/repoperls/installed-perls/perl/v5.19.11-12-g75200df/a2da/lib/site_perl/5.19.12/Catalyst/Dispatcher.pm line 258
	Catalyst::Dispatcher::_do_forward(Catalyst::Dispatcher=HASH(0x4362208), "forward", TestApp=HASH(0x4a7bbf8), "TestApp::View::Email::AppConfig") called at /home/sand/src/perl/repoperls/installed-perls/perl/v5.19.11-12-g75200df/a2da/lib/site_perl/5.19.12/Catalyst/Dispatcher.pm line 238
	Catalyst::Dispatcher::forward(Catalyst::Dispatcher=HASH(0x4362208), TestApp=HASH(0x4a7bbf8), "TestApp::View::Email::AppConfig") called at /home/sand/src/perl/repoperls/installed-perls/perl/v5.19.11-12-g75200df/a2da/lib/site_perl/5.19.12/Catalyst.pm line 397
	Catalyst::forward(TestApp=HASH(0x4a7bbf8), "TestApp::View::Email::AppConfig") called at /tmp/loop_over_bdir-20068-7Z_zTR/Catalyst-View-Email-0.33-c4WD6A/t/lib/TestApp/Controller/Root.pm line 48
	TestApp::Controller::Root::email_app_config(TestApp::Controller::Root=HASH(0x4854590), TestApp=HASH(0x4a7bbf8)) called at /home/sand/src/perl/repoperls/installed-perls/perl/v5.19.11-12-g75200df/a2da/lib/site_perl/5.19.12/Catalyst/Action.pm line 65
	Catalyst::Action::execute(Catalyst::Action=HASH(0x49ccfb8), TestApp::Controller::Root=HASH(0x4854590), TestApp=HASH(0x4a7bbf8)) called at /home/sand/src/perl/repoperls/installed-perls/perl/v5.19.11-12-g75200df/a2da/lib/site_perl/5.19.12/Catalyst.pm line 1734
	eval {...} called at /home/sand/src/perl/repoperls/installed-perls/perl/v5.19.11-12-g75200df/a2da/lib/site_perl/5.19.12/Catalyst.pm line 1734
	Catalyst::execute(TestApp=HASH(0x4a7bbf8), "TestApp::Controller::Root", Catalyst::Action=HASH(0x49ccfb8)) called at /home/sand/src/perl/repoperls/installed-perls/perl/v5.19.11-12-g75200df/a2da/lib/site_perl/5.19.12/Catalyst/Action.pm line 60
	Catalyst::Action::dispatch(Catalyst::Action=HASH(0x49ccfb8), TestApp=HASH(0x4a7bbf8)) called at /home/sand/src/perl/repoperls/installed-perls/perl/v5.19.11-12-g75200df/a2da/lib/site_perl/5.19.12/Catalyst/Controller.pm line 161
	Catalyst::Controller::_ACTION(TestApp::Controller::Root=HASH(0x4854590), TestApp=HASH(0x4a7bbf8)) called at /home/sand/src/perl/repoperls/installed-perls/perl/v5.19.11-12-g75200df/a2da/lib/site_perl/5.19.12/Catalyst/Action.pm line 65
	Catalyst::Action::execute(Catalyst::Action=HASH(0x49c7b88), TestApp::Controller::Root=HASH(0x4854590), TestApp=HASH(0x4a7bbf8)) called at /home/sand/src/perl/repoperls/installed-perls/perl/v5.19.11-12-g75200df/a2da/lib/site_perl/5.19.12/Catalyst.pm line 1734
	eval {...} called at /home/sand/src/perl/repoperls/installed-perls/perl/v5.19.11-12-g75200df/a2da/lib/site_perl/5.19.12/Catalyst.pm line 1734
	Catalyst::execute(TestApp=HASH(0x4a7bbf8), "TestApp::Controller::Root", Catalyst::Action=HASH(0x49c7b88)) called at /home/sand/src/perl/repoperls/installed-perls/perl/v5.19.11-12-g75200df/a2da/lib/site_perl/5.19.12/Catalyst/Action.pm line 60
	Catalyst::Action::dispatch(Catalyst::Action=HASH(0x49c7b88), TestApp=HASH(0x4a7bbf8)) called at /home/sand/src/perl/repoperls/installed-perls/perl/v5.19.11-12-g75200df/a2da/lib/site_perl/5.19.12/Catalyst/Dispatcher.pm line 258
	Catalyst::Dispatcher::_do_forward(Catalyst::Dispatcher=HASH(0x4362208), "forward", TestApp=HASH(0x4a7bbf8), "_ACTION") called at /home/sand/src/perl/repoperls/installed-perls/perl/v5.19.11-12-g75200df/a2da/lib/site_perl/5.19.12/Catalyst/Dispatcher.pm line 238
	Catalyst::Dispatcher::forward(Catalyst::Dispatcher=HASH(0x4362208), TestApp=HASH(0x4a7bbf8), "_ACTION") called at /home/sand/src/perl/repoperls/installed-perls/perl/v5.19.11-12-g75200df/a2da/lib/site_perl/5.19.12/Catalyst.pm line 397
	Catalyst::forward(TestApp=HASH(0x4a7bbf8), "_ACTION") called at /home/sand/src/perl/repoperls/installed-perls/perl/v5.19.11-12-g75200df/a2da/lib/site_perl/5.19.12/Catalyst/Controller.pm line 135
	Catalyst::Controller::_DISPATCH(TestApp::Controller::Root=HASH(0x4854590), TestApp=HASH(0x4a7bbf8)) called at /home/sand/src/perl/repoperls/installed-perls/perl/v5.19.11-12-g75200df/a2da/lib/site_perl/5.19.12/Catalyst/Action.pm line 65
	Catalyst::Action::execute(Catalyst::Action=HASH(0x49c6f40), TestApp::Controller::Root=HASH(0x4854590), TestApp=HASH(0x4a7bbf8)) called at /home/sand/src/perl/repoperls/installed-perls/perl/v5.19.11-12-g75200df/a2da/lib/site_perl/5.19.12/Catalyst.pm line 1734
	eval {...} called at /home/sand/src/perl/repoperls/installed-perls/perl/v5.19.11-12-g75200df/a2da/lib/site_perl/5.19.12/Catalyst.pm line 1734
	Catalyst::execute(TestApp=HASH(0x4a7bbf8), "TestApp::Controller::Root", Catalyst::Action=HASH(0x49c6f40)) called at /home/sand/src/perl/repoperls/installed-perls/perl/v5.19.11-12-g75200df/a2da/lib/site_perl/5.19.12/Catalyst/Action.pm line 60
	Catalyst::Action::dispatch(Catalyst::Action=HASH(0x49c6f40), TestApp=HASH(0x4a7bbf8)) called at /home/sand/src/perl/repoperls/installed-perls/perl/v5.19.11-12-g75200df/a2da/lib/site_perl/5.19.12/Catalyst/Dispatcher.pm line 258
	Catalyst::Dispatcher::_do_forward(Catalyst::Dispatcher=HASH(0x4362208), "forward", TestApp=HASH(0x4a7bbf8), "/root/_DISPATCH") called at /home/sand/src/perl/repoperls/installed-perls/perl/v5.19.11-12-g75200df/a2da/lib/site_perl/5.19.12/Catalyst/Dispatcher.pm line 238
	Catalyst::Dispatcher::forward(Catalyst::Dispatcher=HASH(0x4362208), TestApp=HASH(0x4a7bbf8), "/root/_DISPATCH") called at /home/sand/src/perl/repoperls/installed-perls/perl/v5.19.11-12-g75200df/a2da/lib/site_perl/5.19.12/Catalyst.pm line 397
	Catalyst::forward(TestApp=HASH(0x4a7bbf8), "/root/_DISPATCH") called at /home/sand/src/perl/repoperls/installed-perls/perl/v5.19.11-12-g75200df/a2da/lib/site_perl/5.19.12/Catalyst/Dispatcher.pm line 107
	Catalyst::Dispatcher::dispatch(Catalyst::Dispatcher=HASH(0x4362208), TestApp=HASH(0x4a7bbf8)) called at /home/sand/src/perl/repoperls/installed-perls/perl/v5.19.11-12-g75200df/a2da/lib/site_perl/5.19.12/Catalyst.pm line 1680
	Catalyst::dispatch(TestApp=HASH(0x4a7bbf8)) called at /home/sand/src/perl/repoperls/installed-perls/perl/v5.19.11-12-g75200df/a2da/lib/site_perl/5.19.12/Catalyst.pm line 2015
	Catalyst::try {...} () called at /home/sand/src/perl/repoperls/installed-perls/perl/v5.19.11-12-g75200df/a2da/lib/site_perl/5.19.12/Try/Tiny.pm line 81
	eval {...} called at /home/sand/src/perl/repoperls/installed-perls/perl/v5.19.11-12-g75200df/a2da/lib/site_perl/5.19.12/Try/Tiny.pm line 72
	Try::Tiny::try(CODE(0x4a7b538), Try::Tiny::Catch=REF(0x4a7b3d0)) called at /home/sand/src/perl/repoperls/installed-perls/perl/v5.19.11-12-g75200df/a2da/lib/site_perl/5.19.12/Catalyst.pm line 2024
	Catalyst::handle_request("TestApp", "env", HASH(0x46b2da8), "response_cb", CODE(0x4a7b400)) called at /home/sand/src/perl/repoperls/installed-perls/perl/v5.19.11-12-g75200df/a2da/lib/site_perl/5.19.12/Catalyst/Engine.pm line 797
	Catalyst::Engine::__ANON__(CODE(0x4a7b400)) called at /home/sand/src/perl/repoperls/installed-perls/perl/v5.19.11-12-g75200df/a2da/lib/site_perl/5.19.12/Plack/Middleware/HTTPExceptions.pm line 32
	Plack::Middleware::HTTPExceptions::try {...} () called at /home/sand/src/perl/repoperls/installed-perls/perl/v5.19.11-12-g75200df/a2da/lib/site_perl/5.19.12/Try/Tiny.pm line 81
	eval {...} called at /home/sand/src/perl/repoperls/installed-perls/perl/v5.19.11-12-g75200df/a2da/lib/site_perl/5.19.12/Try/Tiny.pm line 72
	Try::Tiny::try(CODE(0x4a7b268), Try::Tiny::Catch=REF(0x4a16d18)) called at /home/sand/src/perl/repoperls/installed-perls/perl/v5.19.11-12-g75200df/a2da/lib/site_perl/5.19.12/Plack/Middleware/HTTPExceptions.pm line 41
	Plack::Middleware::HTTPExceptions::__ANON__(CODE(0x4a7b160)) called at /home/sand/src/perl/repoperls/installed-perls/perl/v5.19.11-12-g75200df/a2da/lib/site_perl/5.19.12/Plack/Util.pm line 301
	Plack::Util::__ANON__(CODE(0x4a7b058)) called at /home/sand/src/perl/repoperls/installed-perls/perl/v5.19.11-12-g75200df/a2da/lib/site_perl/5.19.12/Plack/Util.pm line 301
	Plack::Util::__ANON__(CODE(0x4a7af50)) called at /home/sand/src/perl/repoperls/installed-perls/perl/v5.19.11-12-g75200df/a2da/lib/site_perl/5.19.12/Plack/Util.pm line 301
	Plack::Util::__ANON__(CODE(0x4a7aec0)) called at /home/sand/src/perl/repoperls/installed-perls/perl/v5.19.11-12-g75200df/a2da/lib/site_perl/5.19.12/HTTP/Message/PSGI.pm line 100
	HTTP::Message::PSGI::res_from_psgi(CODE(0x4a16be0)) called at /home/sand/src/perl/repoperls/installed-perls/perl/v5.19.11-12-g75200df/a2da/lib/site_perl/5.19.12/HTTP/Message/PSGI.pm line 155
	HTTP::Response::from_psgi("HTTP::Response", CODE(0x4a16be0)) called at /home/sand/src/perl/repoperls/installed-perls/perl/v5.19.11-12-g75200df/a2da/lib/site_perl/5.19.12/Plack/Test/MockHTTP.pm line 24
	Plack::Test::MockHTTP::try {...} () called at /home/sand/src/perl/repoperls/installed-perls/perl/v5.19.11-12-g75200df/a2da/lib/site_perl/5.19.12/Try/Tiny.pm line 79
	eval {...} called at /home/sand/src/perl/repoperls/installed-perls/perl/v5.19.11-12-g75200df/a2da/lib/site_perl/5.19.12/Try/Tiny.pm line 72
	Try::Tiny::try(CODE(0x46cf9f8), Try::Tiny::Catch=REF(0x49901f0)) called at /home/sand/src/perl/repoperls/installed-perls/perl/v5.19.11-12-g75200df/a2da/lib/site_perl/5.19.12/Plack/Test/MockHTTP.pm line 27
	Plack::Test::MockHTTP::request(Plack::Test::MockHTTP=HASH(0x4a0e978), HTTP::Request=HASH(0x49dcff0)) called at /home/sand/src/perl/repoperls/installed-perls/perl/v5.19.11-12-g75200df/a2da/lib/site_perl/5.19.12/Plack/Test.pm line 38
	Plack::Test::__ANON__(HTTP::Request=HASH(0x49dcff0)) called at /home/sand/src/perl/repoperls/installed-perls/perl/v5.19.11-12-g75200df/a2da/lib/site_perl/5.19.12/Catalyst/Test.pm line 281
	Catalyst::Test::__ANON__(CODE(0x4a0e7f8)) called at /home/sand/src/perl/repoperls/installed-perls/perl/v5.19.11-12-g75200df/a2da/lib/site_perl/5.19.12/Plack/Test.pm line 38
	Plack::Test::test_psgi("app", CODE(0x49d29f8), "mangle_response", CODE(0x38daa28), "app", CODE(0x4a00c50), "client", CODE(0x4a01388)) called at /home/sand/src/perl/repoperls/installed-perls/perl/v5.19.11-12-g75200df/a2da/lib/site_perl/5.19.12/Catalyst/Test.pm line 284
	Catalyst::Test::_request(HASH(0x12a4c40), "/email_app_config?time=1398383807") called at /home/sand/src/perl/repoperls/installed-perls/perl/v5.19.11-12-g75200df/a2da/lib/site_perl/5.19.12/Catalyst/Test.pm line 327
	Catalyst::Test::_local_request("TestApp", "/email_app_config?time=1398383807") called at /home/sand/src/perl/repoperls/installed-perls/perl/v5.19.11-12-g75200df/a2da/lib/site_perl/5.19.12/Catalyst/Test.pm line 32
	Catalyst::Test::__ANON__("/email_app_config?time=1398383807") called at t/06config.t line 21
t/06config.t .... ok
t/07mason.t ..... skipped: Test requires module 'Catalyst::View::Mason' but it's not found
All tests successful.
Files=6, Tests=34,  3 wallclock secs ( 0.03 usr  0.00 sys +  2.50 cusr  0.12 csys =  2.65 CPU)
Result: PASS

------------------------------
PREREQUISITES
------------------------------

Prerequisite modules loaded:

requires:

    Module                Need     Have    
    --------------------- -------- --------
    Authen::SASL          2.13     2.16    
    Catalyst              5.7      5.90062 
    Email::MIME           1.859    1.926   
    Email::MIME::Creator  1.455    1.926   
    Email::Sender::Simple 0.100110 1.300011
    MIME::Base64          3.08     3.14    
    Moose                 0.93     2.1205  
    parent                0.223    0.228   
    Test::More            0.88     1.001003
    Test::Requires        0        0.07    

build_requires:

    Module                Need     Have    
    --------------------- -------- --------
    ExtUtils::MakeMaker   6.36     6.96    
    Test::More            0        1.001003
    Test::Requires        0        0.07    

configure_requires:

    Module                Need     Have    
    --------------------- -------- --------
    ExtUtils::MakeMaker   6.36     6.96    


------------------------------
ENVIRONMENT AND OTHER CONTEXT
------------------------------

Environment variables:

    AUTOMATED_TESTING = 1
    LANG = en_US.UTF-8
    LANGUAGE = en_US:en
    PATH = /usr/lib/ccache:/home/sand/bin:/usr/local/bin:/usr/bin:/bin:/usr/games:/usr/local/perl/bin:/usr/X11/bin:/sbin:/usr/sbin
    PERL = /tmp/basesmoker-reloperl-Ey_v/bin/perl
    PERL5LIB = 
    PERL5OPT = 
    PERL5_CPANPLUS_IS_RUNNING = 27315
    PERL5_CPAN_IS_RUNNING = 27315
    PERL_MM_USE_DEFAULT = 1
    SHELL = /usr/bin/zsh
    TERM = screen

Perl special variables (and OS-specific diagnostics, for MSWin32):

    $^X = /tmp/basesmoker-reloperl-Ey_v/bin/perl
    $UID/$EUID = 1005 / 1005
    $GID = 1005 1005
    $EGID = 1005 1005

Perl module toolchain versions installed:

    Module              Have    
    ------------------- --------
    CPAN                2.05    
    CPAN::Meta          2.140640
    Cwd                 3.47    
    ExtUtils::CBuilder  0.280216
    ExtUtils::Command   1.18    
    ExtUtils::Install   1.67    
    ExtUtils::MakeMaker 6.96    
    ExtUtils::Manifest  1.63    
    ExtUtils::ParseXS   3.24    
    File::Spec          3.47    
    JSON                2.90    
    JSON::PP            2.27203 
    Module::Build       0.4205  
    Module::Signature   0.73    
    Parse::CPAN::Meta   1.4414  
    Test::Harness       3.30    
    Test::More          1.001003
    YAML                0.90    
    YAML::Syck          1.27    
    version             0.9908  


--

Summary of my perl5 (revision 5 version 19 subversion 12) configuration:
  Commit id: 75200dff8561a9c5d6eaa86a0ac75874bf13282b
  Platform:
    osname=linux, osvers=3.13-1-amd64, archname=x86_64-linux-thread-multi-ld
    uname='linux k83 3.13-1-amd64 #1 smp debian 3.13.7-1 (2014-03-25) x86_64 gnulinux '
    config_args='-Dprefix=/home/sand/src/perl/repoperls/installed-perls/perl/v5.19.11-12-g75200df/a2da -Dmyhostname=k83 -Dinstallusrbinperl=n -Uversiononly -Dusedevel -des -Ui_db -Duseithreads -Duselongdouble -DDEBUGGING=-g'
    hint=recommended, useposix=true, d_sigaction=define
    useithreads=define, usemultiplicity=define
    use64bitint=define, use64bitall=define, uselongdouble=define
    usemymalloc=n, bincompat5005=undef
  Compiler:
    cc='cc', ccflags ='-D_REENTRANT -D_GNU_SOURCE -fwrapv -fno-strict-aliasing -pipe -fstack-protector -I/usr/local/include -D_LARGEFILE_SOURCE -D_FILE_OFFSET_BITS=64',
    optimize='-O2 -g',
    cppflags='-D_REENTRANT -D_GNU_SOURCE -fwrapv -fno-strict-aliasing -pipe -fstack-protector -I/usr/local/include'
    ccversion='', gccversion='4.8.2', gccosandvers=''
    intsize=4, longsize=8, ptrsize=8, doublesize=8, byteorder=12345678
    d_longlong=define, longlongsize=8, d_longdbl=define, longdblsize=16
    ivtype='long', ivsize=8, nvtype='long double', nvsize=16, Off_t='off_t', lseeksize=8
    alignbytes=16, prototype=define
  Linker and Libraries:
    ld='cc', ldflags =' -fstack-protector -L/usr/local/lib'
    libpth=/usr/local/lib /usr/lib/gcc/x86_64-linux-gnu/4.8/include-fixed /usr/include/x86_64-linux-gnu /usr/lib /lib/x86_64-linux-gnu /lib/../lib /usr/lib/x86_64-linux-gnu /usr/lib/../lib /lib
    libs=-lnsl -lgdbm -ldb -ldl -lm -lcrypt -lutil -lpthread -lc -lgdbm_compat
    perllibs=-lnsl -ldl -lm -lcrypt -lutil -lpthread -lc
    libc=libc-2.18.so, so=so, useshrplib=false, libperl=libperl.a
    gnulibc_version='2.18'
  Dynamic Linking:
    dlsrc=dl_dlopen.xs, dlext=so, d_dlsymun=undef, ccdlflags='-Wl,-E'
    cccdlflags='-fPIC', lddlflags='-shared -O2 -g -L/usr/local/lib -fstack-protector'


Characteristics of this binary (from libperl): 
  Compile-time options: HAS_TIMES MULTIPLICITY PERLIO_LAYERS
                        PERL_DONT_CREATE_GVSV
                        PERL_HASH_FUNC_ONE_AT_A_TIME_HARD
                        PERL_IMPLICIT_CONTEXT PERL_MALLOC_WRAP
                        PERL_NEW_COPY_ON_WRITE PERL_PRESERVE_IVUV
                        PERL_USE_DEVEL USE_64_BIT_ALL USE_64_BIT_INT
                        USE_ITHREADS USE_LARGE_FILES USE_LOCALE
                        USE_LOCALE_COLLATE USE_LOCALE_CTYPE
                        USE_LOCALE_NUMERIC USE_LONG_DOUBLE USE_PERLIO
                        USE_PERL_ATOF USE_REENTRANT_API
  Built under linux
  Compiled at Apr 24 2014 07:02:23
  %ENV:
    PERL="/tmp/basesmoker-reloperl-Ey_v/bin/perl"
    PERL5LIB=""
    PERL5OPT=""
    PERL5_CPANPLUS_IS_RUNNING="27315"
    PERL5_CPAN_IS_RUNNING="27315"
    PERL_MM_USE_DEFAULT="1"
  @INC:
    /home/sand/src/perl/repoperls/installed-perls/perl/v5.19.11-12-g75200df/a2da/lib/site_perl/5.19.12/x86_64-linux-thread-multi-ld
    /home/sand/src/perl/repoperls/installed-perls/perl/v5.19.11-12-g75200df/a2da/lib/site_perl/5.19.12
    /home/sand/src/perl/repoperls/installed-perls/perl/v5.19.11-12-g75200df/a2da/lib/5.19.12/x86_64-linux-thread-multi-ld
    /home/sand/src/perl/repoperls/installed-perls/perl/v5.19.11-12-g75200df/a2da/lib/5.19.12
    .