POE-Component-Server-SimpleHTTP v2.30 Perl 5 v5.10.1 x86_64-linux-ld

Status
Pass
From
Andreas J. König (ANDK)
Dist
POE-Component-Server-SimpleHTTP v2.30
Platform
Perl 5 v5.10.1 x86_64-linux-ld
Date
2023-11-11 17:24:06
ID
1df2bcb0-80b7-11ee-abf3-64ab0cb4ade9
This distribution has been tested as part of the CPAN Testers
project, supporting the Perl programming language.  See
http://wiki.cpantesters.org/ for more information or email
questions to cpan-testers-discuss@perl.org


--
Dear Chris Williams,

This is a computer-generated report for POE-Component-Server-SimpleHTTP-2.30
on perl 5.10.1, created by CPAN-Reporter-1.2018.

Thank you for uploading your work to CPAN.  Congratulations!
All tests were successful.

Sections of this report:

    * Tester comments
    * Program output
    * Prerequisites
    * Environment and other context

------------------------------
TESTER COMMENTS
------------------------------

Additional comments from tester:

this report is from an automated smoke testing program
and was not reviewed by a human for accuracy

------------------------------
PROGRAM OUTPUT
------------------------------

Output from '/usr/bin/make test':

PERL_DL_NONLAZY=1 "/home/sand/src/perl/repoperls/installed-perls/host/k93msid/v5.10.1/fc43/bin/perl" "-MExtUtils::Command::MM" "-MTest::Harness" "-e" "undef *Test::Harness::Switches; test_harness(0, 'blib/lib', 'blib/arch')" t/*.t
t/00-compile.t ........... ok
# GET http://pocosimpletest.com:40283/ HTTP/1.1
# Host: 127.0.0.1:40283
# 
# HTTP/1.1 200 (OK)
# Date: Sat, 11 Nov 2023 17:23:47 GMT
# Content-Length: 3
# Content-Type: text/plain
# 
# Moo
t/02_simple.t ............ ok
# starting httpd6
# httpd6 started
# Port is 46357
# webc_connected
# GET http://pocosimpletest.com:46357/ HTTP/1.1
# Host: ::1:46357
# 
# HTTP/1.1 200 (OK)
# Date: Sat, 11 Nov 2023 17:23:48 GMT
# Content-Length: 3
# Content-Type: text/plain
# 
# Moo
t/02_simple_ipv6.t ....... ok
# HTTP/1.1 404 (Not Found)
# Date: Sat, 11 Nov 2023 17:23:49 GMT
# Content-Length: 13
# Content-Type: text/plain
# 
# 404 Not Found
t/03_bad_handler.t ....... ok
# GEt http://pocosimpletest.com:36377/ HTTP/1.1
# Host: 127.0.0.1:36377
# 
# HTTP/1.1 200 (OK)
# Date: Sat, 11 Nov 2023 17:23:49 GMT
# Content-Length: 3
# Content-Type: text/plain
# 
# Moo
t/03_bad_request.t ....... ok
# 200 (OK)
# Date: Sat, 11 Nov 2023 17:23:50 GMT
# Content-Length: 11
# Content-Type: text/plain
# X-HTTP-Version: 1.1
# 
# this is top
# 200 (OK)
# Date: Sat, 11 Nov 2023 17:23:50 GMT
# Content-Length: 12
# Content-Type: text/plain
# X-HTTP-Version: 1.1
# 
# this is honk
# 200 (OK)
# Date: Sat, 11 Nov 2023 17:23:50 GMT
# Content-Length: 123
# Content-Type: text/html
# X-HTTP-Version: 1.1
# 
# <html>
# <head><title>YEAH!</title></head>
# <body><p>This, my friend, is the page you've been looking for.</p></body>
# </html>
# 404 (Not Found)
# Date: Sat, 11 Nov 2023 17:23:50 GMT
# Content-Length: 13
# Content-Type: text/plain
# X-HTTP-Version: 1.1
# 
# 404 Not Found
t/04_run_close.t ......... ok
# 200 (OK)
# Date: Sat, 11 Nov 2023 17:23:51 GMT
# Content-Length: 11
# Content-Type: text/plain
# X-HTTP-Version: 1.1
# 
# this is top
# 200 (OK)
# Date: Sat, 11 Nov 2023 17:23:51 GMT
# Content-Length: 12
# Content-Type: text/plain
# X-HTTP-Version: 1.1
# 
# this is honk
# 200 (OK)
# Date: Sat, 11 Nov 2023 17:23:51 GMT
# Content-Length: 123
# Content-Type: text/html
# X-HTTP-Version: 1.1
# 
# <html>
# <head><title>YEAH!</title></head>
# <body><p>This, my friend, is the page you've been looking for.</p></body>
# </html>
# 404 (Not Found)
# Date: Sat, 11 Nov 2023 17:23:51 GMT
# Content-Length: 13
# Content-Type: text/plain
# X-HTTP-Version: 1.1
# 
# 404 Not Found
t/04_run_keepalive.t ..... ok
# POST http://pocosimpletest.com:40779/ HTTP/1.1
# Host: 127.0.0.1:40779
# Content-Length: 40
# 
# brother !~we need to get off this island
# 200 (OK)
# Date: Sat, 11 Nov 2023 17:23:51 GMT
# Content-Length: 40
# Content-Type: text/plain
# X-HTTP-Version: 1.1
# 
# we need to get off this island brother !
t/05_post.t .............. ok
t/06_stream.t ............ skipped: POE::Component::Client::HTTP is required for this test
t/author-pod-coverage.t .. skipped: these tests are for testing by the author
t/author-pod-syntax.t .... skipped: these tests are for testing by the author
All tests successful.
Files=11, Tests=47,  8 wallclock secs ( 0.06 usr  0.02 sys +  4.04 cusr  0.84 csys =  4.96 CPU)
Result: PASS

------------------------------
PREREQUISITES
------------------------------

Prerequisite modules loaded:

requires:

    Module                    Need   Have    
    ------------------------- ------ --------
    Carp                      0      1.50    
    HTTP::Date                0      6.05    
    HTTP::Request             0      6.43    
    HTTP::Response            0      6.43    
    Moose                     0.9    2.2201  
    MooseX::POE               0.205  0.215   
    perl                      5.006  5.010001
    POE                       1.0000 1.370   
    Socket                    0      2.032   
    Storable                  0      3.25    
    Sys::Hostname             0      1.11    

build_requires:

    Module                    Need   Have    
    ------------------------- ------ --------
    ExtUtils::MakeMaker       6.59   7.70    
    File::Spec                0      3.75    
    IO::Handle                0      1.51    
    IPC::Open3                0      1.04    
    POE::Filter::HTTP::Parser 1.06   1.08    
    Test::More                0.47   1.302191
    Test::POE::Client::TCP    1.24   1.26    

configure_requires:

    Module                    Need   Have    
    ------------------------- ------ --------
    ExtUtils::MakeMaker       0      7.70    


------------------------------
ENVIRONMENT AND OTHER CONTEXT
------------------------------

Environment variables:

    AUTOMATED_TESTING = 1
    LANG = en_US.UTF-8
    LANGUAGE = en_US:en
    PATH = /home/sand/bin:/usr/local/bin:/usr/bin:/bin:/usr/games:/usr/local/perl/bin:/usr/X11/bin:/sbin:/usr/sbin
    PERL5LIB = 
    PERL5OPT = 
    PERL5_CPANPLUS_IS_RUNNING = 2093093
    PERL5_CPAN_IS_RUNNING = 2093093
    PERL_CANARY_STABILITY_NOPROMPT = 1
    PERL_MM_USE_DEFAULT = 1
    PERL_USE_UNSAFE_INC = 1
    SHELL = /usr/bin/zsh
    TERM = screen

Perl special variables (and OS-specific diagnostics, for MSWin32):

    $^X = /home/sand/src/perl/repoperls/installed-perls/host/k93msid/v5.10.1/fc43/bin/perl
    $UID/$EUID = 1005 / 1005
    $GID = 1005 1005
    $EGID = 1005 1005

Perl module toolchain versions installed:

    Module              Have    
    ------------------- --------
    CPAN                2.33    
    CPAN::Meta          2.150010
    Cwd                 3.75    
    ExtUtils::CBuilder  0.280236
    ExtUtils::Command   7.70    
    ExtUtils::Install   2.06    
    ExtUtils::MakeMaker 7.70    
    ExtUtils::Manifest  1.70    
    ExtUtils::ParseXS   3.44    
    File::Spec          3.75    
    JSON                4.10    
    JSON::PP            4.12    
    Module::Build       0.4231  
    Module::Signature   0.88    
    Parse::CPAN::Meta   2.150010
    Test::Harness       3.47    
    Test::More          1.302191
    YAML                1.30    
    YAML::Syck          1.34    
    version             0.9929  


--

Summary of my perl5 (revision 5 version 10 subversion 1) configuration:
  Commit id: 5348debf9fd57fc15c26529386769684fab96e57
  Platform:
    osname=linux, osvers=5.16.0-5-amd64, archname=x86_64-linux-ld
    uname='linux k93msid 5.16.0-5-amd64 #1 smp preempt debian 5.16.14-1 (2022-03-15) x86_64 gnulinux '
    config_args='-Dprefix=/home/sand/src/perl/repoperls/installed-perls/host/k93msid/v5.10.1/fc43 -Dmyhostname=k93msid -Dinstallusrbinperl=n -Uversiononly -Dusedevel -des -Ui_db -Dlibswanted=cl pthread socket inet nsl gdbm dbm malloc dl ld sun m crypt sec util c cposix posix ucb BSD gdbm_compat -Uuseithreads -Duselongdouble -DEBUGGING=both'
    hint=recommended, useposix=true, d_sigaction=define
    useithreads=undef, usemultiplicity=undef
    useperlio=define, d_sfio=undef, uselargefiles=define, usesocks=undef
    use64bitint=define, use64bitall=define, uselongdouble=define
    usemymalloc=n, bincompat5005=undef
  Compiler:
    cc='cc', ccflags ='-fwrapv -DDEBUGGING -fno-strict-aliasing -pipe -fstack-protector -I/usr/local/include -D_LARGEFILE_SOURCE -D_FILE_OFFSET_BITS=64',
    optimize='-O2 -g',
    cppflags='-fwrapv -DDEBUGGING -fno-strict-aliasing -pipe -fstack-protector -I/usr/local/include'
    ccversion='', gccversion='11.2.0', gccosandvers=''
    intsize=4, longsize=8, ptrsize=8, doublesize=8, byteorder=12345678
    d_longlong=define, longlongsize=8, d_longdbl=define, longdblsize=16
    ivtype='long', ivsize=8, nvtype='long double', nvsize=16, Off_t='off_t', lseeksize=8
    alignbytes=16, prototype=define
  Linker and Libraries:
    ld='cc', ldflags =' -fstack-protector -L/usr/local/lib'
    libpth=/usr/local/lib /lib/x86_64-linux-gnu /lib/../lib /usr/lib/x86_64-linux-gnu /usr/lib/../lib /lib /usr/lib
    libs=-lpthread -lnsl -ldl -lm -lcrypt -lutil -lc
    perllibs=-lpthread -lnsl -ldl -lm -lcrypt -lutil -lc
    libc=libc-2.33.so, so=so, useshrplib=false, libperl=libperl.a
    gnulibc_version='2.33'
  Dynamic Linking:
    dlsrc=dl_dlopen.xs, dlext=so, d_dlsymun=undef, ccdlflags='-Wl,-E'
    cccdlflags='-fPIC', lddlflags='-shared -O2 -g -L/usr/local/lib -fstack-protector'


Characteristics of this binary (from libperl): 
  Compile-time options: DEBUGGING PERL_DONT_CREATE_GVSV PERL_MALLOC_WRAP
                        PERL_USE_DEVEL USE_64_BIT_ALL USE_64_BIT_INT
                        USE_LARGE_FILES USE_LONG_DOUBLE USE_PERLIO
  Built under linux
  Compiled at Mar 18 2022 11:21:57
  %ENV:
    PERL5LIB=""
    PERL5OPT=""
    PERL5_CPANPLUS_IS_RUNNING="2093093"
    PERL5_CPAN_IS_RUNNING="2093093"
    PERL_CANARY_STABILITY_NOPROMPT="1"
    PERL_MM_USE_DEFAULT="1"
    PERL_USE_UNSAFE_INC="1"
  @INC:
    /home/sand/src/perl/repoperls/installed-perls/host/k93msid/v5.10.1/fc43/lib/5.10.1/x86_64-linux-ld
    /home/sand/src/perl/repoperls/installed-perls/host/k93msid/v5.10.1/fc43/lib/5.10.1
    /home/sand/src/perl/repoperls/installed-perls/host/k93msid/v5.10.1/fc43/lib/site_perl/5.10.1/x86_64-linux-ld
    /home/sand/src/perl/repoperls/installed-perls/host/k93msid/v5.10.1/fc43/lib/site_perl/5.10.1
    .