Web-Scraper v0.38 Perl 5 v5.38.0 armv6l-linux
- Status
- Pass
- From
- gregor herrmann
- Dist
-
Web-Scraper v0.38
- Platform
- Perl 5 v5.38.0 armv6l-linux
- Date
- 2023-07-17 21:08:46
- ID
- 1e1b35dc-24e6-11ee-bd74-61b2ce8c88f7
This distribution has been tested as part of the CPAN Testers
project, supporting the Perl programming language. See
http://wiki.cpantesters.org/ for more information or email
questions to cpan-testers-discuss@perl.org
--
Dear Tatsuhiko Miyagawa,
This is a computer-generated report for Web-Scraper-0.38
on perl 5.38.0, created by CPAN-Reporter-1.2019.
Thank you for uploading your work to CPAN. Congratulations!
All tests were successful.
Sections of this report:
* Tester comments
* Program output
* Prerequisites
* Environment and other context
------------------------------
TESTER COMMENTS
------------------------------
Additional comments from tester:
this report is from an automated smoke testing program
and was not reviewed by a human for accuracy
------------------------------
PROGRAM OUTPUT
------------------------------
Output from './Build test':
t/00_compile.t .......... ok
t/01_process.t .......... ok
t/02_process_multi.t .... ok
t/03_scraper_nest.t ..... ok
t/04_callback.t ......... ok
t/05_process_first.t .... ok
t/06_define.t ........... ok
t/07-live.t ............. skipped: LIVE_TEST not enabled
t/08-leak.t ............. skipped: LEAK_TEST is not defined
t/09-process_hash.t ..... ok
t/11_absolute.t ......... ok
t/12_html.t ............. ok
t/13_textnode.t ......... ok
t/14_absolute_nested.t .. ok
t/15_absolute_hash.t .... ok
t/16_filter.t ........... ok
t/17_filter_loop.t ...... ok
t/18_http_response.t .... skipped: LIVE_TEST not enabled
t/19_decode_content.t ... skipped: LIVE_TEST not enabled
t/20_comment_nodes.t .... skipped: Please upgrade HTML::TreeBuilder::XPath and HTML::TreeBuilder::LibXML modules for comment nodes supporting
t/21_html5.t ............ ok
t/22_filter_regex.t ..... ok
t/redefine.t ............ ok
t/release-pod-syntax.t .. skipped: these tests are for release candidate testing
t/xml-simple.t .......... skipped: Test requires module 'HTML::TreeBuilder::LibXML' but it's not found
All tests successful.
Files=25, Tests=42, 130 wallclock secs ( 1.36 usr 0.29 sys + 92.18 cusr 4.04 csys = 97.87 CPU)
Result: PASS
------------------------------
PREREQUISITES
------------------------------
Prerequisite modules loaded:
requires:
Module Need Have
------------------------ -------- --------
HTML::Entities 0 3.81
HTML::Selector::XPath 0.03 0.26
HTML::Tagset 0 3.20
HTML::TreeBuilder 3.23 5.07
HTML::TreeBuilder::XPath 0.08 0.14
LWP 5.827 6.71
perl 5.008001 5.038000
Scalar::Util 0 1.63
UNIVERSAL::require 0 0.19
URI 0 5.19
XML::XPathEngine 0.08 0.14
YAML 0 1.30
build_requires:
Module Need Have
------------------------ -------- --------
ExtUtils::MakeMaker 6.59 7.70
Test::Base 0 0.89
Test::More 0 1.302195
Test::Requires 0 0.11
configure_requires:
Module Need Have
------------------------ -------- --------
Module::Build::Tiny 0.039 0.046
------------------------------
ENVIRONMENT AND OTHER CONTEXT
------------------------------
Environment variables:
AUTOMATED_TESTING = 1
LC_CTYPE = de_AT.utf8
LD_LIBRARY_PATH = /usr/lib/libeatmydata
NONINTERACTIVE_TESTING = 1
PATH = /srv/smoker/bin:/usr/lib/ccache:/srv/smoker/perl5/bin:/srv/smoker/perl5/perlbrew/bin:/srv/smoker/perl5/perlbrew/perls/perl-5.38.0/bin:/usr/local/bin:/usr/bin:/bin:/usr/local/games:/usr/games
PERL5LIB = /srv/smoker/perl5/lib/perl5
PERL5OPT =
PERL5_CPANPLUS_IS_RUNNING = 3687
PERL5_CPAN_IS_RUNNING = 3687
PERL5_CPAN_IS_RUNNING_IN_RECURSION = 10451,3687
PERLBREW_HOME = /srv/smoker/.perlbrew
PERLBREW_MANPATH = /srv/smoker/perl5/perlbrew/perls/perl-5.38.0/man
PERLBREW_PATH = /srv/smoker/perl5/perlbrew/bin:/srv/smoker/perl5/perlbrew/perls/perl-5.38.0/bin
PERLBREW_PERL = perl-5.38.0
PERLBREW_ROOT = /srv/smoker/perl5/perlbrew
PERLBREW_SHELLRC_VERSION = 0.97
PERLBREW_VERSION = 0.97
PERL_CPANM_OPT = --prompt --configure-timeout 300 --build-timeout 18000 --test-timeout 18000 --from https://www.cpan.org
PERL_CR_SMOKER_CURRENT = Finance-Quote-1.57_02
PERL_EXTUTILS_AUTOINSTALL = --defaultdeps
PERL_LOCAL_LIB_ROOT = /srv/smoker/perl5
PERL_MB_OPT = --install_base "/srv/smoker/perl5"
PERL_MM_OPT = INSTALL_BASE=/srv/smoker/perl5
PERL_MM_USE_DEFAULT = 1
PERL_TEST_TIME_OUT_FACTOR = 3
PERL_TEST_TIME_OUT_FACTOR = 3
PERL_USE_UNSAFE_INC = 1
SHELL = /bin/bash
TERM = screen-256color
Perl special variables (and OS-specific diagnostics, for MSWin32):
$^X = /srv/smoker/perl5/perlbrew/perls/perl-5.38.0/bin/perl
$UID/$EUID = 1111 / 1111
$GID = 65534 65534
$EGID = 65534 65534
Perl module toolchain versions installed:
Module Have
------------------- --------
CPAN 2.36
CPAN::Meta 2.150010
Cwd 3.89
ExtUtils::CBuilder 0.280238
ExtUtils::Command 7.70
ExtUtils::Install 2.22
ExtUtils::MakeMaker 7.70
ExtUtils::Manifest 1.73
ExtUtils::ParseXS 3.51
File::Spec 3.88
JSON 4.10
JSON::PP 4.16
Module::Build 0.4234
Module::Signature n/a
Parse::CPAN::Meta 2.150010
Test2 1.302195
Test::Harness 3.44
Test::More 1.302195
YAML 1.30
YAML::Syck n/a
version 0.9929
--
Summary of my perl5 (revision 5 version 38 subversion 0) configuration:
Platform:
osname=linux
osvers=6.1.21+
archname=armv6l-linux
uname='linux smoker 6.1.21+ #1642 mon apr 3 17:19:14 bst 2023 armv6l gnulinux '
config_args='-de -Dprefix=/srv/smoker/perl5/perlbrew/perls/perl-5.38.0 -Aeval:scriptdir=/srv/smoker/perl5/perlbrew/perls/perl-5.38.0/bin'
hint=recommended
useposix=true
d_sigaction=define
useithreads=undef
usemultiplicity=undef
use64bitint=undef
use64bitall=undef
uselongdouble=undef
usemymalloc=n
default_inc_excludes_dot=define
Compiler:
cc='cc'
ccflags ='-fwrapv -fno-strict-aliasing -pipe -fstack-protector-strong -I/usr/local/include -D_LARGEFILE_SOURCE -D_FILE_OFFSET_BITS=64 -D_FORTIFY_SOURCE=2'
optimize='-O2'
cppflags='-fwrapv -fno-strict-aliasing -pipe -fstack-protector-strong -I/usr/local/include'
ccversion=''
gccversion='12.2.0'
gccosandvers=''
intsize=4
longsize=4
ptrsize=4
doublesize=8
byteorder=1234
doublekind=3
d_longlong=define
longlongsize=8
d_longdbl=define
longdblsize=8
longdblkind=0
ivtype='long'
ivsize=4
nvtype='double'
nvsize=8
Off_t='off_t'
lseeksize=8
alignbytes=8
prototype=define
Linker and Libraries:
ld='cc'
ldflags =' -fstack-protector-strong -L/usr/local/lib'
libpth=/usr/local/lib /usr/lib/arm-linux-gnueabihf /usr/lib
libs=-lpthread -ldb -ldl -lm -lcrypt -lutil -lc
perllibs=-lpthread -ldl -lm -lcrypt -lutil -lc
libc=/lib/arm-linux-gnueabihf/libc.so.6
so=so
useshrplib=false
libperl=libperl.a
gnulibc_version='2.36'
Dynamic Linking:
dlsrc=dl_dlopen.xs
dlext=so
d_dlsymun=undef
ccdlflags='-Wl,-E'
cccdlflags='-fPIC'
lddlflags='-shared -O2 -L/usr/local/lib -fstack-protector-strong'
Characteristics of this binary (from libperl):
Compile-time options:
HAS_LONG_DOUBLE
HAS_STRTOLD
HAS_TIMES
PERLIO_LAYERS
PERL_COPY_ON_WRITE
PERL_DONT_CREATE_GVSV
PERL_HASH_FUNC_ZAPHOD32
PERL_HASH_USE_SBOX32
PERL_MALLOC_WRAP
PERL_OP_PARENT
PERL_PRESERVE_IVUV
PERL_USE_SAFE_PUTENV
USE_LARGE_FILES
USE_LOCALE
USE_LOCALE_COLLATE
USE_LOCALE_CTYPE
USE_LOCALE_NUMERIC
USE_LOCALE_TIME
USE_PERLIO
USE_PERL_ATOF
Built under linux
Compiled at Jul 3 2023 19:30:21
%ENV:
PERL5LIB="/srv/smoker/perl5/lib/perl5"
PERL5OPT=""
PERL5_CPANPLUS_IS_RUNNING="3687"
PERL5_CPAN_IS_RUNNING="3687"
PERL5_CPAN_IS_RUNNING_IN_RECURSION="10451,3687"
PERLBREW_HOME="/srv/smoker/.perlbrew"
PERLBREW_MANPATH="/srv/smoker/perl5/perlbrew/perls/perl-5.38.0/man"
PERLBREW_PATH="/srv/smoker/perl5/perlbrew/bin:/srv/smoker/perl5/perlbrew/perls/perl-5.38.0/bin"
PERLBREW_PERL="perl-5.38.0"
PERLBREW_ROOT="/srv/smoker/perl5/perlbrew"
PERLBREW_SHELLRC_VERSION="0.97"
PERLBREW_VERSION="0.97"
PERL_CPANM_OPT="--prompt --configure-timeout 300 --build-timeout 18000 --test-timeout 18000 --from https://www.cpan.org"
PERL_CR_SMOKER_CURRENT="Finance-Quote-1.57_02"
PERL_EXTUTILS_AUTOINSTALL="--defaultdeps"
PERL_LOCAL_LIB_ROOT="/srv/smoker/perl5"
PERL_MB_OPT="--install_base "/srv/smoker/perl5""
PERL_MM_OPT="INSTALL_BASE=/srv/smoker/perl5"
PERL_MM_USE_DEFAULT="1"
PERL_TEST_TIME_OUT_FACTOR="3"
PERL_USE_UNSAFE_INC="1"
@INC:
/srv/smoker/perl5/lib/perl5/5.38.0/armv6l-linux
/srv/smoker/perl5/lib/perl5/5.38.0
/srv/smoker/perl5/lib/perl5/armv6l-linux
/srv/smoker/perl5/lib/perl5
/srv/smoker/perl5/perlbrew/perls/perl-5.38.0/lib/site_perl/5.38.0/armv6l-linux
/srv/smoker/perl5/perlbrew/perls/perl-5.38.0/lib/site_perl/5.38.0
/srv/smoker/perl5/perlbrew/perls/perl-5.38.0/lib/5.38.0/armv6l-linux
/srv/smoker/perl5/perlbrew/perls/perl-5.38.0/lib/5.38.0
.