NetPacket v1.7.2 Perl 5 v5.10.0 OpenBSD.amd64-openbsd

Status
Pass
From
Nigel Horne
Dist
NetPacket v1.7.2
Platform
Perl 5 v5.10.0 OpenBSD.amd64-openbsd
Date
2019-07-21 02:13:23
ID
1e1b5dfc-ab5d-11e9-8fa9-99a29f1e7dde
This distribution has been tested as part of the CPAN Testers
project, supporting the Perl programming language.  See
http://wiki.cpantesters.org/ for more information or email
questions to cpan-testers-discuss@perl.org


--
Dear Yanick Champoux,

This is a computer-generated report for NetPacket-1.7.2
on perl 5.10.0, created by CPAN-Reporter-1.2018.

Thank you for uploading your work to CPAN.  Congratulations!
All tests were successful.

Sections of this report:

    * Tester comments
    * Program output
    * Prerequisites
    * Environment and other context

------------------------------
TESTER COMMENTS
------------------------------

Additional comments from tester:

this report is from an automated smoke testing program
and was not reviewed by a human for accuracy

------------------------------
PROGRAM OUTPUT
------------------------------

Output from '/usr/bin/make test':

PERL_DL_NONLAZY=1 "/home/njh/perl5/perlbrew/perls/perl-5.10.0/bin/perl" "-MExtUtils::Command::MM" "-MTest::Harness" "-e" "undef *Test::Harness::Switches; test_harness(0, 'blib/lib', 'blib/arch')" t/*.t
perl:/home/njh/perl5/perlbrew/perls/perl-5.10.0/lib/5.10.0/OpenBSD.amd64-openbsd/auto/Cwd/Cwd.so: undefined symbol 'croak_xs_usage'
perl:/home/njh/perl5/perlbrew/perls/perl-5.10.0/lib/5.10.0/OpenBSD.amd64-openbsd/auto/Cwd/Cwd.so: undefined symbol 'croak_xs_usage'
perl:/home/njh/perl5/perlbrew/perls/perl-5.10.0/lib/5.10.0/OpenBSD.amd64-openbsd/auto/Cwd/Cwd.so: undefined symbol 'croak_xs_usage'
perl:/home/njh/perl5/perlbrew/perls/perl-5.10.0/lib/5.10.0/OpenBSD.amd64-openbsd/auto/Cwd/Cwd.so: undefined symbol 'croak_xs_usage'
perl:/home/njh/perl5/perlbrew/perls/perl-5.10.0/lib/5.10.0/OpenBSD.amd64-openbsd/auto/Cwd/Cwd.so: undefined symbol 'croak_xs_usage'
perl:/home/njh/perl5/perlbrew/perls/perl-5.10.0/lib/5.10.0/OpenBSD.amd64-openbsd/auto/Cwd/Cwd.so: undefined symbol 'croak_xs_usage'
perl:/home/njh/perl5/perlbrew/perls/perl-5.10.0/lib/5.10.0/OpenBSD.amd64-openbsd/auto/Cwd/Cwd.so: undefined symbol 'croak_xs_usage'
perl:/home/njh/perl5/perlbrew/perls/perl-5.10.0/lib/5.10.0/OpenBSD.amd64-openbsd/auto/Cwd/Cwd.so: undefined symbol 'croak_xs_usage'
perl:/home/njh/perl5/perlbrew/perls/perl-5.10.0/lib/5.10.0/OpenBSD.amd64-openbsd/auto/Cwd/Cwd.so: undefined symbol 'croak_xs_usage'
perl:/home/njh/perl5/perlbrew/perls/perl-5.10.0/lib/5.10.0/OpenBSD.amd64-openbsd/auto/Cwd/Cwd.so: undefined symbol 'croak_xs_usage'
perl:/home/njh/perl5/perlbrew/perls/perl-5.10.0/lib/5.10.0/OpenBSD.amd64-openbsd/auto/Cwd/Cwd.so: undefined symbol 'croak_xs_usage'
perl:/home/njh/perl5/perlbrew/perls/perl-5.10.0/lib/5.10.0/OpenBSD.amd64-openbsd/auto/Cwd/Cwd.so: undefined symbol 'croak_xs_usage'
perl:/home/njh/perl5/perlbrew/perls/perl-5.10.0/lib/5.10.0/OpenBSD.amd64-openbsd/auto/Cwd/Cwd.so: undefined symbol 'croak_xs_usage'
perl:/home/njh/perl5/perlbrew/perls/perl-5.10.0/lib/5.10.0/OpenBSD.amd64-openbsd/auto/Cwd/Cwd.so: undefined symbol 'croak_xs_usage'
perl:/home/njh/perl5/perlbrew/perls/perl-5.10.0/lib/5.10.0/OpenBSD.amd64-openbsd/auto/Cwd/Cwd.so: undefined symbol 'croak_xs_usage'
perl:/home/njh/perl5/perlbrew/perls/perl-5.10.0/lib/5.10.0/OpenBSD.amd64-openbsd/auto/Cwd/Cwd.so: undefined symbol 'croak_xs_usage'
perl:/home/njh/perl5/perlbrew/perls/perl-5.10.0/lib/5.10.0/OpenBSD.amd64-openbsd/auto/Cwd/Cwd.so: undefined symbol 'croak_xs_usage'
perl:/home/njh/perl5/perlbrew/perls/perl-5.10.0/lib/5.10.0/OpenBSD.amd64-openbsd/auto/Cwd/Cwd.so: undefined symbol 'croak_xs_usage'
perl:/home/njh/perl5/perlbrew/perls/perl-5.10.0/lib/5.10.0/OpenBSD.amd64-openbsd/auto/Cwd/Cwd.so: undefined symbol 'croak_xs_usage'
perl:/home/njh/perl5/perlbrew/perls/perl-5.10.0/lib/5.10.0/OpenBSD.amd64-openbsd/auto/Cwd/Cwd.so: undefined symbol 'croak_xs_usage'
perl:/home/njh/perl5/perlbrew/perls/perl-5.10.0/lib/5.10.0/OpenBSD.amd64-openbsd/auto/Cwd/Cwd.so: undefined symbol 'croak_xs_usage'
perl:/home/njh/perl5/perlbrew/perls/perl-5.10.0/lib/5.10.0/OpenBSD.amd64-openbsd/auto/Cwd/Cwd.so: undefined symbol 'croak_xs_usage'
perl:/home/njh/perl5/perlbrew/perls/perl-5.10.0/lib/5.10.0/OpenBSD.amd64-openbsd/auto/Cwd/Cwd.so: undefined symbol 'croak_xs_usage'
perl:/home/njh/perl5/perlbrew/perls/perl-5.10.0/lib/5.10.0/OpenBSD.amd64-openbsd/auto/Cwd/Cwd.so: undefined symbol 'croak_xs_usage'
perl:/home/njh/perl5/perlbrew/perls/perl-5.10.0/lib/5.10.0/OpenBSD.amd64-openbsd/auto/Cwd/Cwd.so: undefined symbol 'croak_xs_usage'
perl:/home/njh/perl5/perlbrew/perls/perl-5.10.0/lib/5.10.0/OpenBSD.amd64-openbsd/auto/Cwd/Cwd.so: undefined symbol 'croak_xs_usage'
t/00-compile.t ......... ok
# 
# Versions for all modules listed in MYMETA.json (including optional ones):
# 
# === Configure Requires ===
# 
#     Module              Want Have
#     ------------------- ---- ----
#     ExtUtils::MakeMaker  any 7.30
# 
# === Build Requires ===
# 
#     Module              Want Have
#     ------------------- ---- ----
#     ExtUtils::MakeMaker  any 7.30
# 
# === Test Requires ===
# 
#     Module              Want     Have
#     ------------------- ---- --------
#     ExtUtils::MakeMaker  any     7.30
#     File::Spec           any     3.62
#     IO::Handle           any     1.27
#     IPC::Open3           any     1.02
#     Test::More           any 1.302120
# 
# === Test Recommends ===
# 
#     Module         Want     Have
#     ---------- -------- --------
#     CPAN::Meta 2.120900 2.143240
# 
# === Runtime Requires ===
# 
#     Module   Want  Have
#     -------- ---- -----
#     Carp      any  1.38
#     Exporter  any  5.62
#     Socket   1.87 2.029
#     constant  any  1.13
#     parent    any 0.236
#     strict    any  1.04
#     warnings  any  1.06
# 
# === Runtime Recommends ===
# 
#     Module         Want    Have
#     -------------- ---- -------
#     Net::Pcap       any missing
#     Net::PcapUtils  any missing
# 
t/00-report-prereqs.t .. ok
t/bug-37931.t .......... ok
t/checksum.t ........... ok
t/ethernet.t ........... ok
t/general.t ............ ok
t/icmp.t ............... ok
t/icmpv6.t ............. ok
t/ip_encode.t .......... ok
t/ip_trailing.t ........ ok
t/ipv6.t ............... ok
t/ipx.t ................ ok
t/tcp.t ................ ok
t/udp-checksum.t ....... ok
t/udp.t ................ ok
t/usbmon.t ............. ok
All tests successful.
Files=16, Tests=329, 20 wallclock secs ( 0.46 usr  0.42 sys +  7.24 cusr  3.68 csys = 11.80 CPU)
Result: PASS

------------------------------
PREREQUISITES
------------------------------

Prerequisite modules loaded:

requires:

    Module              Need     Have    
    ------------------- -------- --------
    Carp                0        1.38    
    constant            0        1.13    
    Exporter            0        5.62    
    parent              0        0.236   
    perl                5.010000 5.010000
    Socket              1.87     2.029   
    strict              0        1.04    
    warnings            0        1.06    

build_requires:

    Module              Need     Have    
    ------------------- -------- --------
    ExtUtils::MakeMaker 0        7.30    
    File::Spec          0        3.62    
    IO::Handle          0        1.27    
    IPC::Open3          0        1.02    
    Test::More          0        1.302120

configure_requires:

    Module              Need     Have    
    ------------------- -------- --------
    ExtUtils::MakeMaker 0        7.30    


------------------------------
ENVIRONMENT AND OTHER CONTEXT
------------------------------

Environment variables:

    AUTOMATED_TESTING = 1
    PATH = /home/njh/perl5/perlbrew/bin:/home/njh/perl5/perlbrew/perls/perl-5.10.0/bin:src/njh/smoker/bin:/usr/bin:/bin:/usr/sbin:/sbin:/usr/X11R6/bin:/usr/local/bin:/usr/local/sbin
    PERL5LIB = /tmp/build/Socket-2.029-1/blib/arch:/tmp/build/Socket-2.029-1/blib/lib:/tmp/build/ExtUtils-Constant-0.25-1/blib/arch:/tmp/build/ExtUtils-Constant-0.25-1/blib/lib:/tmp/build/File-Slurper-Temp-0.006-6/blib/arch:/tmp/build/File-Slurper-Temp-0.006-6/blib/lib:/tmp/build/File-Slurper-0.012-0/blib/arch:/tmp/build/File-Slurper-0.012-0/blib/lib:/tmp/build/Test-Warnings-0.026-0/blib/arch:/tmp/build/Test-Warnings-0.026-0/blib/lib
    PERL5OPT = 
    PERL5_CPANPLUS_IS_RUNNING = 99172
    PERL5_CPAN_IS_RUNNING = 99172
    PERL5_CPAN_IS_RUNNING_IN_RECURSION = 77405,99172
    PERLBREW_HOME = /home/njh/.perlbrew
    PERLBREW_MANPATH = /home/njh/perl5/perlbrew/perls/perl-5.10.0/man
    PERLBREW_PATH = /home/njh/perl5/perlbrew/bin:/home/njh/perl5/perlbrew/perls/perl-5.10.0/bin
    PERLBREW_PERL = perl-5.10.0
    PERLBREW_ROOT = /home/njh/perl5/perlbrew
    PERLBREW_SHELLRC_VERSION = 0.84
    PERLBREW_VERSION = 0.84
    SHELL = /bin/sh
    TMPDIR = /tmp/testwrapper.81370

Perl special variables (and OS-specific diagnostics, for MSWin32):

    $^X = /home/njh/perl5/perlbrew/perls/perl-5.10.0/bin/perl
    $UID/$EUID = 1000 / 1000
    $GID = 1000 1000 0
    $EGID = 1000 1000 0

Perl module toolchain versions installed:

    Module              Have     
    ------------------- ---------
    CPAN                2.16     
    CPAN::Meta          2.143240 
    Cwd                 3.62     
    ExtUtils::CBuilder  0.21     
    ExtUtils::Command   7.30     
    ExtUtils::Install   2.06     
    ExtUtils::MakeMaker 7.30     
    ExtUtils::Manifest  1.70     
    ExtUtils::ParseXS   2.18_02  
    File::Spec          3.62     
    JSON                2.97001  
    JSON::PP            2.27203  
    Module::Build       0.2808_01
    Module::Signature   n/a      
    Parse::CPAN::Meta   1.4414   
    Test::Harness       3.39     
    Test::More          1.302120 
    YAML                1.27     
    YAML::Syck          1.30     
    version             0.9918   


--

Summary of my perl5 (revision 5 version 10 subversion 0) configuration:
  Platform:
    osname=openbsd, osvers=6.2, archname=OpenBSD.amd64-openbsd
    uname='openbsd netgate1.bandsman.co.uk 6.2 generic.mp#2 amd64 '
    config_args='-de -Dprefix=/home/njh/perl5/perlbrew/perls/perl-5.10.0 -Aeval:scriptdir=/home/njh/perl5/perlbrew/perls/perl-5.10.0/bin'
    hint=recommended, useposix=true, d_sigaction=define
    useithreads=undef, usemultiplicity=undef
    useperlio=define, d_sfio=undef, uselargefiles=define, usesocks=undef
    use64bitint=define, use64bitall=define, uselongdouble=undef
    usemymalloc=n, bincompat5005=undef
  Compiler:
    cc='cc', ccflags ='-fno-strict-aliasing -pipe -I/usr/local/include',
    optimize='-O2',
    cppflags='-fno-strict-aliasing -pipe -I/usr/local/include'
    ccversion='', gccversion='4.2.1 Compatible OpenBSD Clang 4.0.0 (tags/RELEASE_400/final)', gccosandvers=''
    intsize=4, longsize=8, ptrsize=8, doublesize=8, byteorder=12345678
    d_longlong=define, longlongsize=8, d_longdbl=define, longdblsize=16
    ivtype='long', ivsize=8, nvtype='double', nvsize=8, Off_t='off_t', lseeksize=8
    alignbytes=8, prototype=define
  Linker and Libraries:
    ld='cc', ldflags ='-Wl,-E  -L/usr/local/lib'
    libpth=/usr/local/lib /usr/lib
    libs=-lm -lutil -lc
    perllibs=-lm -lutil -lc
    libc=/usr/lib/libc.so.90.0, so=so, useshrplib=false, libperl=libperl.a
    gnulibc_version=''
  Dynamic Linking:
    dlsrc=dl_dlopen.xs, dlext=so, d_dlsymun=undef, ccdlflags=' '
    cccdlflags='-DPIC -fPIC ', lddlflags='-shared -fPIC  -L/usr/local/lib'


Characteristics of this binary (from libperl): 
  Compile-time options: PERL_DONT_CREATE_GVSV PERL_MALLOC_WRAP USE_64_BIT_ALL
                        USE_64_BIT_INT USE_LARGE_FILES USE_PERLIO
  Locally applied patches:
	Devel::PatchPerl 1.48
  Built under openbsd
  Compiled at Jan 23 2018 09:21:47
  %ENV:
    PERL5LIB="/tmp/build/Socket-2.029-1/blib/arch:/tmp/build/Socket-2.029-1/blib/lib:/tmp/build/ExtUtils-Constant-0.25-1/blib/arch:/tmp/build/ExtUtils-Constant-0.25-1/blib/lib:/tmp/build/File-Slurper-Temp-0.006-6/blib/arch:/tmp/build/File-Slurper-Temp-0.006-6/blib/lib:/tmp/build/File-Slurper-0.012-0/blib/arch:/tmp/build/File-Slurper-0.012-0/blib/lib:/tmp/build/Test-Warnings-0.026-0/blib/arch:/tmp/build/Test-Warnings-0.026-0/blib/lib"
    PERL5OPT=""
    PERL5_CPANPLUS_IS_RUNNING="99172"
    PERL5_CPAN_IS_RUNNING="99172"
    PERL5_CPAN_IS_RUNNING_IN_RECURSION="77405,99172"
    PERLBREW_HOME="/home/njh/.perlbrew"
    PERLBREW_MANPATH="/home/njh/perl5/perlbrew/perls/perl-5.10.0/man"
    PERLBREW_PATH="/home/njh/perl5/perlbrew/bin:/home/njh/perl5/perlbrew/perls/perl-5.10.0/bin"
    PERLBREW_PERL="perl-5.10.0"
    PERLBREW_ROOT="/home/njh/perl5/perlbrew"
    PERLBREW_SHELLRC_VERSION="0.84"
    PERLBREW_VERSION="0.84"
  @INC:
    /tmp/build/Socket-2.029-1/blib/arch
    /tmp/build/Socket-2.029-1/blib/lib
    /tmp/build/ExtUtils-Constant-0.25-1/blib/arch
    /tmp/build/ExtUtils-Constant-0.25-1/blib/lib
    /tmp/build/File-Slurper-Temp-0.006-6/blib/arch
    /tmp/build/File-Slurper-Temp-0.006-6/blib/lib
    /tmp/build/File-Slurper-0.012-0/blib/arch
    /tmp/build/File-Slurper-0.012-0/blib/lib
    /tmp/build/Test-Warnings-0.026-0/blib/arch
    /tmp/build/Test-Warnings-0.026-0/blib/lib
    /home/njh/perl5/perlbrew/perls/perl-5.10.0/lib/5.10.0/OpenBSD.amd64-openbsd
    /home/njh/perl5/perlbrew/perls/perl-5.10.0/lib/5.10.0
    /home/njh/perl5/perlbrew/perls/perl-5.10.0/lib/site_perl/5.10.0/OpenBSD.amd64-openbsd
    /home/njh/perl5/perlbrew/perls/perl-5.10.0/lib/site_perl/5.10.0
    .