Back
From: metabase:user:322078bc-2aae-11df-837a-5e0a49663a4f
Subject: PASS MySQL-Replication-0.0.2 v5.8.9 NetBSD
Date: 2011-08-11T22:34:47Z
This distribution has been tested as part of the CPAN Testers
project, supporting the Perl programming language. See
http://wiki.cpantesters.org/ for more information or email
questions to cpan-testers-discuss@perl.org
--
Dear ALFIE,
This is a computer-generated error report created automatically by
CPANPLUS, version 0.9109. Testers personal comments may appear
at the end of this report.
MAKE TEST passed: PERL_DL_NONLAZY=1 /home/cpan/pit/thr/perl-5.8.9/bin/perl "-MExtUtils::Command::MM" "-e" "test_harness(0, 'blib/lib', 'blib/arch')" t/*.t
t/01basics.t .................... ok
t/02dbidrv.t .................... ok
t/03handle.t .................... ok
t/04mods.t ...................... ok
t/05concathash.t ................ ok
t/06attrs.t ..................... ok
t/07kids.t ...................... ok
t/08keeperr.t ................... ok
t/09trace.t ..................... ok
t/10examp.t ..................... ok
t/11fetch.t ..................... ok
t/12quote.t ..................... ok
t/13taint.t ..................... ok
t/14utf8.t ...................... ok
t/15array.t ..................... ok
t/16destroy.t ................... ok
t/19fhtrace.t ................... ok
t/20meta.t ...................... ok
t/30subclass.t .................. ok
t/35thrclone.t .................. ok
t/40profile.t ................... ok
t/41prof_dump.t ................. ok
t/42prof_data.t ................. ok
t/43prof_env.t .................. ok
t/48dbi_dbd_sqlengine.t ......... ok
t/49dbd_file.t .................. ok
t/50dbm_simple.t ................ ok
t/51dbm_file.t .................. ok
t/52dbm_complex.t ............... skipped: Not running with SQL::Statement
t/60preparse.t .................. ok
t/65transact.t .................. ok
t/70callbacks.t ................. ok
t/72childhandles.t .............. ok
t/80proxy.t ..................... skipped: modules required for proxy are probably not installed (e.g., RPC/PlClient.pm)
t/85gofer.t ..................... ok
t/86gofer_fail.t ................ ok
t/87gofer_cache.t ............... ok
t/90sql_type_cast.t ............. ok
t/pod-coverage.t ................ skipped: Test::Pod::Coverage 1.04 required for testing POD coverage
t/pod.t ......................... skipped: Test::Pod 1.00 required for testing POD
t/zvg_01basics.t ................ ok
t/zvg_02dbidrv.t ................ ok
t/zvg_03handle.t ................ ok
t/zvg_04mods.t .................. ok
t/zvg_05concathash.t ............ ok
t/zvg_06attrs.t ................. ok
t/zvg_07kids.t .................. ok
t/zvg_08keeperr.t ............... ok
t/zvg_09trace.t ................. ok
t/zvg_10examp.t ................. ok
t/zvg_11fetch.t ................. ok
t/zvg_12quote.t ................. ok
t/zvg_13taint.t ................. skipped: Taint attribute tests not functional with DBI_AUTOPROXY
t/zvg_14utf8.t .................. ok
t/zvg_15array.t ................. ok
t/zvg_16destroy.t ............... ok
t/zvg_19fhtrace.t ............... ok
t/zvg_20meta.t .................. ok
t/zvg_30subclass.t .............. ok
t/zvg_35thrclone.t .............. ok
t/zvg_40profile.t ............... ok
t/zvg_41prof_dump.t ............. ok
t/zvg_42prof_data.t ............. ok
t/zvg_43prof_env.t .............. ok
t/zvg_48dbi_dbd_sqlengine.t ..... ok
t/zvg_49dbd_file.t .............. ok
t/zvg_50dbm_simple.t ............ ok
t/zvg_51dbm_file.t .............. ok
t/zvg_52dbm_complex.t ........... skipped: Not running with SQL::Statement
t/zvg_60preparse.t .............. ok
t/zvg_65transact.t .............. skipped: Transactions not supported by DBD::Gofer
t/zvg_70callbacks.t ............. ok
t/zvg_72childhandles.t .......... ok
t/zvg_80proxy.t ................. skipped: modules required for proxy are probably not installed (e.g., RPC/PlClient.pm)
t/zvg_85gofer.t ................. ok
t/zvg_86gofer_fail.t ............ skipped: Gofer DBI_AUTOPROXY
t/zvg_87gofer_cache.t ........... skipped: Gofer DBI_AUTOPROXY
t/zvg_90sql_type_cast.t ......... ok
t/zvn_48dbi_dbd_sqlengine.t ..... ok
t/zvn_49dbd_file.t .............. ok
t/zvn_50dbm_simple.t ............ ok
t/zvn_51dbm_file.t .............. ok
t/zvn_52dbm_complex.t ........... skipped: Not running with SQL::Statement
t/zvn_85gofer.t ................. ok
t/zvp_01basics.t ................ ok
t/zvp_02dbidrv.t ................ ok
t/zvp_03handle.t ................ ok
t/zvp_04mods.t .................. ok
t/zvp_05concathash.t ............ ok
t/zvp_06attrs.t ................. ok
t/zvp_07kids.t .................. skipped: $h->{Kids} attribute not supported for DBI::PurePerl
t/zvp_08keeperr.t ............... ok
t/zvp_09trace.t ................. ok
t/zvp_10examp.t ................. ok
t/zvp_11fetch.t ................. ok
t/zvp_12quote.t ................. ok
t/zvp_13taint.t ................. skipped: Taint attributes not supported with DBI::PurePerl
t/zvp_14utf8.t .................. ok
t/zvp_15array.t ................. ok
t/zvp_16destroy.t ............... ok
t/zvp_19fhtrace.t ............... ok
t/zvp_20meta.t .................. ok
t/zvp_30subclass.t .............. ok
t/zvp_35thrclone.t .............. ok
t/zvp_40profile.t ............... skipped: profiling not supported for DBI::PurePerl
t/zvp_41prof_dump.t ............. skipped: profiling not supported for DBI::PurePerl
t/zvp_42prof_data.t ............. skipped: profiling not supported for DBI::PurePerl
t/zvp_43prof_env.t .............. skipped: profiling not supported for DBI::PurePerl
t/zvp_48dbi_dbd_sqlengine.t ..... ok
t/zvp_49dbd_file.t .............. ok
t/zvp_50dbm_simple.t ............ ok
t/zvp_51dbm_file.t .............. ok
t/zvp_52dbm_complex.t ........... skipped: Not running with SQL::Statement
t/zvp_60preparse.t .............. skipped: preparse not supported for DBI::PurePerl
t/zvp_65transact.t .............. ok
t/zvp_70callbacks.t ............. skipped: $h->{Callbacks} attribute not supported for DBI::PurePerl
t/zvp_72childhandles.t .......... ok
t/zvp_80proxy.t ................. skipped: modules required for proxy are probably not installed (e.g., RPC/PlClient.pm)
t/zvp_85gofer.t ................. ok
t/zvp_86gofer_fail.t ............ skipped: requires Callbacks which are not supported with PurePerl
t/zvp_87gofer_cache.t ........... ok
t/zvp_90sql_type_cast.t ......... ok
t/zvxgn_48dbi_dbd_sqlengine.t ... ok
t/zvxgn_49dbd_file.t ............ ok
t/zvxgn_50dbm_simple.t .......... ok
t/zvxgn_51dbm_file.t ............ ok
t/zvxgn_52dbm_complex.t ......... skipped: Not running with SQL::Statement
t/zvxgn_85gofer.t ............... ok
t/zvxgnp_48dbi_dbd_sqlengine.t .. ok
t/zvxgnp_49dbd_file.t ........... ok
t/zvxgnp_50dbm_simple.t ......... ok
t/zvxgnp_51dbm_file.t ........... ok
t/zvxgnp_52dbm_complex.t ........ skipped: Not running with SQL::Statement
t/zvxgnp_85gofer.t .............. ok
t/zvxgp_01basics.t .............. ok
t/zvxgp_02dbidrv.t .............. ok
t/zvxgp_03handle.t .............. ok
t/zvxgp_04mods.t ................ ok
t/zvxgp_05concathash.t .......... ok
t/zvxgp_06attrs.t ............... ok
t/zvxgp_07kids.t ................ skipped: $h->{Kids} attribute not supported for DBI::PurePerl
t/zvxgp_08keeperr.t ............. ok
t/zvxgp_09trace.t ............... ok
t/zvxgp_10examp.t ............... ok
t/zvxgp_11fetch.t ............... ok
t/zvxgp_12quote.t ............... ok
t/zvxgp_13taint.t ............... skipped: Taint attributes not supported with DBI::PurePerl
t/zvxgp_14utf8.t ................ ok
t/zvxgp_15array.t ............... ok
t/zvxgp_16destroy.t ............. ok
t/zvxgp_19fhtrace.t ............. ok
t/zvxgp_20meta.t ................ ok
t/zvxgp_30subclass.t ............ ok
t/zvxgp_35thrclone.t ............ ok
t/zvxgp_40profile.t ............. skipped: profiling not supported for DBI::PurePerl
t/zvxgp_41prof_dump.t ........... skipped: profiling not supported for DBI::PurePerl
t/zvxgp_42prof_data.t ........... skipped: profiling not supported for DBI::PurePerl
t/zvxgp_43prof_env.t ............ skipped: profiling not supported for DBI::PurePerl
t/zvxgp_48dbi_dbd_sqlengine.t ... ok
t/zvxgp_49dbd_file.t ............ ok
t/zvxgp_50dbm_simple.t .......... ok
t/zvxgp_51dbm_file.t ............ ok
t/zvxgp_52dbm_complex.t ......... skipped: Not running with SQL::Statement
t/zvxgp_60preparse.t ............ skipped: preparse not supported for DBI::PurePerl
t/zvxgp_65transact.t ............ skipped: Transactions not supported by DBD::Gofer
t/zvxgp_70callbacks.t ........... skipped: $h->{Callbacks} attribute not supported for DBI::PurePerl
t/zvxgp_72childhandles.t ........ ok
t/zvxgp_80proxy.t ............... skipped: modules required for proxy are probably not installed (e.g., RPC/PlClient.pm)
t/zvxgp_85gofer.t ............... ok
t/zvxgp_86gofer_fail.t .......... skipped: requires Callbacks which are not supported with PurePerl
t/zvxgp_87gofer_cache.t ......... skipped: Gofer DBI_AUTOPROXY
t/zvxgp_90sql_type_cast.t ....... ok
t/zvxnp_48dbi_dbd_sqlengine.t ... ok
t/zvxnp_49dbd_file.t ............ ok
t/zvxnp_50dbm_simple.t .......... ok
t/zvxnp_51dbm_file.t ............ ok
t/zvxnp_52dbm_complex.t ......... skipped: Not running with SQL::Statement
t/zvxnp_85gofer.t ............... ok
All tests successful.
Files=178, Tests=7917, 310 wallclock secs ( 7.35 usr 4.37 sys + 152.01 cusr 133.97 csys = 297.70 CPU)
Result: PASS
PERL_DL_NONLAZY=1 /home/cpan/pit/thr/perl-5.8.9/bin/perl "-Iblib/lib" "-Iblib/arch" test.pl
test.pl
DBI test application $Revision: 12537 $
Switch: DBI 1.616 by Tim Bunce, 1.616
Available Drivers: DBM, ExampleP, File, Gofer, Proxy, Sponge
dbi:ExampleP:: testing 3 sets of 20 connections:
Connecting... 1 2 3 4 5 6 7 8 9 10 11 12 13 14 15 16 17 18 19 20
Disconnecting...
Connecting... 1 2 3 4 5 6 7 8 9 10 11 12 13 14 15 16 17 18 19 20
Disconnecting...
Connecting... 1 2 3 4 5 6 7 8 9 10 11 12 13 14 15 16 17 18 19 20
Disconnecting...
connect 20 and disconnect them, 3 times: 0.1396s / 60 = 0.0023s
Testing handle creation speed...
3552 NullP sth/s perl 5.008009 amd64-netbsd-thread-multi (gcc 4.1.3 -O) 0.000282s
test.pl done
[MSG] [Thu Aug 11 23:34:32 2011] Sending test report for 'DBI-1.616'
[MSG] [Thu Aug 11 23:34:32 2011] Successfully sent 'pass' report for 'DBI-1.616'
[MSG] [Thu Aug 11 23:34:34 2011] cp lib/MySQL/Replication.pm blib/lib/MySQL/Replication.pm
cp lib/MySQL/Replication/Command.pm blib/lib/MySQL/Replication/Command.pm
cp lib/MySQL/Replication/Client.pm blib/lib/MySQL/Replication/Client.pm
cp lib/MySQL/Replication/Server.pm blib/lib/MySQL/Replication/Server.pm
cp bin/MySQLReplicationServer.pl blib/script/MySQLReplicationServer.pl
/home/cpan/pit/thr/perl-5.8.9/bin/perl -MExtUtils::MY -e 'MY->fixin(shift)' -- blib/script/MySQLReplicationServer.pl
cp bin/MySQLReplicationClient.pl blib/script/MySQLReplicationClient.pl
/home/cpan/pit/thr/perl-5.8.9/bin/perl -MExtUtils::MY -e 'MY->fixin(shift)' -- blib/script/MySQLReplicationClient.pl
Manifying blib/man1/MySQLReplicationServer.pl.1
Manifying blib/man1/MySQLReplicationClient.pl.1
Manifying blib/man3/MySQL::Replication::Command.3
Manifying blib/man3/MySQL::Replication.3
Manifying blib/man3/MySQL::Replication::Client.3
Manifying blib/man3/MySQL::Replication::Server.3
[MSG] [Thu Aug 11 23:34:35 2011] No tests defined for MySQL::Replication extension.
[MSG] [Thu Aug 11 23:34:35 2011] Sending test report for 'MySQL-Replication-0.0.2'
This report was machine-generated by CPANPLUS::Dist::YACSmoke 0.64.
Powered by minismokebox version 0.54
------------------------------
ENVIRONMENT AND OTHER CONTEXT
------------------------------
Environment variables:
AUTOMATED_TESTING = 1
PATH = /home/cpan/bin:/bin:/sbin:/usr/bin:/usr/sbin:/usr/X11R7/bin:/usr/X11R6/bin:/usr/pkg/bin:/usr/pkg/sbin:/usr/games:/usr/local/bin:/usr/local/sbin
PERL5LIB = :/home/cpan/pit/thr/conf/perl-5.8.9/.cpanplus/5.8.9/build/AnyEvent-5.34/blib/lib:/home/cpan/pit/thr/conf/perl-5.8.9/.cpanplus/5.8.9/build/AnyEvent-5.34/blib/arch:/home/cpan/pit/thr/conf/perl-5.8.9/.cpanplus/5.8.9/build/Class-Accessor-0.34/blib/lib:/home/cpan/pit/thr/conf/perl-5.8.9/.cpanplus/5.8.9/build/Class-Accessor-0.34/blib/arch:/home/cpan/pit/thr/conf/perl-5.8.9/.cpanplus/5.8.9/build/DBI-1.616/blib/lib:/home/cpan/pit/thr/conf/perl-5.8.9/.cpanplus/5.8.9/build/DBI-1.616/blib/arch:/home/cpan/pit/thr/conf/perl-5.8.9/.cpanplus/5.8.9/build/MySQL-Replication-0.0.2/blib/lib:/home/cpan/pit/thr/conf/perl-5.8.9/.cpanplus/5.8.9/build/MySQL-Replication-0.0.2/blib/arch
PERL5_CPANPLUS_IS_RUNNING = 19436
PERL5_CPANPLUS_IS_VERSION = 0.9109
PERL5_MINISMOKEBOX = 0.54
PERL5_YACSMOKE_BASE = /home/cpan/pit/thr/conf/perl-5.8.9
PERL_EXTUTILS_AUTOINSTALL = --defaultdeps
PERL_MM_USE_DEFAULT = 1
SHELL = /usr/pkg/bin/bash
TERM = screen
Perl special variables (and OS-specific diagnostics, for MSWin32):
Perl: $^X = /home/cpan/pit/thr/perl-5.8.9/bin/perl
UID: $< = 1001
EUID: $> = 1001
GID: $( = 100 100
EGID: $) = 100 100
-------------------------------
--
Summary of my perl5 (revision 5 version 8 subversion 9) configuration:
Platform:
osname=netbsd, osvers=5.1, archname=amd64-netbsd-thread-multi
uname='netbsd necrosis.bingosnet.co.uk 5.1 netbsd 5.1 (generic) #0: sat nov 6 13:19:33 utc 2010 builds@b6.netbsd.org:homebuildsabnetbsd-5-1-releaseamd64201011061943z-objhomebuildsabnetbsd-5-1-releasesrcsysarchamd64compilegeneric amd64 '
config_args='-des -Dprefix=/home/cpan/pit/thr/perl-5.8.9 -Dusethreads'
hint=recommended, useposix=true, d_sigaction=define
usethreads=define use5005threads=undef useithreads=define usemultiplicity=define
useperlio=define d_sfio=undef uselargefiles=define usesocks=undef
use64bitint=define use64bitall=define uselongdouble=undef
usemymalloc=n, bincompat5005=undef
Compiler:
cc='cc', ccflags ='-fno-strict-aliasing -pipe -I/usr/pkg/include',
optimize='-O',
cppflags='-fno-strict-aliasing -pipe -I/usr/pkg/include'
ccversion='', gccversion='4.1.3 20080704 prerelease (NetBSD nb2 20081120)', gccosandvers=''
intsize=4, longsize=8, ptrsize=8, doublesize=8, byteorder=12345678
d_longlong=define, longlongsize=8, d_longdbl=define, longdblsize=16
ivtype='long', ivsize=8, nvtype='double', nvsize=8, Off_t='off_t', lseeksize=8
alignbytes=8, prototype=define
Linker and Libraries:
ld='cc', ldflags =' -Wl,-rpath,/usr/pkg/lib -Wl,-rpath,/usr/local/lib -L/usr/pkg/lib'
libpth=/usr/pkg/lib /lib /usr/lib
libs=-lgdbm -lm -lcrypt -lutil -lc -lposix -lpthread
perllibs=-lm -lcrypt -lutil -lc -lposix -lpthread
libc=/lib/libc.so, so=so, useshrplib=false, libperl=libperl.a
gnulibc_version=''
Dynamic Linking:
dlsrc=dl_dlopen.xs, dlext=so, d_dlsymun=undef, ccdlflags='-Wl,-E '
cccdlflags='-DPIC -fPIC ', lddlflags='--whole-archive -shared -L/usr/pkg/lib'
Characteristics of this binary (from libperl):
Compile-time options: MULTIPLICITY PERL_IMPLICIT_CONTEXT PERL_MALLOC_WRAP
USE_64_BIT_ALL USE_64_BIT_INT USE_FAST_STDIO
USE_ITHREADS USE_LARGE_FILES USE_PERLIO
USE_REENTRANT_API
Built under netbsd
Compiled at Aug 10 2011 21:06:07
%ENV:
PERL5LIB=":/home/cpan/pit/thr/conf/perl-5.8.9/.cpanplus/5.8.9/build/AnyEvent-5.34/blib/lib:/home/cpan/pit/thr/conf/perl-5.8.9/.cpanplus/5.8.9/build/AnyEvent-5.34/blib/arch:/home/cpan/pit/thr/conf/perl-5.8.9/.cpanplus/5.8.9/build/Class-Accessor-0.34/blib/lib:/home/cpan/pit/thr/conf/perl-5.8.9/.cpanplus/5.8.9/build/Class-Accessor-0.34/blib/arch:/home/cpan/pit/thr/conf/perl-5.8.9/.cpanplus/5.8.9/build/DBI-1.616/blib/lib:/home/cpan/pit/thr/conf/perl-5.8.9/.cpanplus/5.8.9/build/DBI-1.616/blib/arch:/home/cpan/pit/thr/conf/perl-5.8.9/.cpanplus/5.8.9/build/MySQL-Replication-0.0.2/blib/lib:/home/cpan/pit/thr/conf/perl-5.8.9/.cpanplus/5.8.9/build/MySQL-Replication-0.0.2/blib/arch"
PERL5_CPANPLUS_IS_RUNNING="19436"
PERL5_CPANPLUS_IS_VERSION="0.9109"
PERL5_MINISMOKEBOX="0.54"
PERL5_YACSMOKE_BASE="/home/cpan/pit/thr/conf/perl-5.8.9"
PERL_EXTUTILS_AUTOINSTALL="--defaultdeps"
PERL_MM_USE_DEFAULT="1"
@INC:
/home/cpan/pit/thr/conf/perl-5.8.9/.cpanplus/5.8.9/build/AnyEvent-5.34/blib/lib
/home/cpan/pit/thr/conf/perl-5.8.9/.cpanplus/5.8.9/build/AnyEvent-5.34/blib/arch
/home/cpan/pit/thr/conf/perl-5.8.9/.cpanplus/5.8.9/build/Class-Accessor-0.34/blib/lib
/home/cpan/pit/thr/conf/perl-5.8.9/.cpanplus/5.8.9/build/Class-Accessor-0.34/blib/arch
/home/cpan/pit/thr/conf/perl-5.8.9/.cpanplus/5.8.9/build/DBI-1.616/blib/lib
/home/cpan/pit/thr/conf/perl-5.8.9/.cpanplus/5.8.9/build/DBI-1.616/blib/arch
/home/cpan/pit/thr/conf/perl-5.8.9/.cpanplus/5.8.9/build/MySQL-Replication-0.0.2/blib/lib
/home/cpan/pit/thr/conf/perl-5.8.9/.cpanplus/5.8.9/build/MySQL-Replication-0.0.2/blib/arch
/home/cpan/pit/thr/perl-5.8.9/lib/5.8.9/amd64-netbsd-thread-multi
/home/cpan/pit/thr/perl-5.8.9/lib/5.8.9
/home/cpan/pit/thr/perl-5.8.9/lib/site_perl/5.8.9/amd64-netbsd-thread-multi
/home/cpan/pit/thr/perl-5.8.9/lib/site_perl/5.8.9
.