Text-VimColor v0.28 Perl 5 v5.27.9 x86_64-linux-thread-multi-ld
- Status
- Pass
- From
- Andreas J. König (ANDK)
- Dist
-
Text-VimColor v0.28
- Platform
- Perl 5 v5.27.9 x86_64-linux-thread-multi-ld
- Date
- 2018-01-21 15:45:34
- ID
- 1e379bb4-fec2-11e7-94e6-d0d29a140a09
This distribution has been tested as part of the CPAN Testers
project, supporting the Perl programming language. See
http://wiki.cpantesters.org/ for more information or email
questions to cpan-testers-discuss@perl.org
--
Dear Randy Stauner,
This is a computer-generated report for Text-VimColor-0.28
on perl 5.27.9, created by CPAN-Reporter-1.2018.
Thank you for uploading your work to CPAN. Congratulations!
All tests were successful.
Sections of this report:
* Tester comments
* Program output
* Prerequisites
* Environment and other context
------------------------------
TESTER COMMENTS
------------------------------
Additional comments from tester:
this report is from an automated smoke testing program
and was not reviewed by a human for accuracy
------------------------------
PROGRAM OUTPUT
------------------------------
Output from '/usr/bin/make test':
Skip blib/lib/auto/share/dist/Text-VimColor/light.xsl (unchanged)
Skip blib/lib/auto/share/dist/Text-VimColor/mark.vim (unchanged)
Skip blib/lib/auto/share/dist/Text-VimColor/define_all.vim (unchanged)
Skip blib/lib/auto/share/dist/Text-VimColor/light.css (unchanged)
PERL_DL_NONLAZY=1 "/tmp/basesmoker-reloperl-pLH_/bin/perl" "-MExtUtils::Command::MM" "-MTest::Harness" "-e" "undef *Test::Harness::Switches; test_harness(0, 'blib/lib', 'blib/arch')" t/*.t
t/00-compile.t ......... ok
#
# Versions for all modules listed in MYMETA.json (including optional ones):
#
# === Configure Requires ===
#
# Module Want Have
# ----------------------- ---- ------
# ExtUtils::MakeMaker any 7.30
# File::ShareDir::Install 0.06 0.11
# File::Temp any 0.2304
# IO::File any 1.16
# IPC::Open3 any 1.20
# strict any 1.11
# warnings any 1.40
#
# === Build Requires ===
#
# Module Want Have
# ------------------- ---- ----
# ExtUtils::MakeMaker any 7.30
#
# === Test Requires ===
#
# Module Want Have
# -------------------------- ---- --------
# Exporter any 5.72
# ExtUtils::MakeMaker any 7.30
# File::Spec any 3.72
# File::Temp any 0.2304
# IO::Handle any 1.37
# IPC::Open3 any 1.20
# Path::Class 0.04 0.37
# Test::File::ShareDir::Dist any 1.001002
# Test::More 0.88 1.302120
# blib 1.01 1.07
# lib any 0.64
#
# === Test Recommends ===
#
# Module Want Have
# ---------- -------- --------
# CPAN::Meta 2.120900 2.150010
#
# === Runtime Requires ===
#
# Module Want Have
# --------------- ---- ------
# Carp any 1.45
# File::Copy any 2.33
# File::ShareDir any 1.104
# File::Temp any 0.2304
# Getopt::Long any 2.5
# IO::File any 1.16
# IPC::Open3 any 1.20
# Path::Class 0.04 0.37
# Symbol any 1.08
# Term::ANSIColor 1.03 4.06
# constant any 1.33
# strict any 1.11
# warnings any 1.40
#
# === Runtime Recommends ===
#
# Module Want Have
# --------------- ---- ----
# Term::ANSIColor 3 4.06
#
t/00-report-prereqs.t .. ok
# vim --version
#
# VIM - Vi IMproved 8.0 (2016 Sep 12, compiled Dec 24 2017 13:21:33)
# Included patches: 1-1401
# Modified by pkg-vim-maintainers@lists.alioth.debian.org
# Compiled by pkg-vim-maintainers@lists.alioth.debian.org
# Huge version without GUI. Features included (+) or not (-):
# +acl +farsi +mouse_sgr -tag_any_white
# +arabic +file_in_path -mouse_sysmouse -tcl
# +autocmd +find_in_path +mouse_urxvt +termguicolors
# -autoservername +float +mouse_xterm +terminal
# -balloon_eval +folding +multi_byte +terminfo
# +balloon_eval_term -footer +multi_lang +termresponse
# -browse +fork() -mzscheme +textobjects
# ++builtin_terms +gettext +netbeans_intg +timers
# +byte_offset -hangul_input +num64 +title
# +channel +iconv +packages -toolbar
# +cindent +insert_expand +path_extra +user_commands
# -clientserver +job -perl +vertsplit
# -clipboard +jumplist +persistent_undo +virtualedit
# +cmdline_compl +keymap +postscript +visual
# +cmdline_hist +lambda +printer +visualextra
# +cmdline_info +langmap +profile +viminfo
# +comments +libcall -python +vreplace
# +conceal +linebreak -python3 +wildignore
# +cryptv +lispindent +quickfix +wildmenu
# +cscope +listcmds +reltime +windows
# +cursorbind +localmap +rightleft +writebackup
# +cursorshape -lua -ruby -X11
# +dialog_con +menu +scrollbind -xfontset
# +diff +mksession +signs -xim
# +digraphs +modify_fname +smartindent -xpm
# -dnd +mouse +startuptime -xsmp
# -ebcdic -mouseshape +statusline -xterm_clipboard
# +emacs_tags +mouse_dec -sun_workshop -xterm_save
# +eval +mouse_gpm +syntax
# +ex_extra -mouse_jsbterm +tag_binary
# +extra_search +mouse_netterm +tag_old_static
# system vimrc file: "$VIM/vimrc"
# user vimrc file: "$HOME/.vimrc"
# 2nd user vimrc file: "~/.vim/vimrc"
# user exrc file: "$HOME/.exrc"
# defaults file: "$VIMRUNTIME/defaults.vim"
# fall-back for $VIM: "/usr/share/vim"
# Compilation: gcc -c -I. -Iproto -DHAVE_CONFIG_H -Wdate-time -g -O2 -fdebug-prefix-map=/build/vim-ALuQBZ/vim-8.0.1401=. -fstack-protector-strong -Wformat -Werror=format-security -U_FORTIFY_SOURCE -D_FORTIFY_SOURCE=1
# Linking: gcc -Wl,-z,relro -Wl,-z,now -Wl,--as-needed -o vim -lm -ltinfo -lnsl -lselinux -lacl -lattr -lgpm -ldl
#
t/000-vim-version.t .... ok
t/all-syntax-groups.t .. ok
t/ansi.t ............... ok
t/bin.t ................ ok
t/compare-formats.t .... ok
t/encoding.t ........... ok
t/html.t ............... ok
t/input_filename.t ..... ok
t/new.t ................ ok
t/override-options.t ... ok
t/share-dir.t .......... ok
t/tvctestsyn.t ......... ok
t/untie-std-handles.t .. ok
t/vim_let.t ............ ok
t/vim_options.t ........ ok
t/xml.t ................ ok
All tests successful.
Test Summary Report
-------------------
t/encoding.t (Wstat: 0 Tests: 8 Failed: 0)
TODO passed: 5-6
Files=18, Tests=143, 3 wallclock secs ( 0.06 usr 0.08 sys + 2.26 cusr 0.94 csys = 3.34 CPU)
Result: PASS
------------------------------
PREREQUISITES
------------------------------
Prerequisite modules loaded:
requires:
Module Need Have
-------------------------- ----- --------
Carp 0 1.45
constant 0 1.33
File::Copy 0 2.33
File::ShareDir 0 1.104
File::Temp 0 0.2304
Getopt::Long 0 2.5
IO::File 0 1.16
IPC::Open3 0 1.20
Path::Class 0.04 0.37
perl 5.006 5.027009
strict 0 1.11
Symbol 0 1.08
Term::ANSIColor 1.03 4.06
warnings 0 1.40
build_requires:
Module Need Have
-------------------------- ----- --------
blib 1.01 1.07
Exporter 0 5.72
ExtUtils::MakeMaker 0 7.30
File::Spec 0 3.72
File::Temp 0 0.2304
IO::Handle 0 1.37
IPC::Open3 0 1.20
lib 0 0.64
Path::Class 0.04 0.37
Test::File::ShareDir::Dist 0 1.001002
Test::More 0.88 1.302120
configure_requires:
Module Need Have
-------------------------- ----- --------
ExtUtils::MakeMaker 0 7.30
File::ShareDir::Install 0.06 0.11
File::Temp 0 0.2304
IO::File 0 1.16
IPC::Open3 0 1.20
perl 5.006 5.027009
strict 0 1.11
warnings 0 1.40
------------------------------
ENVIRONMENT AND OTHER CONTEXT
------------------------------
Environment variables:
AUTOMATED_TESTING = 1
LANG = en_US.UTF-8
PATH = /home/sand/bin:/usr/local/bin:/usr/bin:/bin:/usr/games:/usr/local/perl/bin:/usr/X11/bin:/sbin:/usr/sbin
PERL5LIB =
PERL5OPT =
PERL5_CPANPLUS_IS_RUNNING = 26385
PERL5_CPAN_IS_RUNNING = 26385
PERL_CANARY_STABILITY_NOPROMPT = 1
PERL_MM_USE_DEFAULT = 1
PERL_USE_UNSAFE_INC = 1
SHELL = /usr/bin/zsh
TERM = screen
Perl special variables (and OS-specific diagnostics, for MSWin32):
$^X = /tmp/basesmoker-reloperl-pLH_/bin/perl
$UID/$EUID = 1005 / 1005
$GID = 1005 1005
$EGID = 1005 1005
Perl module toolchain versions installed:
Module Have
------------------- --------
CPAN 2.20
CPAN::Meta 2.150010
Cwd 3.72
ExtUtils::CBuilder 0.280230
ExtUtils::Command 7.30
ExtUtils::Install 2.14
ExtUtils::MakeMaker 7.30
ExtUtils::Manifest 1.70
ExtUtils::ParseXS 3.36
File::Spec 3.72
JSON 2.97001
JSON::PP 2.97001
Module::Build 0.4224
Module::Signature 0.81
Parse::CPAN::Meta 2.150010
Test::Harness 3.39
Test::More 1.302120
YAML 1.24
YAML::Syck 1.30
version 0.9918
--
Summary of my perl5 (revision 5 version 27 subversion 9) configuration:
Commit id: b3c872ebe7541431109f07330ab5123db843dea1
Platform:
osname=linux
osvers=4.14.0-3-amd64
archname=x86_64-linux-thread-multi-ld
uname='linux k93msid 4.14.0-3-amd64 #1 smp debian 4.14.12-2 (2018-01-06) x86_64 gnulinux '
config_args='-Dprefix=/home/sand/src/perl/repoperls/installed-perls/host/k93msid/v5.27.8-8-gb3c872ebe7/496c -Dmyhostname=k93msid -Dinstallusrbinperl=n -Uversiononly -Dusedevel -des -Ui_db -Dlibswanted=cl pthread socket inet nsl gdbm dbm malloc dl ld sun m crypt sec util c cposix posix ucb BSD gdbm_compat -Duseithreads -Duselongdouble -DEBUGGING=none'
hint=recommended
useposix=true
d_sigaction=define
useithreads=define
usemultiplicity=define
use64bitint=define
use64bitall=define
uselongdouble=define
usemymalloc=n
default_inc_excludes_dot=define
bincompat5005=undef
Compiler:
cc='cc'
ccflags ='-D_REENTRANT -D_GNU_SOURCE -fwrapv -fno-strict-aliasing -pipe -fstack-protector-strong -I/usr/local/include -D_LARGEFILE_SOURCE -D_FILE_OFFSET_BITS=64 -D_FORTIFY_SOURCE=2'
optimize='-O2'
cppflags='-D_REENTRANT -D_GNU_SOURCE -fwrapv -fno-strict-aliasing -pipe -fstack-protector-strong -I/usr/local/include'
ccversion=''
gccversion='7.2.0'
gccosandvers=''
intsize=4
longsize=8
ptrsize=8
doublesize=8
byteorder=12345678
doublekind=3
d_longlong=define
longlongsize=8
d_longdbl=define
longdblsize=16
longdblkind=3
ivtype='long'
ivsize=8
nvtype='long double'
nvsize=16
Off_t='off_t'
lseeksize=8
alignbytes=16
prototype=define
Linker and Libraries:
ld='cc'
ldflags =' -fstack-protector-strong -L/usr/local/lib'
libpth=/usr/local/lib /usr/lib/gcc/x86_64-linux-gnu/7/include-fixed /usr/include/x86_64-linux-gnu /usr/lib /lib/x86_64-linux-gnu /lib/../lib /usr/lib/x86_64-linux-gnu /usr/lib/../lib /lib
libs=-lpthread -lnsl -ldl -lm -lcrypt -lutil -lc
perllibs=-lpthread -lnsl -ldl -lm -lcrypt -lutil -lc
libc=libc-2.26.so
so=so
useshrplib=false
libperl=libperl.a
gnulibc_version='2.26'
Dynamic Linking:
dlsrc=dl_dlopen.xs
dlext=so
d_dlsymun=undef
ccdlflags='-Wl,-E'
cccdlflags='-fPIC'
lddlflags='-shared -O2 -L/usr/local/lib -fstack-protector-strong'
Characteristics of this binary (from libperl):
Compile-time options:
HAS_TIMES
MULTIPLICITY
PERLIO_LAYERS
PERL_COPY_ON_WRITE
PERL_DONT_CREATE_GVSV
PERL_IMPLICIT_CONTEXT
PERL_MALLOC_WRAP
PERL_OP_PARENT
PERL_PRESERVE_IVUV
PERL_USE_DEVEL
USE_64_BIT_ALL
USE_64_BIT_INT
USE_ITHREADS
USE_LARGE_FILES
USE_LOCALE
USE_LOCALE_COLLATE
USE_LOCALE_CTYPE
USE_LOCALE_NUMERIC
USE_LOCALE_TIME
USE_LONG_DOUBLE
USE_PERLIO
USE_PERL_ATOF
USE_REENTRANT_API
Built under linux
Compiled at Jan 21 2018 01:24:48
%ENV:
PERL5LIB=""
PERL5OPT=""
PERL5_CPANPLUS_IS_RUNNING="26385"
PERL5_CPAN_IS_RUNNING="26385"
PERL_CANARY_STABILITY_NOPROMPT="1"
PERL_MM_USE_DEFAULT="1"
PERL_USE_UNSAFE_INC="1"
@INC:
/home/sand/src/perl/repoperls/installed-perls/host/k93msid/v5.27.8-8-gb3c872ebe7/496c/lib/site_perl/5.27.9/x86_64-linux-thread-multi-ld
/home/sand/src/perl/repoperls/installed-perls/host/k93msid/v5.27.8-8-gb3c872ebe7/496c/lib/site_perl/5.27.9
/home/sand/src/perl/repoperls/installed-perls/host/k93msid/v5.27.8-8-gb3c872ebe7/496c/lib/5.27.9/x86_64-linux-thread-multi-ld
/home/sand/src/perl/repoperls/installed-perls/host/k93msid/v5.27.8-8-gb3c872ebe7/496c/lib/5.27.9
.