Shell-Guess v0.09 Perl 5 v5.29.8 x86_64-linux-thread-multi

Status
Pass
From
Slaven Rezić (SREZIC)
Dist
Shell-Guess v0.09
Platform
Perl 5 v5.29.8 x86_64-linux-thread-multi
Date
2019-02-22 00:45:15
ID
1e54d09c-363b-11e9-bf21-cf181de9f6f7
This distribution has been tested as part of the CPAN Testers
project, supporting the Perl programming language.  See
http://wiki.cpantesters.org/ for more information or email
questions to cpan-testers-discuss@perl.org


--
Dear Graham Ollis,

This is a computer-generated report for Shell-Guess-0.09
on perl 5.29.8, created by CPAN-Reporter-1.2018.

Thank you for uploading your work to CPAN.  Congratulations!
All tests were successful.

Sections of this report:

    * Tester comments
    * Program output
    * Prerequisites
    * Environment and other context

------------------------------
TESTER COMMENTS
------------------------------

Additional comments from tester:

none provided

------------------------------
PROGRAM OUTPUT
------------------------------

Output from '/usr/bin/make test':

PERL_DL_NONLAZY=1 "/opt/perl-5.29.8t/bin/perl5.29.8" "-MExtUtils::Command::MM" "-MTest::Harness" "-e" "undef *Test::Harness::Switches; test_harness(0, 'blib/lib', 'blib/arch')" t/*.t
# 
# 
# 
# HARNESS_ACTIVE=1
# HARNESS_VERSION=3.42
# LANG=C
# PERL5LIB=/home/cpansand/.cpan/build/2019022200/Shell-Guess-0.09-0/blib/lib:/home/cpansand/.cpan/build/2019022200/Shell-Guess-0.09-0/blib/arch:/home/cpansand/.cpan/build/2019022200/App-lsplusplus-0.56-0/blib/arch:/home/cpansand/.cpan/build/2019022200/App-lsplusplus-0.56-0/blib/lib:/home/cpansand/.cpan/build/2019022200/App-rmcd-0.280-0/blib/arch:/home/cpansand/.cpan/build/2019022200/App-rmcd-0.280-0/blib/lib:/home/cpansand/.cpan/build/2019022200/LCFG-Build-Tools-0.9.20-0/blib/arch:/home/cpansand/.cpan/build/2019022200/LCFG-Build-Tools-0.9.20-0/blib/lib:/home/cpansand/.cpan/build/2019022200/App-lsplusplus-0.56-0/blib/arch:/home/cpansand/.cpan/build/2019022200/App-lsplusplus-0.56-0/blib/lib:/home/cpansand/.cpan/build/2019022200/App-rmcd-0.280-0/blib/arch:/home/cpansand/.cpan/build/2019022200/App-rmcd-0.280-0/blib/lib:/home/cpansand/.cpan/build/2019022200/LCFG-Build-Tools-0.9.20-0/blib/arch:/home/cpansand/.cpan/build/2019022200/LCFG-Build-Tools-0.9.20-0/blib/lib
# PERL5OPT=
# PERL5_CPANPLUS_IS_RUNNING=31883
# PERL5_CPAN_IS_RUNNING=31883
# PERL5_CPAN_IS_RUNNING_IN_RECURSION=32365,31883
# PERLDOC=-MPod::Perldoc::ToTextOverstrike
# PERL_BATCH=yes
# PERL_CANARY_STABILITY_NOPROMPT=1
# PERL_CPAN_REPORTER_CONFIG=/var/tmp/cpansmoker-1023/2019022117/cpanreporter_000_config.ini
# PERL_DL_NONLAZY=1
# PERL_EXTUTILS_AUTOINSTALL=--defaultdeps
# PERL_USE_UNSAFE_INC=1
# SHELL=/usr/bin/zsh
# 
# 
# 
# PERL5LIB path
# /home/cpansand/.cpan/build/2019022200/Shell-Guess-0.09-0/blib/lib
# /home/cpansand/.cpan/build/2019022200/Shell-Guess-0.09-0/blib/arch
# /home/cpansand/.cpan/build/2019022200/App-lsplusplus-0.56-0/blib/arch
# /home/cpansand/.cpan/build/2019022200/App-lsplusplus-0.56-0/blib/lib
# /home/cpansand/.cpan/build/2019022200/App-rmcd-0.280-0/blib/arch
# /home/cpansand/.cpan/build/2019022200/App-rmcd-0.280-0/blib/lib
# /home/cpansand/.cpan/build/2019022200/LCFG-Build-Tools-0.9.20-0/blib/arch
# /home/cpansand/.cpan/build/2019022200/LCFG-Build-Tools-0.9.20-0/blib/lib
# /home/cpansand/.cpan/build/2019022200/App-lsplusplus-0.56-0/blib/arch
# /home/cpansand/.cpan/build/2019022200/App-lsplusplus-0.56-0/blib/lib
# /home/cpansand/.cpan/build/2019022200/App-rmcd-0.280-0/blib/arch
# /home/cpansand/.cpan/build/2019022200/App-rmcd-0.280-0/blib/lib
# /home/cpansand/.cpan/build/2019022200/LCFG-Build-Tools-0.9.20-0/blib/arch
# /home/cpansand/.cpan/build/2019022200/LCFG-Build-Tools-0.9.20-0/blib/lib
# 
# 
# 
# perl                 5.029008
# ExtUtils::MakeMaker  7.34
# Test::More           1.302162
# Unix::Process        -
# Win32::Getppid       -
# Win32::Process::List -
# 
# 
# 
t/00_diag.t ..................... ok
t/shell_guess__bash.t ........... ok
t/shell_guess__bourne.t ......... ok
t/shell_guess__c.t .............. ok
t/shell_guess__cmd.t ............ ok
t/shell_guess__command.t ........ ok
t/shell_guess__dcl.t ............ ok
t/shell_guess__fish.t ........... ok
t/shell_guess__guess_login.t .... ok
t/shell_guess__guess_running.t .. ok
t/shell_guess__korn.t ........... ok
t/shell_guess__os_dos.t ......... skipped: DOS only test
t/shell_guess__os_proc.t ........ skipped: test requires c shell in /bin/csh
t/shell_guess__os_vms.t ......... skipped: VMS only test
t/shell_guess__os_win32.t ....... skipped: windows only test
t/shell_guess__power.t .......... ok
t/shell_guess__tc.t ............. ok
t/shell_guess__z.t .............. ok
All tests successful.
Files=18, Tests=181,  1 wallclock secs ( 0.04 usr  0.07 sys +  1.08 cusr  0.20 csys =  1.39 CPU)
Result: PASS

------------------------------
PREREQUISITES
------------------------------

Prerequisite modules loaded:

requires:

    Module              Need  Have    
    ------------------- ----- --------
    perl                5.006 5.029008

build_requires:

    Module              Need  Have    
    ------------------- ----- --------
    ExtUtils::MakeMaker 0     7.34    
    Test::More          0.94  1.302162

configure_requires:

    Module              Need  Have    
    ------------------- ----- --------
    ExtUtils::MakeMaker 0     7.34    
    perl                5.006 5.029008


------------------------------
ENVIRONMENT AND OTHER CONTEXT
------------------------------

Environment variables:

    LANG = C
    PATH = /usr/local/bin:/usr/bin:/bin:/usr/local/sbin:/usr/sbin:/sbin:/home/cpansand/bin/linux-gnu:/home/cpansand/bin/sh:/home/cpansand/bin:/usr/games:/home/cpansand/devel:/home/eserte/src/srezic-misc/scripts
    PERL5LIB = /home/cpansand/.cpan/build/2019022200/App-lsplusplus-0.56-0/blib/arch:/home/cpansand/.cpan/build/2019022200/App-lsplusplus-0.56-0/blib/lib:/home/cpansand/.cpan/build/2019022200/App-rmcd-0.280-0/blib/arch:/home/cpansand/.cpan/build/2019022200/App-rmcd-0.280-0/blib/lib:/home/cpansand/.cpan/build/2019022200/LCFG-Build-Tools-0.9.20-0/blib/arch:/home/cpansand/.cpan/build/2019022200/LCFG-Build-Tools-0.9.20-0/blib/lib
    PERL5OPT = 
    PERL5_CPANPLUS_IS_RUNNING = 31883
    PERL5_CPAN_IS_RUNNING = 31883
    PERL5_CPAN_IS_RUNNING_IN_RECURSION = 32365,31883
    PERLDOC = -MPod::Perldoc::ToTextOverstrike
    PERL_BATCH = yes
    PERL_CANARY_STABILITY_NOPROMPT = 1
    PERL_CPAN_REPORTER_CONFIG = /var/tmp/cpansmoker-1023/2019022117/cpanreporter_000_config.ini
    PERL_EXTUTILS_AUTOINSTALL = --defaultdeps
    PERL_USE_UNSAFE_INC = 1
    SHELL = /usr/bin/zsh
    TERM = screen
    TMPDIR = /var/tmp/cpansmoker-1023/2019022117

Perl special variables (and OS-specific diagnostics, for MSWin32):

    $^X = /opt/perl-5.29.8t/bin/perl5.29.8
    $UID/$EUID = 1023 / 1023
    $GID = 1023 1023
    $EGID = 1023 1023

Perl module toolchain versions installed:

    Module              Have    
    ------------------- --------
    CPAN                2.22    
    CPAN::Meta          2.150010
    Cwd                 3.77    
    ExtUtils::CBuilder  0.280230
    ExtUtils::Command   7.34    
    ExtUtils::Install   2.14    
    ExtUtils::MakeMaker 7.34    
    ExtUtils::Manifest  1.71    
    ExtUtils::ParseXS   3.40    
    File::Spec          3.77    
    JSON                4.01    
    JSON::PP            4.00    
    Module::Build       0.4224  
    Module::Signature   0.83    
    Parse::CPAN::Meta   2.150010
    Test::Harness       3.42    
    Test::More          1.302162
    YAML                1.27    
    YAML::Syck          1.31    
    version             0.9924  


--

Summary of my perl5 (revision 5 version 29 subversion 8) configuration:
   
  Platform:
    osname=linux
    osvers=3.16.0-7-amd64
    archname=x86_64-linux-thread-multi
    uname='linux debian8 3.16.0-7-amd64 #1 smp debian 3.16.59-1 (2018-10-03) x86_64 gnulinux '
    config_args='-ds -e -Dprefix=/opt/perl-5.29.8t -Dusedevel -Dusemallocwrap=no -Dusethreads -Dcf_email=srezic@cpan.org'
    hint=recommended
    useposix=true
    d_sigaction=define
    useithreads=define
    usemultiplicity=define
    use64bitint=define
    use64bitall=define
    uselongdouble=undef
    usemymalloc=n
    default_inc_excludes_dot=define
    bincompat5005=undef
  Compiler:
    cc='cc'
    ccflags ='-D_REENTRANT -D_GNU_SOURCE -fwrapv -fno-strict-aliasing -pipe -fstack-protector-strong -I/usr/local/include -D_LARGEFILE_SOURCE -D_FILE_OFFSET_BITS=64 -D_FORTIFY_SOURCE=2'
    optimize='-O2'
    cppflags='-D_REENTRANT -D_GNU_SOURCE -fwrapv -fno-strict-aliasing -pipe -fstack-protector-strong -I/usr/local/include'
    ccversion=''
    gccversion='4.9.2'
    gccosandvers=''
    intsize=4
    longsize=8
    ptrsize=8
    doublesize=8
    byteorder=12345678
    doublekind=3
    d_longlong=define
    longlongsize=8
    d_longdbl=define
    longdblsize=16
    longdblkind=3
    ivtype='long'
    ivsize=8
    nvtype='double'
    nvsize=8
    Off_t='off_t'
    lseeksize=8
    alignbytes=8
    prototype=define
  Linker and Libraries:
    ld='cc'
    ldflags =' -fstack-protector-strong -L/usr/local/lib'
    libpth=/usr/local/lib /usr/lib/gcc/x86_64-linux-gnu/4.9/include-fixed /usr/include/x86_64-linux-gnu /usr/lib /lib/x86_64-linux-gnu /lib/../lib /usr/lib/x86_64-linux-gnu /usr/lib/../lib /lib
    libs=-lpthread -lnsl -lgdbm -ldb -ldl -lm -lcrypt -lutil -lc -lgdbm_compat
    perllibs=-lpthread -lnsl -ldl -lm -lcrypt -lutil -lc
    libc=libc-2.19.so
    so=so
    useshrplib=false
    libperl=libperl.a
    gnulibc_version='2.19'
  Dynamic Linking:
    dlsrc=dl_dlopen.xs
    dlext=so
    d_dlsymun=undef
    ccdlflags='-Wl,-E'
    cccdlflags='-fPIC'
    lddlflags='-shared -O2 -L/usr/local/lib -fstack-protector-strong'


Characteristics of this binary (from libperl): 
  Compile-time options:
    HAS_TIMES
    MULTIPLICITY
    PERLIO_LAYERS
    PERL_COPY_ON_WRITE
    PERL_DONT_CREATE_GVSV
    PERL_IMPLICIT_CONTEXT
    PERL_OP_PARENT
    PERL_PRESERVE_IVUV
    PERL_USE_DEVEL
    USE_64_BIT_ALL
    USE_64_BIT_INT
    USE_ITHREADS
    USE_LARGE_FILES
    USE_LOCALE
    USE_LOCALE_COLLATE
    USE_LOCALE_CTYPE
    USE_LOCALE_NUMERIC
    USE_LOCALE_TIME
    USE_PERLIO
    USE_PERL_ATOF
    USE_REENTRANT_API
    USE_THREAD_SAFE_LOCALE
  Built under linux
  Compiled at Feb 21 2019 06:55:09
  %ENV:
    PERL5LIB="/home/cpansand/.cpan/build/2019022200/App-lsplusplus-0.56-0/blib/arch:/home/cpansand/.cpan/build/2019022200/App-lsplusplus-0.56-0/blib/lib:/home/cpansand/.cpan/build/2019022200/App-rmcd-0.280-0/blib/arch:/home/cpansand/.cpan/build/2019022200/App-rmcd-0.280-0/blib/lib:/home/cpansand/.cpan/build/2019022200/LCFG-Build-Tools-0.9.20-0/blib/arch:/home/cpansand/.cpan/build/2019022200/LCFG-Build-Tools-0.9.20-0/blib/lib"
    PERL5OPT=""
    PERL5_CPANPLUS_IS_RUNNING="31883"
    PERL5_CPAN_IS_RUNNING="31883"
    PERL5_CPAN_IS_RUNNING_IN_RECURSION="32365,31883"
    PERLDOC="-MPod::Perldoc::ToTextOverstrike"
    PERL_BATCH="yes"
    PERL_CANARY_STABILITY_NOPROMPT="1"
    PERL_CPAN_REPORTER_CONFIG="/var/tmp/cpansmoker-1023/2019022117/cpanreporter_000_config.ini"
    PERL_EXTUTILS_AUTOINSTALL="--defaultdeps"
    PERL_USE_UNSAFE_INC="1"
  @INC:
    /home/cpansand/.cpan/build/2019022200/App-lsplusplus-0.56-0/blib/arch
    /home/cpansand/.cpan/build/2019022200/App-lsplusplus-0.56-0/blib/lib
    /home/cpansand/.cpan/build/2019022200/App-rmcd-0.280-0/blib/arch
    /home/cpansand/.cpan/build/2019022200/App-rmcd-0.280-0/blib/lib
    /home/cpansand/.cpan/build/2019022200/LCFG-Build-Tools-0.9.20-0/blib/arch
    /home/cpansand/.cpan/build/2019022200/LCFG-Build-Tools-0.9.20-0/blib/lib
    /opt/perl-5.29.8t/lib/site_perl/5.29.8/x86_64-linux-thread-multi
    /opt/perl-5.29.8t/lib/site_perl/5.29.8
    /opt/perl-5.29.8t/lib/5.29.8/x86_64-linux-thread-multi
    /opt/perl-5.29.8t/lib/5.29.8
    .