Back
From: metabase:user:3198cbe2-2aae-11df-837a-5e0a49663a4f
Subject: PASS Project-Euler-0.20 v5.14.3 GNU/Linux
Date: 2012-12-14T15:29:58Z
This distribution has been tested as part of the CPAN Testers
project, supporting the Perl programming language. See
http://wiki.cpantesters.org/ for more information or email
questions to cpan-testers-discuss@perl.org
--
Dear Adam Lesperance,
This is a computer-generated report for Project-Euler-0.20
on perl 5.14.3, created by CPAN-Reporter-1.2007.
Thank you for uploading your work to CPAN. Congratulations!
All tests were successful.
Sections of this report:
* Tester comments
* Program output
* Prerequisites
* Environment and other context
------------------------------
TESTER COMMENTS
------------------------------
Additional comments from tester:
this report is from an automated smoke testing program
and was not reviewed by a human for accuracy
------------------------------
PROGRAM OUTPUT
------------------------------
Output from './Build test':
# Testing Project::Euler, Perl 5.014003, /home/graham/perls/perl-5.14.3/bin/perl
Useless use of a variable in void context at /home/graham/perls/perl-5.14.3/lib/site_perl/5.14.3/x86_64-linux/List/MoreUtils.pm line 362.
t/00-Base/00-load.t ........................... ok
Useless use of a variable in void context at /home/graham/perls/perl-5.14.3/lib/site_perl/5.14.3/x86_64-linux/List/MoreUtils.pm line 362.
Name "Package::DeprecationManager::a" used only once: possible typo at /home/graham/perls/perl-5.14.3/lib/site_perl/5.14.3/x86_64-linux/List/MoreUtils.pm line 362.
Name "Package::DeprecationManager::b" used only once: possible typo at /home/graham/perls/perl-5.14.3/lib/site_perl/5.14.3/x86_64-linux/List/MoreUtils.pm line 362.
t/00-Base/01-base.t ........................... ok
t/00-compile.t ................................ ok
Useless use of a variable in void context at /home/graham/perls/perl-5.14.3/lib/site_perl/5.14.3/x86_64-linux/List/MoreUtils.pm line 362.
Name "Package::DeprecationManager::a" used only once: possible typo at /home/graham/perls/perl-5.14.3/lib/site_perl/5.14.3/x86_64-linux/List/MoreUtils.pm line 362.
Name "Package::DeprecationManager::b" used only once: possible typo at /home/graham/perls/perl-5.14.3/lib/site_perl/5.14.3/x86_64-linux/List/MoreUtils.pm line 362.
t/10-Lib/000-Types.t .......................... ok
Useless use of a variable in void context at /home/graham/perls/perl-5.14.3/lib/site_perl/5.14.3/x86_64-linux/List/MoreUtils.pm line 362.
Name "Project::Euler::Lib::Utils::a" used only once: possible typo at /home/graham/perls/perl-5.14.3/lib/site_perl/5.14.3/x86_64-linux/List/MoreUtils.pm line 362.
Name "Project::Euler::Lib::Utils::b" used only once: possible typo at /home/graham/perls/perl-5.14.3/lib/site_perl/5.14.3/x86_64-linux/List/MoreUtils.pm line 362.
t/10-Lib/100-Utils_List.t ..................... ok
Useless use of a variable in void context at /home/graham/perls/perl-5.14.3/lib/site_perl/5.14.3/x86_64-linux/List/MoreUtils.pm line 362.
Name "Project::Euler::Lib::Utils::a" used only once: possible typo at /home/graham/perls/perl-5.14.3/lib/site_perl/5.14.3/x86_64-linux/List/MoreUtils.pm line 362.
Name "Project::Euler::Lib::Utils::b" used only once: possible typo at /home/graham/perls/perl-5.14.3/lib/site_perl/5.14.3/x86_64-linux/List/MoreUtils.pm line 362.
t/10-Lib/101-Utils_Fibs.t ..................... ok
Useless use of a variable in void context at /home/graham/perls/perl-5.14.3/lib/site_perl/5.14.3/x86_64-linux/List/MoreUtils.pm line 362.
t/20-Problems/000-Correct_Defaults.t .......... ok
Useless use of a variable in void context at /home/graham/perls/perl-5.14.3/lib/site_perl/5.14.3/x86_64-linux/List/MoreUtils.pm line 362.
t/20-Problems/001-Sum_Filtered_Lists.t ........ ok
Useless use of a variable in void context at /home/graham/perls/perl-5.14.3/lib/site_perl/5.14.3/x86_64-linux/List/MoreUtils.pm line 362.
t/20-Problems/002-Sum_Filtered_Fib_Numbers.t .. ok
t/author-99-template.t ........................ skipped: these tests are for testing by the author
t/author-critic.t ............................. skipped: these tests are for testing by the author
t/release-check-changes.t ..................... skipped: these tests are for release candidate testing
t/release-distmeta.t .......................... skipped: these tests are for release candidate testing
t/release-has-version.t ....................... skipped: these tests are for release candidate testing
t/release-kwalitee.t .......................... skipped: these tests are for release candidate testing
t/release-minimum-version.t ................... skipped: these tests are for release candidate testing
t/release-pod-coverage.t ...................... skipped: these tests are for release candidate testing
t/release-pod-syntax.t ........................ skipped: these tests are for release candidate testing
t/release-portability.t ....................... skipped: these tests are for release candidate testing
t/release-synopsis.t .......................... skipped: these tests are for release candidate testing
t/release-unused-vars.t ....................... skipped: these tests are for release candidate testing
All tests successful.
Files=21, Tests=338, 11 wallclock secs ( 0.13 usr 0.04 sys + 8.91 cusr 0.49 csys = 9.57 CPU)
Result: PASS
------------------------------
PREREQUISITES
------------------------------
Prerequisite modules loaded:
requires:
Module Need Have
--------------------------- ------ ----------
Carp 0 1.26
DateTime 0 0.70
DateTime::Format::DateParse 0 0.05
Exporter::Easy 0 0.16
List::MoreUtils 0 0.33_005
List::Util 0 1.25
Math::Big::Factors 0 1.02
Math::BigInt 0 1.997
Modern::Perl 0 1.20121103
Moose 0 2.0604
Moose::Role 0 2.0604
MooseX::Types 0 0.35
MooseX::Types::Moose 0 0.35
namespace::autoclean 0 0.13
perl 5.010 5.014003
Readonly 0 1.03
String::Palindrome 0 2.000001
build_requires:
Module Need Have
--------------------------- ------ ----------
autodie 0 2.13
constant 0 1.21
English 0 1.04
File::Find 0 1.19
File::Spec 0 3.33
File::Temp 0 0.22
Module::Build 0.3601 0.4003
Test::Exception 0 0.31
Test::More 0 0.98
Test::Most 0 0.31
configure_requires:
Module Need Have
--------------------------- ------ ----------
Module::Build 0.3601 0.4003
------------------------------
ENVIRONMENT AND OTHER CONTEXT
------------------------------
Environment variables:
AUTOMATED_TESTING = 1
LANG = C
PATH = /home/graham/perls/perl-5.14.3/bin:/home/graham/perls/perl-5.14.3/bin:/usr/local/bin:/usr/bin:/bin:/usr/local/sbin:/usr/sbin:/sbin:/usr/bin/core_perl
PERL5LIB =
PERL5OPT =
PERL5_CPANPLUS_IS_RUNNING = 10576
PERL5_CPAN_IS_RUNNING = 10576
PERL5_CPAN_IS_RUNNING_IN_RECURSION = 15047,10576
PERL_CR_SMOKER_CURRENT = Project-Euler-0.20
PERL_EXTUTILS_AUTOINSTALL = --defaultdeps
PERL_MM_USE_DEFAULT = 1
SHELL = /bin/bash
TERM = xterm
Perl special variables (and OS-specific diagnostics, for MSWin32):
$^X = /home/graham/perls/perl-5.14.3/bin/perl
$UID/$EUID = 1000 / 1000
$GID = 100 100
$EGID = 100 100
Perl module toolchain versions installed:
Module Have
------------------- --------
CPAN 1.9800
CPAN::Meta 2.120351
Cwd 3.33
ExtUtils::CBuilder 0.280205
ExtUtils::Command 1.17
ExtUtils::Install 1.56
ExtUtils::MakeMaker 6.63_04
ExtUtils::Manifest 1.61
ExtUtils::ParseXS 3.18
File::Spec 3.33
JSON 2.27
JSON::PP 2.27008
Module::Build 0.4003
Module::Signature 0.70
Parse::CPAN::Meta 1.4404
Test::Harness 3.23
Test::More 0.98
YAML 0.73
YAML::Syck 1.22
version 0.9901
--
Summary of my perl5 (revision 5 version 14 subversion 3) configuration:
Platform:
osname=linux, osvers=3.5.6-1-arch, archname=x86_64-linux
uname='linux grosics 3.5.6-1-arch #1 smp preempt sun oct 7 19:30:49 cest 2012 x86_64 gnulinux '
config_args=''
hint=recommended, useposix=true, d_sigaction=define
useithreads=undef, usemultiplicity=undef
useperlio=define, d_sfio=undef, uselargefiles=define, usesocks=undef
use64bitint=define, use64bitall=define, uselongdouble=undef
usemymalloc=n, bincompat5005=undef
Compiler:
cc='cc', ccflags ='-fno-strict-aliasing -pipe -fstack-protector -I/usr/local/include -D_LARGEFILE_SOURCE -D_FILE_OFFSET_BITS=64',
optimize='-O2',
cppflags='-fno-strict-aliasing -pipe -fstack-protector -I/usr/local/include'
ccversion='', gccversion='4.7.2', gccosandvers=''
intsize=4, longsize=8, ptrsize=8, doublesize=8, byteorder=12345678
d_longlong=define, longlongsize=8, d_longdbl=define, longdblsize=16
ivtype='long', ivsize=8, nvtype='double', nvsize=8, Off_t='off_t', lseeksize=8
alignbytes=8, prototype=define
Linker and Libraries:
ld='cc', ldflags =' -fstack-protector -L/usr/local/lib'
libpth=/usr/local/lib /lib/../lib /usr/lib/../lib /lib /usr/lib
libs=-lnsl -lgdbm -ldb -ldl -lm -lcrypt -lutil -lc -lgdbm_compat
perllibs=-lnsl -ldl -lm -lcrypt -lutil -lc
libc=/lib/libc-2.16.so, so=so, useshrplib=false, libperl=libperl.a
gnulibc_version='2.16'
Dynamic Linking:
dlsrc=dl_dlopen.xs, dlext=so, d_dlsymun=undef, ccdlflags='-Wl,-E'
cccdlflags='-fPIC', lddlflags='-shared -O2 -L/usr/local/lib -fstack-protector'
Characteristics of this binary (from libperl):
Compile-time options: PERL_DONT_CREATE_GVSV PERL_MALLOC_WRAP
PERL_PRESERVE_IVUV USE_64_BIT_ALL USE_64_BIT_INT
USE_LARGE_FILES USE_PERLIO USE_PERL_ATOF
Built under linux
Compiled at Dec 10 2012 17:55:35
%ENV:
PERL5LIB=""
PERL5OPT=""
PERL5_CPANPLUS_IS_RUNNING="10576"
PERL5_CPAN_IS_RUNNING="10576"
PERL5_CPAN_IS_RUNNING_IN_RECURSION="15047,10576"
PERL_CR_SMOKER_CURRENT="Project-Euler-0.20"
PERL_EXTUTILS_AUTOINSTALL="--defaultdeps"
PERL_MM_USE_DEFAULT="1"
@INC:
/home/graham/perls/perl-5.14.3/lib/site_perl/5.14.3/x86_64-linux
/home/graham/perls/perl-5.14.3/lib/site_perl/5.14.3
/home/graham/perls/perl-5.14.3/lib/5.14.3/x86_64-linux
/home/graham/perls/perl-5.14.3/lib/5.14.3
.