Catalyst-Controller-HTML-FormFu v2.04 Perl 5 v5.29.5 x86_64-linux-thread-multi
- Status
- Pass
- From
- Andreas J. König (ANDK)
- Dist
-
Catalyst-Controller-HTML-FormFu v2.04
- Platform
- Perl 5 v5.29.5 x86_64-linux-thread-multi
- Date
- 2019-03-01 15:46:03
- ID
- 1e8d7402-3c39-11e9-861c-fae88ca9dbea
This distribution has been tested as part of the CPAN Testers
project, supporting the Perl programming language. See
http://wiki.cpantesters.org/ for more information or email
questions to cpan-testers-discuss@perl.org
--
Dear Nigel Metheringham,
This is a computer-generated report for Catalyst-Controller-HTML-FormFu-2.04
on perl 5.29.5, created by CPAN-Reporter-1.2018.
Thank you for uploading your work to CPAN. Congratulations!
All tests were successful.
Sections of this report:
* Tester comments
* Program output
* Prerequisites
* Environment and other context
------------------------------
TESTER COMMENTS
------------------------------
Additional comments from tester:
this report is from an automated smoke testing program
and was not reviewed by a human for accuracy
------------------------------
PROGRAM OUTPUT
------------------------------
Output from '/usr/bin/make test':
PERL_DL_NONLAZY=1 "/home/sand/src/perl/repoperls/installed-perls/host/k93msid/v5.29.5/29fb/bin/perl" "-MExtUtils::Command::MM" "-MTest::Harness" "-e" "undef *Test::Harness::Switches; test_harness(0, 'blib/lib', 'blib/arch')" t/*.t t/elements/*.t
#
# Versions for all modules listed in MYMETA.json (including optional ones):
#
# === Configure Requires ===
#
# Module Want Have
# ------------------- ---- -------
# ExtUtils::MakeMaker any 7.35_08
#
# === Build Requires ===
#
# Module Want Have
# ------------------- ---- -------
# ExtUtils::MakeMaker any 7.35_08
#
# === Test Requires ===
#
# Module Want Have
# ------------------------------------------------- ------- --------
# Catalyst any 5.90123
# Catalyst::Action::RenderView any 0.16
# Catalyst::Plugin::Session any 0.41
# Catalyst::Plugin::Session::State::Cookie any 0.17
# Catalyst::Plugin::Session::Store::File any 0.18
# Catalyst::Runtime 5.71001 5.90123
# Catalyst::View::TT any 0.44
# Code::TidyAll::Plugin::Perl::AlignMooseAttributes any 0.01
# Data::Dumper any 2.173
# ExtUtils::MakeMaker any 7.35_08
# File::Spec any 3.76
# FindBin any 1.51
# HTML::FormFu::MultiForm 1.02 1.03
# Pod::Coverage::TrustPod any 0.100005
# Pod::Tidy any 0.10
# Template any 2.28
# Test::CPAN::Meta any 0.25
# Test::Differences any 0.66
# Test::EOL any 2.00
# Test::Kwalitee 1.21 1.27
# Test::Memory::Cycle any 1.06
# Test::More 0.92 1.302158
# Test::NoTabs any 2.02
# Test::PAUSE::Permissions any 0.07
# Test::Pod 1.41 1.52
# Test::Pod::Coverage 1.08 1.10
# Test::WWW::Mechanize 1.16 1.52
# Test::WWW::Mechanize::Catalyst any 0.60
# base any 2.27
# lib any 0.64
#
# === Test Recommends ===
#
# Module Want Have
# ---------- -------- --------
# CPAN::Meta 2.120900 2.150010
#
# === Runtime Requires ===
#
# Module Want Have
# --------------------------------------- ------- --------
# Carp any 1.50
# Catalyst::Action any undef
# Catalyst::Component::InstancePerContext any 0.001001
# Catalyst::Controller any undef
# Catalyst::Runtime 5.71001 5.90123
# Config::Any any 0.32
# File::Spec any 3.76
# HTML::FormFu 2.06 2.07
# HTML::FormFu::Constraint any 2.07
# HTML::FormFu::Deploy any 2.07
# HTML::FormFu::Element::Text any 2.07
# HTML::FormFu::MultiForm 1.02 1.03
# HTML::FormFu::Plugin any 2.07
# HTML::FormFu::Util any 2.07
# Moose any 2.2011
# MooseX::Attribute::Chained any 1.0.3
# Regexp::Assemble any 0.38
# Scalar::Util any 1.50
# Task::Weaken any 1.06
# namespace::autoclean any 0.28
# strict any 1.11
# warnings any 1.43
#
t/00-report-prereqs.t ............ ok
t/01basic-form.t ................. ok
t/01basic-formconfig.t ........... ok
t/01basic-formconfig_conf_ext.t .. ok
t/01basic-formmethod.t ........... ok
t/01basic-token.t ................ ok
t/02multiform-multiformconfig.t .. ok
t/02multiform-multiformmethod.t .. ok
t/02multiform-token.t ............ skipped: no multi form support yet
t/03instancepercontext.t ......... ok
t/elements/requesttoken.t ........ ok
All tests successful.
Files=11, Tests=127, 21 wallclock secs ( 0.05 usr 0.06 sys + 12.55 cusr 1.50 csys = 14.16 CPU)
Result: PASS
------------------------------
PREREQUISITES
------------------------------
Prerequisite modules loaded:
requires:
Module Need Have
------------------------------------------------- ------- --------
Carp 0 1.50
Catalyst::Action 0 0
Catalyst::Component::InstancePerContext 0 0.001001
Catalyst::Controller 0 0
Catalyst::Runtime 5.71001 5.90123
Config::Any 0 0.32
File::Spec 0 3.76
HTML::FormFu 2.06 2.07
HTML::FormFu::Constraint 0 2.07
HTML::FormFu::Deploy 0 2.07
HTML::FormFu::Element::Text 0 2.07
HTML::FormFu::MultiForm 1.02 1.03
HTML::FormFu::Plugin 0 2.07
HTML::FormFu::Util 0 2.07
Moose 0 2.2011
MooseX::Attribute::Chained 0 1.0.3
namespace::autoclean 0 0.28
Regexp::Assemble 0 0.38
Scalar::Util 0 1.50
strict 0 1.11
Task::Weaken 0 1.06
warnings 0 1.43
build_requires:
Module Need Have
------------------------------------------------- ------- --------
base 0 2.27
Catalyst 0 5.90123
Catalyst::Action::RenderView 0 0.16
Catalyst::Plugin::Session 0 0.41
Catalyst::Plugin::Session::State::Cookie 0 0.17
Catalyst::Plugin::Session::Store::File 0 0.18
Catalyst::Runtime 5.71001 5.90123
Catalyst::View::TT 0 0.44
Code::TidyAll::Plugin::Perl::AlignMooseAttributes 0 0.01
Data::Dumper 0 2.173
ExtUtils::MakeMaker 0 7.35_08
File::Spec 0 3.76
FindBin 0 1.51
HTML::FormFu::MultiForm 1.02 1.03
lib 0 0.64
Pod::Coverage::TrustPod 0 0.100005
Pod::Tidy 0 0.10
Template 0 2.28
Test::CPAN::Meta 0 0.25
Test::Differences 0 0.66
Test::EOL 0 2.00
Test::Kwalitee 1.21 1.27
Test::Memory::Cycle 0 1.06
Test::More 0.92 1.302158
Test::NoTabs 0 2.02
Test::PAUSE::Permissions 0 0.07
Test::Pod 1.41 1.52
Test::Pod::Coverage 1.08 1.10
Test::WWW::Mechanize 1.16 1.52
Test::WWW::Mechanize::Catalyst 0 0.60
configure_requires:
Module Need Have
------------------------------------------------- ------- --------
ExtUtils::MakeMaker 0 7.35_08
------------------------------
ENVIRONMENT AND OTHER CONTEXT
------------------------------
Environment variables:
AUTOMATED_TESTING = 1
LANG = en_US.UTF-8
PATH = /home/sand/bin:/usr/local/bin:/usr/bin:/bin:/usr/games:/usr/local/perl/bin:/usr/X11/bin:/sbin:/usr/sbin
PERL5LIB =
PERL5OPT =
PERL5_CPANPLUS_IS_RUNNING = 25600
PERL5_CPAN_IS_RUNNING = 25600
PERL_CANARY_STABILITY_NOPROMPT = 1
PERL_MM_USE_DEFAULT = 1
PERL_USE_UNSAFE_INC = 1
SHELL = /usr/bin/zsh
TERM = screen
Perl special variables (and OS-specific diagnostics, for MSWin32):
$^X = /home/sand/src/perl/repoperls/installed-perls/host/k93msid/v5.29.5/29fb/bin/perl
$UID/$EUID = 1005 / 1005
$GID = 1005 1005
$EGID = 1005 1005
Perl module toolchain versions installed:
Module Have
------------------- --------
CPAN 2.21
CPAN::Meta 2.150010
Cwd 3.76
ExtUtils::CBuilder 0.280230
ExtUtils::Command 7.35_08
ExtUtils::Install 2.14
ExtUtils::MakeMaker 7.35_08
ExtUtils::Manifest 1.71
ExtUtils::ParseXS 3.39
File::Spec 3.76
JSON 2.97001
JSON::PP 4.01
Module::Build 0.4224
Module::Signature 0.83
Parse::CPAN::Meta 2.150010
Test::Harness 3.42
Test::More 1.302158
YAML 1.27
YAML::Syck 1.31
version 0.9924
--
Summary of my perl5 (revision 5 version 29 subversion 5) configuration:
Commit id: 603b3b7fc4202ff4edb029371626097d291a29ec
Platform:
osname=linux
osvers=4.18.0-2-amd64
archname=x86_64-linux-thread-multi
uname='linux k93msid 4.18.0-2-amd64 #1 smp debian 4.18.10-2 (2018-10-07) x86_64 gnulinux '
config_args='-Dprefix=/home/sand/src/perl/repoperls/installed-perls/host/k93msid/v5.29.5/29fb -Dmyhostname=k93msid -Dinstallusrbinperl=n -Uversiononly -Dusedevel -des -Ui_db -Dlibswanted=cl pthread socket inet nsl gdbm dbm malloc dl ld sun m crypt sec util c cposix posix ucb BSD gdbm_compat -Duseithreads -Uuselongdouble -DEBUGGING=both'
hint=recommended
useposix=true
d_sigaction=define
useithreads=define
usemultiplicity=define
use64bitint=define
use64bitall=define
uselongdouble=undef
usemymalloc=n
default_inc_excludes_dot=define
bincompat5005=undef
Compiler:
cc='cc'
ccflags ='-D_REENTRANT -D_GNU_SOURCE -fwrapv -DDEBUGGING -fno-strict-aliasing -pipe -fstack-protector-strong -I/usr/local/include -D_LARGEFILE_SOURCE -D_FILE_OFFSET_BITS=64 -D_FORTIFY_SOURCE=2'
optimize='-O2 -g'
cppflags='-D_REENTRANT -D_GNU_SOURCE -fwrapv -DDEBUGGING -fno-strict-aliasing -pipe -fstack-protector-strong -I/usr/local/include'
ccversion=''
gccversion='8.2.0'
gccosandvers=''
intsize=4
longsize=8
ptrsize=8
doublesize=8
byteorder=12345678
doublekind=3
d_longlong=define
longlongsize=8
d_longdbl=define
longdblsize=16
longdblkind=3
ivtype='long'
ivsize=8
nvtype='double'
nvsize=8
Off_t='off_t'
lseeksize=8
alignbytes=8
prototype=define
Linker and Libraries:
ld='cc'
ldflags =' -fstack-protector-strong -L/usr/local/lib'
libpth=/usr/local/lib /usr/lib/gcc/x86_64-linux-gnu/8/include-fixed /usr/include/x86_64-linux-gnu /usr/lib /lib/x86_64-linux-gnu /lib/../lib /usr/lib/x86_64-linux-gnu /usr/lib/../lib /lib
libs=-lpthread -lnsl -ldl -lm -lcrypt -lutil -lc
perllibs=-lpthread -lnsl -ldl -lm -lcrypt -lutil -lc
libc=libc-2.27.so
so=so
useshrplib=false
libperl=libperl.a
gnulibc_version='2.27'
Dynamic Linking:
dlsrc=dl_dlopen.xs
dlext=so
d_dlsymun=undef
ccdlflags='-Wl,-E'
cccdlflags='-fPIC'
lddlflags='-shared -O2 -g -L/usr/local/lib -fstack-protector-strong'
Characteristics of this binary (from libperl):
Compile-time options:
DEBUGGING
HAS_TIMES
MULTIPLICITY
PERLIO_LAYERS
PERL_COPY_ON_WRITE
PERL_DONT_CREATE_GVSV
PERL_IMPLICIT_CONTEXT
PERL_MALLOC_WRAP
PERL_OP_PARENT
PERL_PRESERVE_IVUV
PERL_TRACK_MEMPOOL
PERL_USE_DEVEL
USE_64_BIT_ALL
USE_64_BIT_INT
USE_ITHREADS
USE_LARGE_FILES
USE_LOCALE
USE_LOCALE_COLLATE
USE_LOCALE_CTYPE
USE_LOCALE_NUMERIC
USE_LOCALE_TIME
USE_PERLIO
USE_PERL_ATOF
USE_REENTRANT_API
Built under linux
Compiled at Nov 24 2018 13:19:21
%ENV:
PERL5LIB=""
PERL5OPT=""
PERL5_CPANPLUS_IS_RUNNING="25600"
PERL5_CPAN_IS_RUNNING="25600"
PERL_CANARY_STABILITY_NOPROMPT="1"
PERL_MM_USE_DEFAULT="1"
PERL_USE_UNSAFE_INC="1"
@INC:
/home/sand/src/perl/repoperls/installed-perls/host/k93msid/v5.29.5/29fb/lib/site_perl/5.29.5/x86_64-linux-thread-multi
/home/sand/src/perl/repoperls/installed-perls/host/k93msid/v5.29.5/29fb/lib/site_perl/5.29.5
/home/sand/src/perl/repoperls/installed-perls/host/k93msid/v5.29.5/29fb/lib/5.29.5/x86_64-linux-thread-multi
/home/sand/src/perl/repoperls/installed-perls/host/k93msid/v5.29.5/29fb/lib/5.29.5
.