Dancer2-Plugin-REST v1.02 Perl 5 v5.24.0 x86_64-linux

Status
Pass
From
Andy Armstrong
Dist
Dancer2-Plugin-REST v1.02
Platform
Perl 5 v5.24.0 x86_64-linux
Date
2018-02-13 15:32:37
ID
1e9cee9c-10d3-11e8-b7e5-a5d6922f8e8b
This distribution has been tested as part of the CPAN Testers
project, supporting the Perl programming language.  See
http://wiki.cpantesters.org/ for more information or email
questions to cpan-testers-discuss@perl.org


--
Dear Yanick Champoux,

This is a computer-generated report for Dancer2-Plugin-REST-1.02
on perl 5.24.0, created by CPAN-Reporter-1.2018.

Thank you for uploading your work to CPAN.  Congratulations!
All tests were successful.

Sections of this report:

    * Tester comments
    * Program output
    * Prerequisites
    * Environment and other context

------------------------------
TESTER COMMENTS
------------------------------

Additional comments from tester:

none provided

------------------------------
PROGRAM OUTPUT
------------------------------

Output from '/usr/bin/make test':

PERL_DL_NONLAZY=1 "/home/andy/perl5/perlbrew/perls/perl-5.24.0/bin/perl" "-MExtUtils::Command::MM" "-MTest::Harness" "-e" "undef *Test::Harness::Switches; test_harness(0, 'blib/lib', 'blib/arch')" t/*.t
t/00-compile.t ........................ ok
# 
# Versions for all modules listed in MYMETA.json (including optional ones):
# 
# === Configure Requires ===
# 
#     Module              Want Have
#     ------------------- ---- ----
#     ExtUtils::MakeMaker  any 7.30
# 
# === Build Requires ===
# 
#     Module              Want Have
#     ------------------- ---- ----
#     ExtUtils::MakeMaker  any 7.30
# 
# === Test Requires ===
# 
#     Module                     Want     Have
#     ---------------------- -------- --------
#     Dancer2                0.203000 0.205002
#     Dancer2::Core::Request      any 0.205002
#     Data::Dumper                any    2.161
#     ExtUtils::MakeMaker         any     7.30
#     File::Spec                  any     3.63
#     HTTP::Request::Common       any     6.13
#     IO::Handle                  any     1.36
#     IPC::Open3                  any     1.20
#     JSON                        any     2.94
#     Module::Runtime             any    0.014
#     Plack::Test                 any    undef
#     Test::More                  any 1.302086
#     Test::Requires              any     0.10
# 
# === Test Recommends ===
# 
#     Module         Want     Have
#     ---------- -------- --------
#     CPAN::Meta 2.120900 2.150010
# 
# === Runtime Requires ===
# 
#     Module                           Want     Have
#     ---------------------------- -------- --------
#     Carp                              any     1.40
#     Dancer2                      0.203000 0.205002
#     Dancer2::Core::HTTP          0.203000 0.205002
#     Dancer2::Plugin                   any 0.205002
#     Dancer2::Serializer::Mutable      any 0.205002
#     List::Util                        any     1.48
#     Moo                               any 2.003002
#     strict                            any     1.11
#     warnings                          any     1.36
# 
t/00-report-prereqs.t ................. ok
t/02_prepare_serializer_for_format.t .. ok
t/03_resource.t ....................... ok
t/04_helpers.t ........................ ok
t/04_plugin_settings.t ................ ok
t/05_named_captures.t ................. ok
t/06_tcp_server.t ..................... ok
t/gh14-deserialized.t ................. ok
All tests successful.
Files=9, Tests=44,  4 wallclock secs ( 0.04 usr  0.01 sys +  3.02 cusr  0.15 csys =  3.22 CPU)
Result: PASS

------------------------------
PREREQUISITES
------------------------------

Prerequisite modules loaded:

requires:

    Module                       Need     Have    
    ---------------------------- -------- --------
    Carp                         0        1.40    
    Dancer2                      0.203000 0.205002
    Dancer2::Core::HTTP          0.203000 0.205002
    Dancer2::Plugin              0        0.205002
    Dancer2::Serializer::Mutable 0        0.205002
    List::Util                   0        1.48    
    Moo                          0        2.003002
    perl                         5.012000 5.024000
    strict                       0        1.11    
    warnings                     0        1.36    

build_requires:

    Module                       Need     Have    
    ---------------------------- -------- --------
    Dancer2                      0.203000 0.205002
    Dancer2::Core::Request       0        0.205002
    Data::Dumper                 0        2.161   
    ExtUtils::MakeMaker          0        7.30    
    File::Spec                   0        3.63    
    HTTP::Request::Common        0        6.13    
    IO::Handle                   0        1.36    
    IPC::Open3                   0        1.20    
    JSON                         0        2.94    
    Module::Runtime              0        0.014   
    Plack::Test                  0        0       
    Test::More                   0        1.302086
    Test::Requires               0        0.10    

configure_requires:

    Module                       Need     Have    
    ---------------------------- -------- --------
    ExtUtils::MakeMaker          0        7.30    


------------------------------
ENVIRONMENT AND OTHER CONTEXT
------------------------------

Environment variables:

    LANG = en_GB.UTF-8
    LANGUAGE = en_GB:en
    LC_CTYPE = en_GB.UTF-8
    PATH = /home/andy/bin:/home/andy/perl5/perlbrew/bin:/home/andy/perl5/perlbrew/perls/perl-5.24.0/bin:/home/andy/Dropbox/bin:/opt/rpi_rootfs/tools/arm-linux-gnueabihf/bin:/opt/depot_tools:/home/andy/bin/Linux:/usr/local/sbin:/usr/local/bin:/home/andy/bin:/usr/sbin:/usr/bin:/sbin:/bin:/usr/games:/usr/local/games
    PERL5LIB = 
    PERL5OPT = 
    PERL5_CPANPLUS_IS_RUNNING = 32007
    PERL5_CPAN_IS_RUNNING = 32007
    PERLBREW_BASHRC_VERSION = 0.76
    PERLBREW_HOME = /home/andy/.perlbrew
    PERLBREW_MANPATH = /home/andy/perl5/perlbrew/perls/perl-5.24.0/man
    PERLBREW_PATH = /home/andy/perl5/perlbrew/bin:/home/andy/perl5/perlbrew/perls/perl-5.24.0/bin
    PERLBREW_PERL = perl-5.24.0
    PERLBREW_ROOT = /home/andy/perl5/perlbrew
    PERLBREW_VERSION = 0.76
    SHELL = /bin/bash
    TERM = xterm-256color

Perl special variables (and OS-specific diagnostics, for MSWin32):

    $^X = /home/andy/perl5/perlbrew/perls/perl-5.24.0/bin/perl
    $UID/$EUID = 1000 / 1000
    $GID = 1000 4 24 27 30 46 110 115 116 137 1000 1001
    $EGID = 1000 4 24 27 30 46 110 115 116 137 1000 1001

Perl module toolchain versions installed:

    Module              Have    
    ------------------- --------
    CPAN                2.16    
    CPAN::Meta          2.150010
    Cwd                 3.63    
    ExtUtils::CBuilder  0.280225
    ExtUtils::Command   7.30    
    ExtUtils::Install   2.06    
    ExtUtils::MakeMaker 7.30    
    ExtUtils::Manifest  1.70    
    ExtUtils::ParseXS   3.31    
    File::Spec          3.63    
    JSON                2.94    
    JSON::PP            2.27400 
    Module::Build       0.4224  
    Module::Signature   0.81    
    Parse::CPAN::Meta   2.150010
    Test::Harness       3.39    
    Test::More          1.302086
    YAML                1.23    
    YAML::Syck          1.30    
    version             0.9918  


--

Summary of my perl5 (revision 5 version 24 subversion 0) configuration:
   
  Platform:
    osname=linux, osvers=4.4.0-34-generic, archname=x86_64-linux
    uname='linux trout 4.4.0-34-generic #53-ubuntu smp wed jul 27 16:06:39 utc 2016 x86_64 x86_64 x86_64 gnulinux '
    config_args='-de -Dprefix=/home/andy/perl5/perlbrew/perls/perl-5.24.0 -Aeval:scriptdir=/home/andy/perl5/perlbrew/perls/perl-5.24.0/bin'
    hint=recommended, useposix=true, d_sigaction=define
    useithreads=undef, usemultiplicity=undef
    use64bitint=define, use64bitall=define, uselongdouble=undef
    usemymalloc=n, bincompat5005=undef
  Compiler:
    cc='cc', ccflags ='-fwrapv -fno-strict-aliasing -pipe -fstack-protector-strong -I/usr/local/include -D_LARGEFILE_SOURCE -D_FILE_OFFSET_BITS=64',
    optimize='-O2',
    cppflags='-fwrapv -fno-strict-aliasing -pipe -fstack-protector-strong -I/usr/local/include'
    ccversion='', gccversion='5.4.0 20160609', gccosandvers=''
    intsize=4, longsize=8, ptrsize=8, doublesize=8, byteorder=12345678, doublekind=3
    d_longlong=define, longlongsize=8, d_longdbl=define, longdblsize=16, longdblkind=3
    ivtype='long', ivsize=8, nvtype='double', nvsize=8, Off_t='off_t', lseeksize=8
    alignbytes=8, prototype=define
  Linker and Libraries:
    ld='cc', ldflags =' -fstack-protector-strong -L/usr/local/lib'
    libpth=/usr/local/lib /usr/lib/gcc/x86_64-linux-gnu/5/include-fixed /usr/include/x86_64-linux-gnu /usr/lib /lib/x86_64-linux-gnu /lib/../lib /usr/lib/x86_64-linux-gnu /usr/lib/../lib /lib
    libs=-lpthread -lnsl -ldl -lm -lcrypt -lutil -lc
    perllibs=-lpthread -lnsl -ldl -lm -lcrypt -lutil -lc
    libc=libc-2.23.so, so=so, useshrplib=false, libperl=libperl.a
    gnulibc_version='2.23'
  Dynamic Linking:
    dlsrc=dl_dlopen.xs, dlext=so, d_dlsymun=undef, ccdlflags='-Wl,-E'
    cccdlflags='-fPIC', lddlflags='-shared -O2 -L/usr/local/lib -fstack-protector-strong'


Characteristics of this binary (from libperl): 
  Compile-time options: HAS_TIMES PERLIO_LAYERS PERL_COPY_ON_WRITE
                        PERL_DONT_CREATE_GVSV
                        PERL_HASH_FUNC_ONE_AT_A_TIME_HARD PERL_MALLOC_WRAP
                        PERL_PRESERVE_IVUV USE_64_BIT_ALL USE_64_BIT_INT
                        USE_LARGE_FILES USE_LOCALE USE_LOCALE_COLLATE
                        USE_LOCALE_CTYPE USE_LOCALE_NUMERIC USE_LOCALE_TIME
                        USE_PERLIO USE_PERL_ATOF
  Locally applied patches:
	Devel::PatchPerl 1.38
  Built under linux
  Compiled at Aug 10 2016 15:26:57
  %ENV:
    PERL5LIB=""
    PERL5OPT=""
    PERL5_CPANPLUS_IS_RUNNING="32007"
    PERL5_CPAN_IS_RUNNING="32007"
    PERLBREW_BASHRC_VERSION="0.76"
    PERLBREW_HOME="/home/andy/.perlbrew"
    PERLBREW_MANPATH="/home/andy/perl5/perlbrew/perls/perl-5.24.0/man"
    PERLBREW_PATH="/home/andy/perl5/perlbrew/bin:/home/andy/perl5/perlbrew/perls/perl-5.24.0/bin"
    PERLBREW_PERL="perl-5.24.0"
    PERLBREW_ROOT="/home/andy/perl5/perlbrew"
    PERLBREW_VERSION="0.76"
  @INC:
    /home/andy/perl5/perlbrew/perls/perl-5.24.0/lib/site_perl/5.24.0/x86_64-linux
    /home/andy/perl5/perlbrew/perls/perl-5.24.0/lib/site_perl/5.24.0
    /home/andy/perl5/perlbrew/perls/perl-5.24.0/lib/5.24.0/x86_64-linux
    /home/andy/perl5/perlbrew/perls/perl-5.24.0/lib/5.24.0
    .