DBIx-Class-Schema-Loader v0.07053 Perl 5 v5.32.0 amd64-freebsd
- Status
- Pass
- From
- Chris Williams (BINGOS)
- Dist
-
DBIx-Class-Schema-Loader v0.07053
- Platform
- Perl 5 v5.32.0 amd64-freebsd
- Date
- 2025-03-22 17:36:00
- ID
- 1ed24e9c-0744-11f0-98b0-b3c3213a625c
This distribution has been tested as part of the CPAN Testers
project, supporting the Perl programming language. See
http://wiki.cpantesters.org/ for more information or email
questions to cpan-testers-discuss@perl.org
--
Dear VEESH,
This is a computer-generated error report created automatically by
CPANPLUS, version 0.9914. Testers personal comments may appear
at the end of this report.
Thank you for uploading your work to CPAN. Congratulations!
All tests were successful.
TEST RESULTS:
Below is the error stack from stage 'make test':
PERL_DL_NONLAZY=1 "/usr/home/cpan/pit/bare/perl-5.32.0/bin/perl" "-MExtUtils::Command::MM" "-MTest::Harness" "-e" "undef *Test::Harness::Switches; test_harness(0, 'blib/lib', 'blib/arch')" t/*.t t/*/*.t t/*/*/*.t
t/01use.t ............................... ok
t/10_01sqlite_common.t .................. ok
t/10_02mysql_common.t ................... skipped: requirements not satisfied: DBD::mysql as well as the following group(s) of environment variables: DBICTEST_MYSQL_DSN/..._USER/..._PASS
t/10_03pg_common.t ...................... skipped: requirements not satisfied: DBD::Pg~2.009002 as well as the following group(s) of environment variables: DBICTEST_PG_DSN/..._USER/..._PASS
t/10_04db2_common.t ..................... skipped: requirements not satisfied: DBD::DB2 as well as the following group(s) of environment variables: DBICTEST_DB2_DSN/..._USER/..._PASS
t/10_05ora_common.t ..................... skipped: requirements not satisfied: DBD::Oracle~1.24 Math::Base36~0.07 as well as the following group(s) of environment variables: DBICTEST_ORA_DSN/..._USER/..._PASS
t/10_06sybase_common.t .................. skipped: requirements not satisfied: DBD::Sybase as well as the following group(s) of environment variables: DBICTEST_SYBASE_DSN/..._USER/..._PASS
t/10_07mssql_common.t ................... skipped: You need to set the DBICTEST_MSSQL_DSN, _USER and _PASS and/or the DBICTEST_MSSQL_ODBC_DSN, _USER and _PASS environment variables
t/10_08sqlanywhere_common.t ............. skipped: You need to set the DBICTEST_SQLANYWHERE_DSN, _USER and _PASS and/or the DBICTEST_SQLANYWHERE_ODBC_DSN, _USER and _PASS environment variables
t/10_09firebird_common.t ................ skipped: You need to set the DBICTEST_FIREBIRD_DSN, _USER and _PASS and/or the DBICTEST_FIREBIRD_ODBC_DSN, _USER and _PASS and/or the DBICTEST_FIREBIRD_INTERBASE_DSN, _USER and _PASS environment variables
t/10_10informix_common.t ................ skipped: requirements not satisfied: DBD::Informix as well as the following group(s) of environment variables: DBICTEST_INFORMIX_DSN/..._USER/..._PASS
t/10_11msaccess_common.t ................ skipped: You need to set the DBICTEST_MSACCESS_ODBC_DSN, _USER and _PASS and/or the DBICTEST_MSACCESS_ADO_DSN, _USER and _PASS environment variables
t/20invocations.t ....................... ok
t/21misc_fatal.t ........................ ok
t/22dump.t .............................. ok
t/23dumpmore.t .......................... ok
t/24loader_subclass.t ................... ok
t/25backcompat.t ........................ ok
t/26dump_use_moose.t .................... skipped: requirements not satisfied: Moose~1.12 MooseX::MarkAsMethods~0.13 MooseX::NonMoose~0.25 namespace::autoclean~0.09 (see DBIx::Class::Schema::Loader::Optional::Dependencies documentation for details)
t/27filter_generated.t .................. ok
t/30_01comments.t ....................... ok
t/30_02bad_comment_table.t .............. ok
t/30_03no_comment_table.t ............... ok
t/40overwrite_modifications.t ........... ok
t/45relationships.t ..................... ok
t/46relationships_multi_m2m.t ........... ok
t/50rt59849.t ........................... ok
t/60dbicdump_config.t ................... skipped: requirements not satisfied: Config::General (see DBIx::Class::Schema::Loader::Optional::Dependencies documentation for details)
t/65dbicdump_invocations.t .............. ok
t/70schema_base_dispatched.t ............ ok
t/80split_name.t ........................ ok
t/90bug_58_mro.t ........................ skipped: perl 5.8 required for this test
t/backcompat/0.04006/10sqlite_common.t .. skipped: requirements not satisfied: the following group(s) of environment variables: SCHEMA_LOADER_TESTS_BACKCOMPAT
t/backcompat/0.04006/11mysql_common.t ... skipped: requirements not satisfied: DBD::mysql as well as the following group(s) of environment variables: DBICTEST_MYSQL_DSN/..._USER/..._PASS and SCHEMA_LOADER_TESTS_BACKCOMPAT
t/backcompat/0.04006/12pg_common.t ...... skipped: requirements not satisfied: DBD::Pg~2.009002 as well as the following group(s) of environment variables: DBICTEST_PG_DSN/..._USER/..._PASS and SCHEMA_LOADER_TESTS_BACKCOMPAT
t/backcompat/0.04006/13db2_common.t ..... skipped: requirements not satisfied: DBD::DB2 as well as the following group(s) of environment variables: DBICTEST_DB2_DSN/..._USER/..._PASS and SCHEMA_LOADER_TESTS_BACKCOMPAT
t/backcompat/0.04006/14ora_common.t ..... skipped: requirements not satisfied: DBD::Oracle~1.24 Math::Base36~0.07 as well as the following group(s) of environment variables: DBICTEST_ORA_DSN/..._USER/..._PASS and SCHEMA_LOADER_TESTS_BACKCOMPAT
t/backcompat/0.04006/20invocations.t .... skipped: requirements not satisfied: the following group(s) of environment variables: SCHEMA_LOADER_TESTS_BACKCOMPAT
t/backcompat/0.04006/21misc_fatal.t ..... skipped: requirements not satisfied: the following group(s) of environment variables: SCHEMA_LOADER_TESTS_BACKCOMPAT
t/backcompat/0.04006/22dump.t ........... skipped: requirements not satisfied: the following group(s) of environment variables: SCHEMA_LOADER_TESTS_BACKCOMPAT
t/backcompat/0.04006/23dumpmore.t ....... skipped: requirements not satisfied: the following group(s) of environment variables: SCHEMA_LOADER_TESTS_BACKCOMPAT
All tests successful.
Test Summary Report
-------------------
t/10_01sqlite_common.t (Wstat: 0 Tests: 283 Failed: 0)
TODO passed: 283
Files=41, Tests=1337, 88 wallclock secs ( 0.27 usr 0.37 sys + 58.80 cusr 26.10 csys = 85.53 CPU)
Result: PASS
PREREQUISITES:
Here is a list of prerequisites you specified and versions we
managed to load:
Module Name Have Want
Carp::Clan 6.08 0
Class::Accessor::Grouped 0.10014 0.10008
Class::C3::Componentised 1.001002 1.0008
Class::Inspector 1.36 1.27
Class::Unload 0.11 0.07
DBD::SQLite 1.76 1.29
DBIx::Class 0.082844 0.08127
Data::Dump 1.25 1.06
Digest::MD5 2.55_01 2.36
Exporter 5.74 5.63
ExtUtils::MakeMaker 7.70 0
File::Path 2.18 2.07
File::Temp 0.2311 0.16
Hash::Merge 0.302 0.12
Lingua::EN::Inflect::Number 1.12 1.1
Lingua::EN::Inflect::Phrase 0.20 0.15
Lingua::EN::Tagger 0.31 0.23
List::Util 1.55 1.33
MRO::Compat 0.15 0.09
Scope::Guard 0.21 0.20
String::CamelCase 0.04 0.04
String::ToIdentifier::EN 0.12 0.05
Sub::Util 1.55 1.40
Test::Deep 1.204 0.107
Test::Differences 0.71 0.60
Test::Exception 0.43 0.31
Test::More 1.302198 0.94
Test::Warn 0.37 0.21
Try::Tiny 0.32 0
curry 2.000001 1.000000
namespace::clean 0.27 0.23
Perl module toolchain versions installed:
Module Name Have
CPANPLUS 0.9914
CPANPLUS::Dist::Build 0.90
Cwd 3.78
ExtUtils::CBuilder 0.280236
ExtUtils::Command 7.70
ExtUtils::Install 2.22
ExtUtils::MakeMaker 7.70
ExtUtils::Manifest 1.75
ExtUtils::ParseXS 3.51
File::Spec 3.78
Module::Build 0.4234
Pod::Parser 0
Pod::Simple 3.40
Test2 1.302198
Test::Harness 3.48
Test::More 1.302198
version 0.9930
******************************** NOTE ********************************
The comments above are created mechanically, possibly without manual
checking by the sender. As there are many people performing automatic
tests on each upload to CPAN, it is likely that you will receive
identical messages about the same problem.
If you believe that the message is mistaken, please reply to the first
one with correction and/or additional informations, and do not take
it personally. We appreciate your patience. :)
**********************************************************************
Additional comments:
This report was machine-generated by CPANPLUS::Dist::YACSmoke 1.08.
Powered by minismokebox version 0.68
CPANPLUS is prefering Build.PL
------------------------------
ENVIRONMENT AND OTHER CONTEXT
------------------------------
Environment variables:
AUTOMATED_TESTING = 1
NONINTERACTIVE_TESTING = 1
PATH = /usr/home/cpan/pit/bare/conf/perl-5.32.0/.cpanplus/5.32.0/build/glGNykVCZr/DBIx-Class-Schema-Loader-0.07053/blib/script:/sbin:/bin:/usr/sbin:/usr/bin:/usr/local/sbin:/usr/local/bin:/home/cpan/bin
PERL5LIB = /usr/home/cpan/pit/jail/VJzfmbbIOy/lib/perl5:/usr/home/cpan/pit/bare/conf/perl-5.32.0/.cpanplus/5.32.0/build/glGNykVCZr/DBIx-Class-Schema-Loader-0.07053/blib/lib:/usr/home/cpan/pit/bare/conf/perl-5.32.0/.cpanplus/5.32.0/build/glGNykVCZr/DBIx-Class-Schema-Loader-0.07053/blib/arch
PERL5_CPANPLUS_IS_RUNNING = 2826
PERL5_CPANPLUS_IS_VERSION = 0.9914
PERL5_MINISMOKEBOX = 0.68
PERL5_YACSMOKE_BASE = /usr/home/cpan/pit/bare/conf/perl-5.32.0
PERL_EXTUTILS_AUTOINSTALL = --defaultdeps
PERL_LOCAL_LIB_ROOT = /usr/home/cpan/pit/jail/VJzfmbbIOy
PERL_MB_OPT = --install_base "/usr/home/cpan/pit/jail/VJzfmbbIOy"
PERL_MM_OPT = INSTALL_BASE=/usr/home/cpan/pit/jail/VJzfmbbIOy
PERL_MM_USE_DEFAULT = 1
SHELL = /usr/local/bin/bash
TERM = screen
Perl special variables (and OS-specific diagnostics, for MSWin32):
Perl: $^X = /usr/home/cpan/pit/bare/perl-5.32.0/bin/perl
UID: $< = 1002
EUID: $> = 1002
GID: $( = 1002 1002
EGID: $) = 1002 1002
-------------------------------
--
Summary of my perl5 (revision 5 version 32 subversion 0) configuration:
Platform:
osname=freebsd
osvers=12.4-release-p1
archname=amd64-freebsd
uname='freebsd fforc 12.4-release-p1 freebsd 12.4-release-p1 generic amd64 '
config_args='-des -Dprefix=/usr/home/cpan/pit/bare/perl-5.32.0'
hint=recommended
useposix=true
d_sigaction=define
useithreads=undef
usemultiplicity=undef
use64bitint=define
use64bitall=define
uselongdouble=undef
usemymalloc=n
default_inc_excludes_dot=define
bincompat5005=undef
Compiler:
cc='cc'
ccflags ='-DHAS_FPSETMASK -DHAS_FLOATINGPOINT_H -fno-strict-aliasing -pipe -fstack-protector-strong -I/usr/local/include'
optimize='-O2'
cppflags='-DHAS_FPSETMASK -DHAS_FLOATINGPOINT_H -fno-strict-aliasing -pipe -fstack-protector-strong -I/usr/local/include'
ccversion=''
gccversion='FreeBSD Clang 13.0.0 (git@github.com:llvm/llvm-project.git llvmorg-13.0.0-0-gd7b669b3a303)'
gccosandvers=''
intsize=4
longsize=8
ptrsize=8
doublesize=8
byteorder=12345678
doublekind=3
d_longlong=define
longlongsize=8
d_longdbl=define
longdblsize=16
longdblkind=3
ivtype='long'
ivsize=8
nvtype='double'
nvsize=8
Off_t='off_t'
lseeksize=8
alignbytes=8
prototype=define
Linker and Libraries:
ld='cc'
ldflags ='-Wl,-E -fstack-protector-strong -L/usr/local/lib'
libpth=/usr/lib /usr/local/lib /usr/lib/clang/13.0.0/lib /usr/lib
libs=-lpthread -lgdbm -ldl -lm -lcrypt -lutil -lc
perllibs=-lpthread -ldl -lm -lcrypt -lutil -lc
libc=
so=so
useshrplib=false
libperl=libperl.a
gnulibc_version=''
Dynamic Linking:
dlsrc=dl_dlopen.xs
dlext=so
d_dlsymun=undef
ccdlflags=' '
cccdlflags='-DPIC -fPIC'
lddlflags='-shared -L/usr/local/lib -fstack-protector-strong'
Characteristics of this binary (from libperl):
Compile-time options:
HAS_TIMES
PERLIO_LAYERS
PERL_COPY_ON_WRITE
PERL_DONT_CREATE_GVSV
PERL_MALLOC_WRAP
PERL_OP_PARENT
PERL_PRESERVE_IVUV
USE_64_BIT_ALL
USE_64_BIT_INT
USE_LARGE_FILES
USE_LOCALE
USE_LOCALE_COLLATE
USE_LOCALE_CTYPE
USE_LOCALE_NUMERIC
USE_LOCALE_TIME
USE_PERLIO
USE_PERL_ATOF
Locally applied patches:
Devel::PatchPerl 2.08
Built under freebsd
Compiled at Mar 30 2023 09:43:19
%ENV:
PERL5LIB="/usr/home/cpan/pit/jail/VJzfmbbIOy/lib/perl5:/usr/home/cpan/pit/bare/conf/perl-5.32.0/.cpanplus/5.32.0/build/glGNykVCZr/DBIx-Class-Schema-Loader-0.07053/blib/lib:/usr/home/cpan/pit/bare/conf/perl-5.32.0/.cpanplus/5.32.0/build/glGNykVCZr/DBIx-Class-Schema-Loader-0.07053/blib/arch"
PERL5_CPANPLUS_IS_RUNNING="2826"
PERL5_CPANPLUS_IS_VERSION="0.9914"
PERL5_MINISMOKEBOX="0.68"
PERL5_YACSMOKE_BASE="/usr/home/cpan/pit/bare/conf/perl-5.32.0"
PERL_EXTUTILS_AUTOINSTALL="--defaultdeps"
PERL_LOCAL_LIB_ROOT="/usr/home/cpan/pit/jail/VJzfmbbIOy"
PERL_MB_OPT="--install_base "/usr/home/cpan/pit/jail/VJzfmbbIOy""
PERL_MM_OPT="INSTALL_BASE=/usr/home/cpan/pit/jail/VJzfmbbIOy"
PERL_MM_USE_DEFAULT="1"
@INC:
/usr/home/cpan/pit/jail/VJzfmbbIOy/lib/perl5/5.32.0/amd64-freebsd
/usr/home/cpan/pit/jail/VJzfmbbIOy/lib/perl5/5.32.0
/usr/home/cpan/pit/jail/VJzfmbbIOy/lib/perl5/amd64-freebsd
/usr/home/cpan/pit/jail/VJzfmbbIOy/lib/perl5
/usr/home/cpan/pit/bare/conf/perl-5.32.0/.cpanplus/5.32.0/build/glGNykVCZr/DBIx-Class-Schema-Loader-0.07053/blib/lib
/usr/home/cpan/pit/bare/conf/perl-5.32.0/.cpanplus/5.32.0/build/glGNykVCZr/DBIx-Class-Schema-Loader-0.07053/blib/arch
/usr/home/cpan/pit/bare/perl-5.32.0/lib/site_perl/5.32.0/amd64-freebsd
/usr/home/cpan/pit/bare/perl-5.32.0/lib/site_perl/5.32.0
/usr/home/cpan/pit/bare/perl-5.32.0/lib/5.32.0/amd64-freebsd
/usr/home/cpan/pit/bare/perl-5.32.0/lib/5.32.0