Report for AnyEvent-MySQL-v1.1.2

Back
From: metabase:user:322078bc-2aae-11df-837a-5e0a49663a4f
Subject: PASS AnyEvent-MySQL-v1.1.2 v5.20.0 OpenBSD
Date: 2014-05-28T04:47:06Z

This distribution has been tested as part of the CPAN Testers
project, supporting the Perl programming language.  See
http://wiki.cpantesters.org/ for more information or email
questions to cpan-testers-discuss@perl.org


--

Dear CINDY,

This is a computer-generated error report created automatically by
CPANPLUS, version 0.9148. Testers personal comments may appear
at the end of this report.


Thank you for uploading your work to CPAN.  Congratulations!
All tests were successful.

TEST RESULTS:

Below is the error stack from stage 'make test':

PERL_DL_NONLAZY=1 /home/cpan/pit/thr/perl-5.20.0/bin/perl "-MExtUtils::Command::MM" "-MTest::Harness" "-e" "undef *Test::Harness::Switches; test_harness(0, 'blib/lib', 'blib/arch')" t/*.t
given is experimental at /home/cpan/pit/thr/conf/perl-5.20.0/.cpanplus/5.20.0/build/AnyEvent-MySQL-v1.1.2/blib/lib/AnyEvent/MySQL/Imp.pm line 202.
when is experimental at /home/cpan/pit/thr/conf/perl-5.20.0/.cpanplus/5.20.0/build/AnyEvent-MySQL-v1.1.2/blib/lib/AnyEvent/MySQL/Imp.pm line 203.
when is experimental at /home/cpan/pit/thr/conf/perl-5.20.0/.cpanplus/5.20.0/build/AnyEvent-MySQL-v1.1.2/blib/lib/AnyEvent/MySQL/Imp.pm line 211.
when is experimental at /home/cpan/pit/thr/conf/perl-5.20.0/.cpanplus/5.20.0/build/AnyEvent-MySQL-v1.1.2/blib/lib/AnyEvent/MySQL/Imp.pm line 219.
when is experimental at /home/cpan/pit/thr/conf/perl-5.20.0/.cpanplus/5.20.0/build/AnyEvent-MySQL-v1.1.2/blib/lib/AnyEvent/MySQL/Imp.pm line 227.
when is experimental at /home/cpan/pit/thr/conf/perl-5.20.0/.cpanplus/5.20.0/build/AnyEvent-MySQL-v1.1.2/blib/lib/AnyEvent/MySQL/Imp.pm line 235.
when is experimental at /home/cpan/pit/thr/conf/perl-5.20.0/.cpanplus/5.20.0/build/AnyEvent-MySQL-v1.1.2/blib/lib/AnyEvent/MySQL/Imp.pm line 243.
when is experimental at /home/cpan/pit/thr/conf/perl-5.20.0/.cpanplus/5.20.0/build/AnyEvent-MySQL-v1.1.2/blib/lib/AnyEvent/MySQL/Imp.pm line 246.
when is experimental at /home/cpan/pit/thr/conf/perl-5.20.0/.cpanplus/5.20.0/build/AnyEvent-MySQL-v1.1.2/blib/lib/AnyEvent/MySQL/Imp.pm line 249.
when is experimental at /home/cpan/pit/thr/conf/perl-5.20.0/.cpanplus/5.20.0/build/AnyEvent-MySQL-v1.1.2/blib/lib/AnyEvent/MySQL/Imp.pm line 253.
when is experimental at /home/cpan/pit/thr/conf/perl-5.20.0/.cpanplus/5.20.0/build/AnyEvent-MySQL-v1.1.2/blib/lib/AnyEvent/MySQL/Imp.pm line 257.
when is experimental at /home/cpan/pit/thr/conf/perl-5.20.0/.cpanplus/5.20.0/build/AnyEvent-MySQL-v1.1.2/blib/lib/AnyEvent/MySQL/Imp.pm line 261.
when is experimental at /home/cpan/pit/thr/conf/perl-5.20.0/.cpanplus/5.20.0/build/AnyEvent-MySQL-v1.1.2/blib/lib/AnyEvent/MySQL/Imp.pm line 265.
when is experimental at /home/cpan/pit/thr/conf/perl-5.20.0/.cpanplus/5.20.0/build/AnyEvent-MySQL-v1.1.2/blib/lib/AnyEvent/MySQL/Imp.pm line 269.
when is experimental at /home/cpan/pit/thr/conf/perl-5.20.0/.cpanplus/5.20.0/build/AnyEvent-MySQL-v1.1.2/blib/lib/AnyEvent/MySQL/Imp.pm line 273.
when is experimental at /home/cpan/pit/thr/conf/perl-5.20.0/.cpanplus/5.20.0/build/AnyEvent-MySQL-v1.1.2/blib/lib/AnyEvent/MySQL/Imp.pm line 276.
when is experimental at /home/cpan/pit/thr/conf/perl-5.20.0/.cpanplus/5.20.0/build/AnyEvent-MySQL-v1.1.2/blib/lib/AnyEvent/MySQL/Imp.pm line 291.
given is experimental at /home/cpan/pit/thr/conf/perl-5.20.0/.cpanplus/5.20.0/build/AnyEvent-MySQL-v1.1.2/blib/lib/AnyEvent/MySQL/Imp.pm line 319.
when is experimental at /home/cpan/pit/thr/conf/perl-5.20.0/.cpanplus/5.20.0/build/AnyEvent-MySQL-v1.1.2/blib/lib/AnyEvent/MySQL/Imp.pm line 320.
when is experimental at /home/cpan/pit/thr/conf/perl-5.20.0/.cpanplus/5.20.0/build/AnyEvent-MySQL-v1.1.2/blib/lib/AnyEvent/MySQL/Imp.pm line 328.
when is experimental at /home/cpan/pit/thr/conf/perl-5.20.0/.cpanplus/5.20.0/build/AnyEvent-MySQL-v1.1.2/blib/lib/AnyEvent/MySQL/Imp.pm line 331.
when is experimental at /home/cpan/pit/thr/conf/perl-5.20.0/.cpanplus/5.20.0/build/AnyEvent-MySQL-v1.1.2/blib/lib/AnyEvent/MySQL/Imp.pm line 334.
when is experimental at /home/cpan/pit/thr/conf/perl-5.20.0/.cpanplus/5.20.0/build/AnyEvent-MySQL-v1.1.2/blib/lib/AnyEvent/MySQL/Imp.pm line 337.
when is experimental at /home/cpan/pit/thr/conf/perl-5.20.0/.cpanplus/5.20.0/build/AnyEvent-MySQL-v1.1.2/blib/lib/AnyEvent/MySQL/Imp.pm line 340.
when is experimental at /home/cpan/pit/thr/conf/perl-5.20.0/.cpanplus/5.20.0/build/AnyEvent-MySQL-v1.1.2/blib/lib/AnyEvent/MySQL/Imp.pm line 343.
when is experimental at /home/cpan/pit/thr/conf/perl-5.20.0/.cpanplus/5.20.0/build/AnyEvent-MySQL-v1.1.2/blib/lib/AnyEvent/MySQL/Imp.pm line 346.
when is experimental at /home/cpan/pit/thr/conf/perl-5.20.0/.cpanplus/5.20.0/build/AnyEvent-MySQL-v1.1.2/blib/lib/AnyEvent/MySQL/Imp.pm line 350.
when is experimental at /home/cpan/pit/thr/conf/perl-5.20.0/.cpanplus/5.20.0/build/AnyEvent-MySQL-v1.1.2/blib/lib/AnyEvent/MySQL/Imp.pm line 354.
when is experimental at /home/cpan/pit/thr/conf/perl-5.20.0/.cpanplus/5.20.0/build/AnyEvent-MySQL-v1.1.2/blib/lib/AnyEvent/MySQL/Imp.pm line 358.
when is experimental at /home/cpan/pit/thr/conf/perl-5.20.0/.cpanplus/5.20.0/build/AnyEvent-MySQL-v1.1.2/blib/lib/AnyEvent/MySQL/Imp.pm line 362.
when is experimental at /home/cpan/pit/thr/conf/perl-5.20.0/.cpanplus/5.20.0/build/AnyEvent-MySQL-v1.1.2/blib/lib/AnyEvent/MySQL/Imp.pm line 366.
when is experimental at /home/cpan/pit/thr/conf/perl-5.20.0/.cpanplus/5.20.0/build/AnyEvent-MySQL-v1.1.2/blib/lib/AnyEvent/MySQL/Imp.pm line 370.
when is experimental at /home/cpan/pit/thr/conf/perl-5.20.0/.cpanplus/5.20.0/build/AnyEvent-MySQL-v1.1.2/blib/lib/AnyEvent/MySQL/Imp.pm line 373.
when is experimental at /home/cpan/pit/thr/conf/perl-5.20.0/.cpanplus/5.20.0/build/AnyEvent-MySQL-v1.1.2/blib/lib/AnyEvent/MySQL/Imp.pm line 392.
# Testing AnyEvent::MySQL v1.1.2, Perl 5.020000, /home/cpan/pit/thr/perl-5.20.0/bin/perl
t/00-load.t ....... ok
t/manifest.t ...... skipped: Author tests not required for installation
t/pod-coverage.t .. skipped: These tests are only for authors
t/pod.t ........... skipped: These tests are only for authors
All tests successful.
Files=4, Tests=1,  0 wallclock secs ( 0.02 usr  0.02 sys +  0.16 cusr  0.06 csys =  0.26 CPU)
Result: PASS


PREREQUISITES:

Here is a list of prerequisites you specified and versions we
managed to load:

	  Module Name                        Have     Want
	  AnyEvent                           7.07        0
	  Devel::StackTrace                  1.32        0
	  Digest::SHA1                       2.13        0
	  ExtUtils::MakeMaker                6.98        0
	  Guard                             1.022        0
	  Test::More                     1.001003        0

Perl module toolchain versions installed:
	Module Name                        Have
	CPANPLUS                         0.9148
	CPANPLUS::Dist::Build              0.76
	Cwd                                3.47
	ExtUtils::CBuilder             0.280216
	ExtUtils::Command                  1.18
	ExtUtils::Install                  1.67
	ExtUtils::MakeMaker                6.98
	ExtUtils::Manifest                 1.63
	ExtUtils::ParseXS                  3.24
	File::Spec                         3.47
	Module::Build                    0.4205
	Pod::Parser                        1.62
	Pod::Simple                        3.28
	Test::Harness                      3.30
	Test::More                     1.001003
	version                          0.9908

******************************** NOTE ********************************
The comments above are created mechanically, possibly without manual
checking by the sender.  As there are many people performing automatic
tests on each upload to CPAN, it is likely that you will receive
identical messages about the same problem.

If you believe that the message is mistaken, please reply to the first
one with correction and/or additional informations, and do not take
it personally.  We appreciate your patience. :)
**********************************************************************

Additional comments:


This report was machine-generated by CPANPLUS::Dist::YACSmoke 0.90.
Powered by minismokebox version 0.58

------------------------------
ENVIRONMENT AND OTHER CONTEXT
------------------------------

Environment variables:

    AUTOMATED_TESTING = 1
    NONINTERACTIVE_TESTING = 1
    PATH = /home/cpan/bin:/bin:/sbin:/usr/bin:/usr/sbin:/usr/X11R6/bin:/usr/local/bin:/usr/local/sbin:/usr/games:.
    PERL5LIB = :/home/cpan/pit/thr/conf/perl-5.20.0/.cpanplus/5.20.0/build/AnyEvent-7.07/blib/lib:/home/cpan/pit/thr/conf/perl-5.20.0/.cpanplus/5.20.0/build/AnyEvent-7.07/blib/arch:/home/cpan/pit/thr/conf/perl-5.20.0/.cpanplus/5.20.0/build/Devel-StackTrace-1.32/blib/lib:/home/cpan/pit/thr/conf/perl-5.20.0/.cpanplus/5.20.0/build/Devel-StackTrace-1.32/blib/arch:/home/cpan/pit/thr/conf/perl-5.20.0/.cpanplus/5.20.0/build/Digest-SHA1-2.13/blib/lib:/home/cpan/pit/thr/conf/perl-5.20.0/.cpanplus/5.20.0/build/Digest-SHA1-2.13/blib/arch:/home/cpan/pit/thr/conf/perl-5.20.0/.cpanplus/5.20.0/build/Guard-1.022/blib/lib:/home/cpan/pit/thr/conf/perl-5.20.0/.cpanplus/5.20.0/build/Guard-1.022/blib/arch:/home/cpan/pit/thr/conf/perl-5.20.0/.cpanplus/5.20.0/build/AnyEvent-MySQL-v1.1.2/blib/lib:/home/cpan/pit/thr/conf/perl-5.20.0/.cpanplus/5.20.0/build/AnyEvent-MySQL-v1.1.2/blib/arch
    PERL5_CPANPLUS_IS_RUNNING = 5020
    PERL5_CPANPLUS_IS_VERSION = 0.9148
    PERL5_MINISMOKEBOX = 0.58
    PERL5_YACSMOKE_BASE = /home/cpan/pit/thr/conf/perl-5.20.0
    PERL_EXTUTILS_AUTOINSTALL = --defaultdeps
    PERL_MM_USE_DEFAULT = 1
    SHELL = /usr/local/bin/bash
    TERM = screen

Perl special variables (and OS-specific diagnostics, for MSWin32):

    Perl: $^X = /home/cpan/pit/thr/perl-5.20.0/bin/perl
    UID:  $<  = 1001
    EUID: $>  = 1001
    GID:  $(  = 1001 1001
    EGID: $)  = 1001 1001


-------------------------------


--

Summary of my perl5 (revision 5 version 20 subversion 0) configuration:
   
  Platform:
    osname=openbsd, osvers=5.4, archname=OpenBSD.amd64-openbsd-thread-multi
    uname='openbsd oarcock.bingosnet.co.uk 5.4 generic#37 amd64 '
    config_args='-des -Dprefix=/home/cpan/pit/thr/perl-5.20.0 -Dusethreads'
    hint=recommended, useposix=true, d_sigaction=define
    useithreads=define, usemultiplicity=define
    use64bitint=define, use64bitall=define, uselongdouble=undef
    usemymalloc=y, bincompat5005=undef
  Compiler:
    cc='cc', ccflags ='-pthread -fno-strict-aliasing -pipe -fstack-protector -I/usr/local/include',
    optimize='-O2',
    cppflags='-pthread -fno-strict-aliasing -pipe -fstack-protector -I/usr/local/include'
    ccversion='', gccversion='4.2.1 20070719 ', gccosandvers='openbsd5.4'
    intsize=4, longsize=8, ptrsize=8, doublesize=8, byteorder=12345678
    d_longlong=define, longlongsize=8, d_longdbl=define, longdblsize=16
    ivtype='long', ivsize=8, nvtype='double', nvsize=8, Off_t='off_t', lseeksize=8
    alignbytes=8, prototype=define
  Linker and Libraries:
    ld='cc', ldflags ='-pthread -Wl,-E  -fstack-protector -L/usr/local/lib'
    libpth=/usr/lib /usr/local/lib
    libs=-lgdbm -lm -lutil -lc
    perllibs=-lm -lutil -lc
    libc=/usr/lib/libc.so.69.0, so=so, useshrplib=false, libperl=libperl.a
    gnulibc_version=''
  Dynamic Linking:
    dlsrc=dl_dlopen.xs, dlext=so, d_dlsymun=undef, ccdlflags=' '
    cccdlflags='-DPIC -fPIC ', lddlflags='-shared -fPIC  -L/usr/local/lib -fstack-protector'


Characteristics of this binary (from libperl): 
  Compile-time options: HAS_TIMES MULTIPLICITY MYMALLOC PERLIO_LAYERS
                        PERL_DONT_CREATE_GVSV
                        PERL_HASH_FUNC_ONE_AT_A_TIME_HARD
                        PERL_IMPLICIT_CONTEXT PERL_MALLOC_WRAP
                        PERL_NEW_COPY_ON_WRITE PERL_PRESERVE_IVUV
                        USE_64_BIT_ALL USE_64_BIT_INT USE_ITHREADS
                        USE_LARGE_FILES USE_LOCALE USE_LOCALE_COLLATE
                        USE_LOCALE_CTYPE USE_LOCALE_NUMERIC USE_PERLIO
                        USE_PERL_ATOF USE_REENTRANT_API
  Built under openbsd
  Compiled at May 27 2014 22:00:47
  %ENV:
    PERL5LIB=":/home/cpan/pit/thr/conf/perl-5.20.0/.cpanplus/5.20.0/build/AnyEvent-7.07/blib/lib:/home/cpan/pit/thr/conf/perl-5.20.0/.cpanplus/5.20.0/build/AnyEvent-7.07/blib/arch:/home/cpan/pit/thr/conf/perl-5.20.0/.cpanplus/5.20.0/build/Devel-StackTrace-1.32/blib/lib:/home/cpan/pit/thr/conf/perl-5.20.0/.cpanplus/5.20.0/build/Devel-StackTrace-1.32/blib/arch:/home/cpan/pit/thr/conf/perl-5.20.0/.cpanplus/5.20.0/build/Digest-SHA1-2.13/blib/lib:/home/cpan/pit/thr/conf/perl-5.20.0/.cpanplus/5.20.0/build/Digest-SHA1-2.13/blib/arch:/home/cpan/pit/thr/conf/perl-5.20.0/.cpanplus/5.20.0/build/Guard-1.022/blib/lib:/home/cpan/pit/thr/conf/perl-5.20.0/.cpanplus/5.20.0/build/Guard-1.022/blib/arch:/home/cpan/pit/thr/conf/perl-5.20.0/.cpanplus/5.20.0/build/AnyEvent-MySQL-v1.1.2/blib/lib:/home/cpan/pit/thr/conf/perl-5.20.0/.cpanplus/5.20.0/build/AnyEvent-MySQL-v1.1.2/blib/arch"
    PERL5_CPANPLUS_IS_RUNNING="5020"
    PERL5_CPANPLUS_IS_VERSION="0.9148"
    PERL5_MINISMOKEBOX="0.58"
    PERL5_YACSMOKE_BASE="/home/cpan/pit/thr/conf/perl-5.20.0"
    PERL_EXTUTILS_AUTOINSTALL="--defaultdeps"
    PERL_MM_USE_DEFAULT="1"
  @INC:
    /home/cpan/pit/thr/conf/perl-5.20.0/.cpanplus/5.20.0/build/AnyEvent-7.07/blib/lib
    /home/cpan/pit/thr/conf/perl-5.20.0/.cpanplus/5.20.0/build/AnyEvent-7.07/blib/arch
    /home/cpan/pit/thr/conf/perl-5.20.0/.cpanplus/5.20.0/build/Devel-StackTrace-1.32/blib/lib
    /home/cpan/pit/thr/conf/perl-5.20.0/.cpanplus/5.20.0/build/Devel-StackTrace-1.32/blib/arch
    /home/cpan/pit/thr/conf/perl-5.20.0/.cpanplus/5.20.0/build/Digest-SHA1-2.13/blib/lib
    /home/cpan/pit/thr/conf/perl-5.20.0/.cpanplus/5.20.0/build/Digest-SHA1-2.13/blib/arch
    /home/cpan/pit/thr/conf/perl-5.20.0/.cpanplus/5.20.0/build/Guard-1.022/blib/lib
    /home/cpan/pit/thr/conf/perl-5.20.0/.cpanplus/5.20.0/build/Guard-1.022/blib/arch
    /home/cpan/pit/thr/conf/perl-5.20.0/.cpanplus/5.20.0/build/AnyEvent-MySQL-v1.1.2/blib/lib
    /home/cpan/pit/thr/conf/perl-5.20.0/.cpanplus/5.20.0/build/AnyEvent-MySQL-v1.1.2/blib/arch
    /home/cpan/pit/thr/perl-5.20.0/lib/site_perl/5.20.0/OpenBSD.amd64-openbsd-thread-multi
    /home/cpan/pit/thr/perl-5.20.0/lib/site_perl/5.20.0
    /home/cpan/pit/thr/perl-5.20.0/lib/5.20.0/OpenBSD.amd64-openbsd-thread-multi
    /home/cpan/pit/thr/perl-5.20.0/lib/5.20.0
    .