Back
From: metabase:user:d1ac2ff8-7f34-11e0-ad7d-d635d302c8a1
Subject: PASS Dist-Zilla-Plugin-SpellingCommonMistakesTests-1.001000 v5.14.0 GNU/Linux
Date: 2011-05-16T23:42:11Z
This distribution has been tested as part of the CPAN Testers
project, supporting the Perl programming language. See
http://wiki.cpantesters.org/ for more information or email
questions to cpan-testers-discuss@perl.org
--
Dear Adam Lesperance,
This is a computer-generated report for Dist-Zilla-Plugin-SpellingCommonMistakesTests-1.001000
on perl 5.14.0, created by CPAN-Reporter-1.1902.
Thank you for uploading your work to CPAN. Congratulations!
All tests were successful.
Sections of this report:
* Tester comments
* Program output
* Prerequisites
* Environment and other context
------------------------------
TESTER COMMENTS
------------------------------
Additional comments from tester:
this report is from an automated smoke testing program
and was not reviewed by a human for accuracy
------------------------------
PROGRAM OUTPUT
------------------------------
Output from './Build test':
t/00-compile.t .................. ok
#
[Bootstrap::lib] lib added to @INC at (eval 4) line 1
#
# perl: v5.14.0 (wanted 5.008) on linux from /home/lonesome/perl5/perlbrew/perls/perl-5.14.0/bin/perl
#
# Dist::Zilla::Plugin::Bootstrap::lib => 0.01023600 (want any version)
# Dist::Zilla::Plugin::InlineFiles => 4.200006 (want any version)
# English => 1.04 (want any version)
# File::Find => 1.19 (want any version)
# File::Temp => 0.22 (want any version)
# Module::Build => 0.38 (want 0.3601)
# Moose => 2.0002 (want any version)
# Pod::Spell::CommonMistakes => 1.000 (want any version)
# Test::More => 0.98 (want 0.88)
# Test::Pod::Spelling::CommonMistakes => 1.000 (want any version)
# utf8 => 1.09 (want any version)
#
# Thanks for using my code. I hope it works for you.
# If not, please try and include this output in the bug report.
# That will help me reproduce the issue and solve you problem.
#
t/000-report-versions-tiny.t .... ok
t/author-critic.t ............... skipped: these tests are for testing by the author
t/release-common_spelling.t ..... skipped: these tests are for release candidate testing
t/release-consistent-version.t .. skipped: these tests are for release candidate testing
t/release-cpan-changes.t ........ skipped: these tests are for release candidate testing
t/release-dist-manifest.t ....... skipped: these tests are for release candidate testing
t/release-distmeta.t ............ skipped: these tests are for release candidate testing
t/release-eol.t ................. skipped: these tests are for release candidate testing
t/release-has-version.t ......... skipped: these tests are for release candidate testing
t/release-kwalitee.t ............ skipped: these tests are for release candidate testing
t/release-minimum-version.t ..... skipped: these tests are for release candidate testing
t/release-no-tabs.t ............. skipped: these tests are for release candidate testing
t/release-pod-coverage.t ........ skipped: these tests are for release candidate testing
t/release-pod-syntax.t .......... skipped: these tests are for release candidate testing
t/release-portability.t ......... skipped: these tests are for release candidate testing
t/release-unused-vars.t ......... skipped: these tests are for release candidate testing
All tests successful.
Files=17, Tests=2, 2 wallclock secs ( 0.04 usr 0.11 sys + 0.70 cusr 0.56 csys = 1.41 CPU)
Result: PASS
------------------------------
PREREQUISITES
------------------------------
Prerequisite modules loaded:
requires:
Module Need Have
----------------------------------- ------ ----------
Dist::Zilla::Plugin::InlineFiles 0 4.200006
Moose 0 2.0002
perl 5.008 5.014000
Pod::Spell::CommonMistakes 0 1.000
Test::Pod::Spelling::CommonMistakes 0 1.000
utf8 0 1.09
build_requires:
Module Need Have
----------------------------------- ------ ----------
Dist::Zilla::Plugin::Bootstrap::lib 0 0.01023600
English 0 1.04
File::Find 0 1.19
File::Temp 0 0.22
Module::Build 0.3601 0.3800
Test::More 0.88 0.98
configure_requires:
Module Need Have
----------------------------------- ------ ----------
Module::Build 0.3601 0.3800
------------------------------
ENVIRONMENT AND OTHER CONTEXT
------------------------------
Environment variables:
AUTOMATED_TESTING = 1
LANG = en_GB.UTF-8
PATH = /home/lonesome/perl5/perlbrew/bin:/home/lonesome/perl5/perlbrew/perls/perl-5.14.0/bin:/usr/local/sbin:/usr/local/bin:/usr/sbin:/usr/bin:/sbin:/bin:/usr/games
PATH_WITHOUT_PERLBREW = /usr/local/sbin:/usr/local/bin:/usr/sbin:/usr/bin:/sbin:/bin:/usr/games
PERL5LIB =
PERL5OPT =
PERL5_CPANPLUS_IS_RUNNING = 8686
PERL5_CPAN_IS_RUNNING = 8686
PERL5_CPAN_IS_RUNNING_IN_RECURSION = 1523,8686
PERLBREW_PATH = /home/lonesome/perl5/perlbrew/bin:/home/lonesome/perl5/perlbrew/perls/perl-5.14.0/bin
PERLBREW_PERL = perl-5.14.0
PERLBREW_ROOT = /home/lonesome/perl5/perlbrew
PERLBREW_VERSION = 0.20
PERL_CR_SMOKER_CURRENT = Dist-Zilla-Plugin-SpellingCommonMistakesTests-1.001000
PERL_EXTUTILS_AUTOINSTALL = --defaultdeps
PERL_MM_USE_DEFAULT = 1
SHELL = /bin/bash
TERM = screen
Perl special variables (and OS-specific diagnostics, for MSWin32):
$^X = /home/lonesome/perl5/perlbrew/perls/perl-5.14.0/bin/perl
$UID/$EUID = 1000 / 1000
$GID = 1000 4 20 24 46 107 108 109 1000
$EGID = 1000 4 20 24 46 107 108 109 1000
Perl module toolchain versions installed:
Module Have
------------------- --------
CPAN 1.9600
Cwd 3.36
ExtUtils::CBuilder 0.280203
ExtUtils::Command 1.17
ExtUtils::Install 1.56
ExtUtils::MakeMaker 6.57_10
ExtUtils::Manifest 1.58
ExtUtils::ParseXS 2.2210
File::Spec 3.33
Module::Build 0.3800
Module::Signature 0.68
Test::Harness 3.23
Test::More 0.98
YAML 0.73
YAML::Syck 1.17
version 0.88
--
Summary of my perl5 (revision 5 version 14 subversion 0) configuration:
Platform:
osname=linux, osvers=2.6.32-31-generic, archname=i686-linux
uname='linux ubuntu-10 2.6.32-31-generic #61-ubuntu smp fri apr 8 18:24:35 utc 2011 i686 gnulinux '
config_args='-de -Dprefix=/home/lonesome/perl5/perlbrew/perls/perl-5.14.0'
hint=recommended, useposix=true, d_sigaction=define
useithreads=undef, usemultiplicity=undef
useperlio=define, d_sfio=undef, uselargefiles=define, usesocks=undef
use64bitint=undef, use64bitall=undef, uselongdouble=undef
usemymalloc=n, bincompat5005=undef
Compiler:
cc='cc', ccflags ='-fno-strict-aliasing -pipe -fstack-protector -I/usr/local/include -D_LARGEFILE_SOURCE -D_FILE_OFFSET_BITS=64',
optimize='-O2',
cppflags='-fno-strict-aliasing -pipe -fstack-protector -I/usr/local/include'
ccversion='', gccversion='4.4.3', gccosandvers=''
intsize=4, longsize=4, ptrsize=4, doublesize=8, byteorder=1234
d_longlong=define, longlongsize=8, d_longdbl=define, longdblsize=12
ivtype='long', ivsize=4, nvtype='double', nvsize=8, Off_t='off_t', lseeksize=8
alignbytes=4, prototype=define
Linker and Libraries:
ld='cc', ldflags =' -fstack-protector -L/usr/local/lib'
libpth=/usr/local/lib /lib/../lib /usr/lib/../lib /lib /usr/lib /usr/lib64
libs=-lnsl -ldl -lm -lcrypt -lutil -lc
perllibs=-lnsl -ldl -lm -lcrypt -lutil -lc
libc=/lib/libc-2.11.1.so, so=so, useshrplib=false, libperl=libperl.a
gnulibc_version='2.11.1'
Dynamic Linking:
dlsrc=dl_dlopen.xs, dlext=so, d_dlsymun=undef, ccdlflags='-Wl,-E'
cccdlflags='-fPIC', lddlflags='-shared -O2 -L/usr/local/lib -fstack-protector'
Characteristics of this binary (from libperl):
Compile-time options: PERL_DONT_CREATE_GVSV PERL_MALLOC_WRAP
PERL_PRESERVE_IVUV USE_LARGE_FILES USE_PERLIO
USE_PERL_ATOF
Built under linux
Compiled at May 16 2011 11:04:40
%ENV:
PERL5LIB=""
PERL5OPT=""
PERL5_CPANPLUS_IS_RUNNING="8686"
PERL5_CPAN_IS_RUNNING="8686"
PERL5_CPAN_IS_RUNNING_IN_RECURSION="1523,8686"
PERLBREW_PATH="/home/lonesome/perl5/perlbrew/bin:/home/lonesome/perl5/perlbrew/perls/perl-5.14.0/bin"
PERLBREW_PERL="perl-5.14.0"
PERLBREW_ROOT="/home/lonesome/perl5/perlbrew"
PERLBREW_VERSION="0.20"
PERL_CR_SMOKER_CURRENT="Dist-Zilla-Plugin-SpellingCommonMistakesTests-1.001000"
PERL_EXTUTILS_AUTOINSTALL="--defaultdeps"
PERL_MM_USE_DEFAULT="1"
@INC:
/home/lonesome/perl5/perlbrew/perls/perl-5.14.0/lib/site_perl/5.14.0/i686-linux
/home/lonesome/perl5/perlbrew/perls/perl-5.14.0/lib/site_perl/5.14.0
/home/lonesome/perl5/perlbrew/perls/perl-5.14.0/lib/5.14.0/i686-linux
/home/lonesome/perl5/perlbrew/perls/perl-5.14.0/lib/5.14.0
.