HTTP-Message v6.44 Perl 5 v5.38.0 amd64-freebsd
- Status
- Pass
- From
- Slaven Rezić
- Dist
-
HTTP-Message v6.44
- Platform
- Perl 5 v5.38.0 amd64-freebsd
- Date
- 2023-07-08 14:45:45
- ID
- 1ef6f10c-1d9e-11ee-8c55-9d0e6e8775ea
This distribution has been tested as part of the CPAN Testers
project, supporting the Perl programming language. See
http://wiki.cpantesters.org/ for more information or email
questions to cpan-testers-discuss@perl.org
--
Dear Olaf Alders,
This is a computer-generated report for HTTP-Message-6.44
on perl 5.38.0, created by CPAN-Reporter-1.2019.
Thank you for uploading your work to CPAN. Congratulations!
All tests were successful.
Sections of this report:
* Tester comments
* Program output
* Prerequisites
* Environment and other context
------------------------------
TESTER COMMENTS
------------------------------
Additional comments from tester:
none provided
------------------------------
PROGRAM OUTPUT
------------------------------
Output from '/usr/bin/make test':
PERL_DL_NONLAZY=1 "/usr/perl5.38.0p/bin/perl" "-MExtUtils::Command::MM" "-MTest::Harness" "-e" "undef *Test::Harness::Switches; test_harness(0, 'blib/lib', 'blib/arch')" t/*.t
#
# Versions for all modules listed in MYMETA.json (including optional ones):
#
# === Configure Requires ===
#
# Module Want Have
# ------------------- ---- ----
# ExtUtils::MakeMaker any 7.70
#
# === Configure Suggests ===
#
# Module Want Have
# -------- ------- ----
# JSON::PP 2.27300 4.16
#
# === Build Requires ===
#
# Module Want Have
# ------------------- ---- ----
# ExtUtils::MakeMaker any 7.70
#
# === Test Requires ===
#
# Module Want Have
# ------------------- ---- --------
# ExtUtils::MakeMaker any 7.70
# File::Spec any 3.88
# File::Temp any 0.2311
# PerlIO::encoding any 0.30
# Test::More 0.88 1.302194
# Test::Needs any 0.002010
# Time::Local any 1.30
# Try::Tiny any 0.31
# URI::URL any 5.19
# lib any 0.65
# overload any 1.37
#
# === Test Recommends ===
#
# Module Want Have
# ---------------------- -------- --------
# CPAN::Meta 2.120900 2.150010
# IO::Compress::Brotli 0.004001 missing
# IO::Uncompress::Brotli 0.004001 missing
#
# === Runtime Requires ===
#
# Module Want Have
# -------------------------- ----- ---------
# Carp any 1.54
# Clone 0.46 0.46
# Compress::Raw::Bzip2 any 2.204_001
# Compress::Raw::Zlib 2.062 2.204_001
# Encode 3.01 3.19
# Encode::Locale 1 1.05
# Exporter 5.57 5.77
# File::Spec any 3.88
# HTTP::Date 6 6.06
# IO::Compress::Bzip2 2.021 2.204
# IO::Compress::Deflate any 2.204
# IO::Compress::Gzip any 2.204
# IO::HTML any 1.004
# IO::Uncompress::Inflate any 2.204
# IO::Uncompress::RawInflate any 2.204
# LWP::MediaTypes 6 6.04
# MIME::Base64 2.1 3.16_01
# MIME::QuotedPrint any 3.16_01
# URI 1.10 5.19
# parent any 0.241
# strict any 1.12
# warnings any 1.65
#
# === Runtime Recommends ===
#
# Module Want Have
# ---------------------- -------- -------
# IO::Compress::Brotli 0.004001 missing
# IO::Uncompress::Brotli 0.004001 missing
#
t/00-report-prereqs.t .......... ok
t/common-req.t ................. ok
t/headers-auth.t ............... ok
t/headers-etag.t ............... ok
t/headers-util.t ............... ok
t/headers.t .................... ok
t/http-config.t ................ ok
t/message-brotli.t ............. skipped: Need IO::Compress::Brotli, IO::Uncompress::Brotli
t/message-charset.t ............ ok
t/message-decode-brotlibomb.t .. skipped: Need IO::Compress::Brotli, IO::Uncompress::Brotli
t/message-decode-bzipbomb.t .... ok
t/message-decode-xml.t ......... ok
t/message-decode-zipbomb.t ..... ok
t/message-old.t ................ ok
t/message-parts.t .............. ok
t/message.t .................... ok
t/request.t .................... ok
t/request_type_with_data.t ..... ok
t/response.t ................... ok
t/status-old.t ................. ok
t/status.t ..................... ok
All tests successful.
Files=21, Tests=836, 5 wallclock secs ( 0.11 usr 0.05 sys + 2.87 cusr 0.50 csys = 3.52 CPU)
Result: PASS
------------------------------
PREREQUISITES
------------------------------
Prerequisite modules loaded:
requires:
Module Need Have
-------------------------- -------- ---------
Carp 0 1.54
Clone 0.46 0.46
Compress::Raw::Bzip2 0 2.204_001
Compress::Raw::Zlib 2.062 2.204_001
Encode 3.01 3.19
Encode::Locale 1 1.05
Exporter 5.57 5.77
File::Spec 0 3.88
HTTP::Date 6 6.06
IO::Compress::Bzip2 2.021 2.204
IO::Compress::Deflate 0 2.204
IO::Compress::Gzip 0 2.204
IO::HTML 0 1.004
IO::Uncompress::Inflate 0 2.204
IO::Uncompress::RawInflate 0 2.204
LWP::MediaTypes 6 6.04
MIME::Base64 2.1 3.16_01
MIME::QuotedPrint 0 3.16_01
parent 0 0.241
perl 5.008001 5.038000
strict 0 1.12
URI 1.10 5.19
warnings 0 1.65
build_requires:
Module Need Have
-------------------------- -------- ---------
ExtUtils::MakeMaker 0 7.70
File::Spec 0 3.88
File::Temp 0 0.2311
lib 0 0.65
overload 0 1.37
PerlIO::encoding 0 0.30
Test::More 0.88 1.302194
Test::Needs 0 0.002010
Time::Local 0 1.30
Try::Tiny 0 0.31
URI::URL 0 5.19
configure_requires:
Module Need Have
-------------------------- -------- ---------
ExtUtils::MakeMaker 0 7.70
perl 5.006 5.038000
------------------------------
ENVIRONMENT AND OTHER CONTEXT
------------------------------
Environment variables:
PATH = /usr/local/bin:/usr/bin:/bin:/usr/local/sbin:/usr/sbin:/sbin:/home/cpansand/bin/sh:/home/cpansand/bin:/usr/games:/home/cpansand/devel:/usr/home/eserte/src/srezic-misc/scripts
PERL5LIB =
PERL5OPT =
PERL5_CPANPLUS_IS_RUNNING = 76245
PERL5_CPAN_IS_RUNNING = 76245
PERL5_CPAN_IS_RUNNING_IN_RECURSION = 76087,76245
PERL_BATCH = yes
PERL_CANARY_STABILITY_NOPROMPT = 1
PERL_CPAN_REPORTER_CONFIG = /var/tmp/cpansmoker-1023/2023070813/cpanreporter_000_config.ini
PERL_EXTUTILS_AUTOINSTALL = --defaultdeps
PERL_USE_UNSAFE_INC = 1
SHELL = /bin/sh
TMPDIR = /var/tmp/cpansmoker-1023/2023070813
Perl special variables (and OS-specific diagnostics, for MSWin32):
$^X = /usr/perl5.38.0p/bin/perl
$UID/$EUID = 1023 / 1023
$GID = 1023 1023
$EGID = 1023 1023
Perl module toolchain versions installed:
Module Have
------------------- --------
CPAN 2.36
CPAN::Meta 2.150010
Cwd 3.89
ExtUtils::CBuilder 0.280238
ExtUtils::Command 7.70
ExtUtils::Install 2.22
ExtUtils::MakeMaker 7.70
ExtUtils::Manifest 1.73
ExtUtils::ParseXS 3.51
File::Spec 3.88
JSON n/a
JSON::PP 4.16
Module::Build 0.4234
Module::Signature n/a
Parse::CPAN::Meta 2.150010
Test2 1.302194
Test::Harness 3.44
Test::More 1.302194
YAML 1.30
YAML::Syck 1.34
version 0.9929
--
Summary of my perl5 (revision 5 version 38 subversion 0) configuration:
Platform:
osname=freebsd
osvers=12.4-stable
archname=amd64-freebsd
uname='freebsd cloud1.bbbike.org 12.4-stable freebsd 12.4-stable stable12-98358de57 generic amd64 '
config_args='-ds -e -Dprefix=/usr/perl5.38.0p -Dcf_email=srezic@cpan.org -Doptimize=-O2 -pipe'
hint=recommended
useposix=true
d_sigaction=define
useithreads=undef
usemultiplicity=undef
use64bitint=define
use64bitall=define
uselongdouble=undef
usemymalloc=n
default_inc_excludes_dot=define
Compiler:
cc='cc'
ccflags ='-DHAS_FPSETMASK -DHAS_FLOATINGPOINT_H -fno-strict-aliasing -pipe -fstack-protector-strong -I/usr/local/include'
optimize='-O2 -pipe'
cppflags='-DHAS_FPSETMASK -DHAS_FLOATINGPOINT_H -fno-strict-aliasing -pipe -fstack-protector-strong -I/usr/local/include'
ccversion=''
gccversion='FreeBSD Clang 13.0.0 (git@github.com:llvm/llvm-project.git llvmorg-13.0.0-0-gd7b669b3a303)'
gccosandvers=''
intsize=4
longsize=8
ptrsize=8
doublesize=8
byteorder=12345678
doublekind=3
d_longlong=define
longlongsize=8
d_longdbl=define
longdblsize=16
longdblkind=3
ivtype='long'
ivsize=8
nvtype='double'
nvsize=8
Off_t='off_t'
lseeksize=8
alignbytes=8
prototype=define
Linker and Libraries:
ld='cc'
ldflags ='-pthread -Wl,-E -fstack-protector-strong -L/usr/local/lib'
libpth=/usr/lib /usr/local/lib /usr/lib/clang/13.0.0/lib
libs=-lpthread -lgdbm -ldl -lm -lcrypt -lutil -lc
perllibs=-lpthread -ldl -lm -lcrypt -lutil -lc
libc=
so=so
useshrplib=false
libperl=libperl.a
gnulibc_version=''
Dynamic Linking:
dlsrc=dl_dlopen.xs
dlext=so
d_dlsymun=undef
ccdlflags=' '
cccdlflags='-DPIC -fPIC'
lddlflags='-shared -L/usr/local/lib -fstack-protector-strong'
Characteristics of this binary (from libperl):
Compile-time options:
HAS_LONG_DOUBLE
HAS_STRTOLD
HAS_TIMES
PERLIO_LAYERS
PERL_COPY_ON_WRITE
PERL_DONT_CREATE_GVSV
PERL_HASH_FUNC_SIPHASH13
PERL_HASH_USE_SBOX32
PERL_MALLOC_WRAP
PERL_OP_PARENT
PERL_PRESERVE_IVUV
PERL_USE_SAFE_PUTENV
USE_64_BIT_ALL
USE_64_BIT_INT
USE_LARGE_FILES
USE_LOCALE
USE_LOCALE_COLLATE
USE_LOCALE_CTYPE
USE_LOCALE_NUMERIC
USE_LOCALE_TIME
USE_PERLIO
USE_PERL_ATOF
Built under freebsd
Compiled at Jul 8 2023 12:28:42
%ENV:
PERL5LIB=""
PERL5OPT=""
PERL5_CPANPLUS_IS_RUNNING="76245"
PERL5_CPAN_IS_RUNNING="76245"
PERL5_CPAN_IS_RUNNING_IN_RECURSION="76087,76245"
PERL_BATCH="yes"
PERL_CANARY_STABILITY_NOPROMPT="1"
PERL_CPAN_REPORTER_CONFIG="/var/tmp/cpansmoker-1023/2023070813/cpanreporter_000_config.ini"
PERL_EXTUTILS_AUTOINSTALL="--defaultdeps"
PERL_USE_UNSAFE_INC="1"
@INC:
/usr/perl5.38.0p/lib/site_perl/5.38.0/amd64-freebsd
/usr/perl5.38.0p/lib/site_perl/5.38.0
/usr/perl5.38.0p/lib/5.38.0/amd64-freebsd
/usr/perl5.38.0p/lib/5.38.0
.