CPAN-SQLite v0.215 Perl 5 v5.16.0 amd64-netbsd-thread-multi
- Status
- Pass
- From
- Chris Williams (BINGOS)
- Dist
-
CPAN-SQLite v0.215
- Platform
- Perl 5 v5.16.0 amd64-netbsd-thread-multi
- Date
- 2019-01-25 19:12:13
- ID
- 1efa6690-20d5-11e9-86e3-404589cf513b
This distribution has been tested as part of the CPAN Testers
project, supporting the Perl programming language. See
http://wiki.cpantesters.org/ for more information or email
questions to cpan-testers-discuss@perl.org
--
Dear STRO,
This is a computer-generated error report created automatically by
CPANPLUS, version 0.9176. Testers personal comments may appear
at the end of this report.
Thank you for uploading your work to CPAN. Congratulations!
All tests were successful.
TEST RESULTS:
Below is the error stack from stage 'make test':
PERL_DL_NONLAZY=1 "/home/cpan/pit/thr/perl-5.16.0/bin/perl" "-MExtUtils::Command::MM" "-MTest::Harness" "-e" "undef *Test::Harness::Switches; test_harness(0, 'blib/lib', 'blib/arch')" t/*.t
# Listing %INC
# B 1.34
# CPAN 1.9800
# CPAN::Author 5.5001
# CPAN::Bundle 5.5
# CPAN::CacheMgr 5.5001
# CPAN::Complete 5.5
# CPAN::Debug 5.5001
# CPAN::DeferredCode 5.50
# CPAN::DistnameInfo 0.12
# CPAN::Distribution 1.9602
# CPAN::Distroprefs 6
# CPAN::Distrostatus 5.5
# CPAN::Exception::RecursiveDependency 5.5
# CPAN::Exception::yaml_not_installed 5.5
# CPAN::Exception::yaml_process_error 5.5
# CPAN::FTP 5.5005
# CPAN::FTP::netrc 1.01
# CPAN::HTTP::Credentials 1.9600
# CPAN::HandleConfig 5.5003
# CPAN::Index 1.9600
# CPAN::InfoObj 5.5
# CPAN::LWP::UserAgent 1.9600
# CPAN::Module 5.5001
# CPAN::Prompt 5.5
# CPAN::Queue 5.5001
# CPAN::Shell 5.5002
# CPAN::Tarzip 5.5011
# CPAN::URL 5.5
# CPAN::Version 5.5001
# Carp 1.26
# Carp::Heavy 1.26
# Compress::Raw::Zlib 2.081
# Compress::Zlib 2.081
# Config undef
# Cwd 3.75
# DBI 1.642
# DirHandle 1.04
# DynaLoader 1.14
# Encode 2.44
# Encode::Alias 2.15
# Encode::Config 2.05
# Encode::Encoding 2.05
# English 1.05
# Errno 1.15
# Exporter 5.66
# Exporter::Heavy 5.66
# ExtUtils::Liblist 7.34
# ExtUtils::Liblist::Kid 7.34
# ExtUtils::MM 7.34
# ExtUtils::MM_Any 7.34
# ExtUtils::MM_Unix 7.34
# ExtUtils::MY 7.34
# ExtUtils::MakeMaker 7.34
# ExtUtils::MakeMaker::Config 7.34
# ExtUtils::MakeMaker::Locale 7.34
# ExtUtils::MakeMaker::version 7.34
# Fcntl 1.11
# File::Basename 2.84
# File::Copy 2.23
# File::Find 1.20
# File::Glob 1.17
# File::GlobMapper 1.001
# File::HomeDir 1.004
# File::HomeDir::Driver 1.004
# File::HomeDir::Unix 1.004
# File::Path 2.16
# File::Spec 3.75
# File::Spec::Functions 3.75
# File::Spec::Unix 3.75
# File::Which 1.23
# FileHandle 2.02
# Getopt::Long 2.38
# HTTP::Tiny 0.017
# I18N::Langinfo 0.08_02
# IO 1.25_06
# IO::Compress::Adapter::Deflate 2.081
# IO::Compress::Base 2.081
# IO::Compress::Base::Common 2.081
# IO::Compress::Gzip 2.081
# IO::Compress::Gzip::Constants 2.081
# IO::Compress::RawDeflate 2.081
# IO::Compress::Zlib::Extra 2.081
# IO::File 1.16
# IO::Handle 1.33
# IO::Seekable 1.1
# IO::Socket 1.34
# IO::Socket::INET 1.33
# IO::Socket::UNIX 1.24
# IO::Uncompress::Adapter::Inflate 2.081
# IO::Uncompress::Base 2.081
# IO::Uncompress::Gunzip 2.081
# IO::Uncompress::RawInflate 2.081
# List::Util 1.23
# Opcode 1.23
# Safe 2.31_01
# Scalar::Util 1.23
# SelectSaver 1.02
# Socket 2.001
# Symbol 1.07
# Sys::Hostname 1.16
# Text::ParseWords 3.27
# Text::Tabs 2009.0305
# Text::Wrap 2009.0305
# Tie::Hash::NamedCapture 0.08
# XSLoader 0.16
# base 2.18
# bytes 1.04
# constant 1.23
# feature 1.27
# lib 0.63
# overload 1.18
# overloading 0.02
# parent 0.225
# re 0.19
# strict 1.07
# subs 1.01
# utf8 1.09
# vars 1.02
# version 0.9924
# version::regex 0.9924
# version::vxs 0.9924
# warnings 1.13
# warnings::register 1.02
t/00-all_prereqs.t ............... ok
t/00-compile.t ................... ok
#
# Versions for all modules listed in MYMETA.json (including optional ones):
#
# === Configure Requires ===
#
# Module Want Have
# ------------------- ---- ----
# ExtUtils::MakeMaker any 7.34
#
# === Build Requires ===
#
# Module Want Have
# ------------------- ---- ----
# ExtUtils::MakeMaker any 7.34
#
# === Test Requires ===
#
# Module Want Have
# ------------------- ---- --------
# CPAN::HandleConfig any 5.5003
# CPAN::Version any 5.5001
# Carp any 1.26
# DBD::SQLite any 1.62
# ExtUtils::MakeMaker any 7.34
# File::Copy any 2.23
# File::Spec any 3.75
# FindBin any 1.51
# IO::Handle any 1.33
# IPC::Open3 any 1.12
# Test::Memory::Cycle any 1.06
# Test::More 0.94 1.302141
# base any 2.18
# lib any 0.63
#
# === Test Recommends ===
#
# Module Want Have
# ---------- -------- --------
# CPAN::Meta 2.120900 2.150010
#
# === Runtime Requires ===
#
# Module Want Have
# --------------------- ---- -------
# Archive::Tar 1.54 2.32
# CPAN any 1.9800
# CPAN::DistnameInfo 0.09 0.12
# CPAN::Index 1.93 1.9600
# Compress::Zlib any 2.081
# Cwd any 3.75
# DBD::SQLite 1.27 1.62
# DBI any 1.642
# English any 1.05
# Exporter any 5.66
# File::Basename any 2.84
# File::Find any 1.20
# File::HomeDir any 1.004
# File::Path any 2.16
# File::Spec any 3.75
# File::Spec::Functions any 3.75
# Getopt::Long any 2.38
# HTTP::Tiny any 0.017
# IO::Zlib any 1.10
# Safe any 2.31_01
# Scalar::Util any 1.23
# constant any 1.23
# parent any 0.225
# strict any 1.07
# utf8 any 1.09
# warnings any 1.13
#
t/00-report-prereqs.t ............ ok
# Testing with Perl 5.016000, /home/cpan/pit/thr/perl-5.16.0/bin/perl
# CPAN version is 1.9800
# CPAN::DistnameInfo version is 0.12
# CPAN::HandleConfig version is 5.5003
# CPAN::Version version is 5.5001
# Carp version is 1.26
# Compress::Zlib version is 2.081
# Cwd version is 3.75
# DBD::SQLite version is 1.62
# DBI version is 1.642
# English version is 1.05
# Exporter version is 5.66
# ExtUtils::MakeMaker version is 7.34
# File::Basename version is 2.84
# File::Copy version is 2.23
# File::Find version is 1.20
# File::HomeDir version is 1.004
# File::Path version is 2.16
# File::Spec version is 3.75
# File::Spec::Functions version is 3.75
# FindBin version is 1.51
# Getopt::Long version is 2.38
# HTTP::Tiny version is 0.017
# IO::Handle version is 1.33
# IPC::Open3 version is 1.12
# Safe version is 2.31_01
# Scalar::Util version is 1.23
# Test::Memory::Cycle version is 1.06
# Test::More version is 1.302141
# base version is 2.18
# constant version is 1.23
# lib version is 0.63
# parent version is 0.225
# strict version is 1.07
# utf8 version is 1.09
# warnings version is 1.13
t/000-report-versions.t .......... ok
t/01basic.t ...................... ok
t/02drop.t ....................... ok
t/03info.t ....................... ok
t/04search.t ..................... ok
t/04search_everything.t .......... ok
t/05meta_new.t ................... ok
t/05meta_update.t ................ ok
t/06retrieve.t ................... ok
t/07download.t ................... ok
t/08circular_references.t ........ ok
t/author-critic.t ................ skipped: these tests are for testing by the author
t/author-eol.t ................... skipped: these tests are for testing by the author
t/author-minimum-version.t ....... skipped: these tests are for testing by the author
t/author-no-tabs.t ............... skipped: these tests are for testing by the author
t/author-pod-syntax.t ............ skipped: these tests are for testing by the author
t/release-changes_has_content.t .. skipped: these tests are for release candidate testing
t/release-distmeta.t ............. skipped: these tests are for release candidate testing
t/release-fixme.t ................ skipped: these tests are for release candidate testing
t/release-has-version.t .......... skipped: these tests are for release candidate testing
t/release-kwalitee.t ............. skipped: these tests are for release candidate testing
t/release-meta-json.t ............ skipped: these tests are for release candidate testing
t/release-pause-permissions.t .... skipped: these tests are for release candidate testing
All tests successful.
Files=26, Tests=11316, 119 wallclock secs ( 1.30 usr 0.13 sys + 10.30 cusr 2.48 csys = 14.21 CPU)
Result: PASS
PREREQUISITES:
Here is a list of prerequisites you specified and versions we
managed to load:
Module Name Have Want
Archive::Tar 2.32 1.54
CPAN::DistnameInfo 0.12 0.09
CPAN::Index 1.9600 1.93
Compress::Zlib 2.081 0
DBD::SQLite 1.62 1.27
ExtUtils::MakeMaker 7.34 0
File::HomeDir 1.004 0
File::Spec 3.75 0
HTTP::Tiny 0.017 0
IO::Zlib 1.10 0
Test::Memory::Cycle 1.06 0
parent 0.225 0
Perl module toolchain versions installed:
Module Name Have
CPANPLUS 0.9176
CPANPLUS::Dist::Build 0.90
Cwd 3.75
ExtUtils::CBuilder 0.280230
ExtUtils::Command 7.34
ExtUtils::Install 2.14
ExtUtils::MakeMaker 7.34
ExtUtils::Manifest 1.71
ExtUtils::ParseXS 3.35
File::Spec 3.75
Module::Build 0.4224
Pod::Parser 1.51
Pod::Simple 3.20
Test2 1.302141
Test::Harness 3.42
Test::More 1.302141
version 0.9924
******************************** NOTE ********************************
The comments above are created mechanically, possibly without manual
checking by the sender. As there are many people performing automatic
tests on each upload to CPAN, it is likely that you will receive
identical messages about the same problem.
If you believe that the message is mistaken, please reply to the first
one with correction and/or additional informations, and do not take
it personally. We appreciate your patience. :)
**********************************************************************
Additional comments:
This report was machine-generated by CPANPLUS::Dist::YACSmoke 1.06.
Powered by minismokebox version 0.68
------------------------------
ENVIRONMENT AND OTHER CONTEXT
------------------------------
Environment variables:
AUTOMATED_TESTING = 1
NONINTERACTIVE_TESTING = 1
PATH = /home/cpan/pit/thr/conf/perl-5.16.0/.cpanplus/5.16.0/build/C2wxSWiime/CPAN-SQLite-0.215/blib/script:/home/cpan/bin:/bin:/sbin:/usr/bin:/usr/sbin:/usr/X11R7/bin:/usr/X11R6/bin:/usr/pkg/bin:/usr/pkg/sbin:/usr/games:/usr/local/bin:/usr/local/sbin
PERL5LIB = /home/cpan/pit/jail/CkSZJ5lMPd/lib/perl5:/home/cpan/pit/thr/conf/perl-5.16.0/.cpanplus/5.16.0/build/C2wxSWiime/CPAN-SQLite-0.215/blib/lib:/home/cpan/pit/thr/conf/perl-5.16.0/.cpanplus/5.16.0/build/C2wxSWiime/CPAN-SQLite-0.215/blib/arch
PERL5_CPANPLUS_IS_RUNNING = 6521
PERL5_CPANPLUS_IS_VERSION = 0.9176
PERL5_MINISMOKEBOX = 0.68
PERL5_YACSMOKE_BASE = /home/cpan/pit/thr/conf/perl-5.16.0
PERL_EXTUTILS_AUTOINSTALL = --defaultdeps
PERL_LOCAL_LIB_ROOT = /home/cpan/pit/jail/CkSZJ5lMPd
PERL_MB_OPT = --install_base "/home/cpan/pit/jail/CkSZJ5lMPd"
PERL_MM_OPT = INSTALL_BASE=/home/cpan/pit/jail/CkSZJ5lMPd
PERL_MM_USE_DEFAULT = 1
SHELL = /usr/pkg/bin/bash
TERM = screen
Perl special variables (and OS-specific diagnostics, for MSWin32):
Perl: $^X = /home/cpan/pit/thr/perl-5.16.0/bin/perl
UID: $< = 1002
EUID: $> = 1002
GID: $( = 100 100
EGID: $) = 100 100
-------------------------------
--
Summary of my perl5 (revision 5 version 16 subversion 0) configuration:
Platform:
osname=netbsd, osvers=6.1.4, archname=amd64-netbsd-thread-multi
uname='netbsd naboo.bingosnet.co.uk 6.1.4 netbsd 6.1.4 (generic) amd64 '
config_args='-des -Dprefix=/home/cpan/pit/thr/perl-5.16.0 -Dusethreads'
hint=recommended, useposix=true, d_sigaction=define
useithreads=define, usemultiplicity=define
useperlio=define, d_sfio=undef, uselargefiles=define, usesocks=undef
use64bitint=define, use64bitall=define, uselongdouble=undef
usemymalloc=n, bincompat5005=undef
Compiler:
cc='cc', ccflags ='-fno-strict-aliasing -pipe -fstack-protector -I/usr/pkg/include',
optimize='-O',
cppflags='-fno-strict-aliasing -pipe -fstack-protector -I/usr/pkg/include'
ccversion='', gccversion='4.5.3', gccosandvers=''
intsize=4, longsize=8, ptrsize=8, doublesize=8, byteorder=12345678
d_longlong=define, longlongsize=8, d_longdbl=define, longdblsize=16
ivtype='long', ivsize=8, nvtype='double', nvsize=8, Off_t='off_t', lseeksize=8
alignbytes=8, prototype=define
Linker and Libraries:
ld='cc', ldflags =' -Wl,-rpath,/usr/pkg/lib -Wl,-rpath,/usr/local/lib -fstack-protector -L/usr/pkg/lib'
libpth=/usr/pkg/lib /lib /usr/lib
libs=-lgdbm -lm -lcrypt -lutil -lc -lposix -lpthread
perllibs=-lm -lcrypt -lutil -lc -lposix -lpthread
libc=/lib/libc.so, so=so, useshrplib=false, libperl=libperl.a
gnulibc_version=''
Dynamic Linking:
dlsrc=dl_dlopen.xs, dlext=so, d_dlsymun=undef, ccdlflags='-Wl,-E '
cccdlflags='-DPIC -fPIC ', lddlflags='--whole-archive -shared -L/usr/pkg/lib -fstack-protector'
Characteristics of this binary (from libperl):
Compile-time options: HAS_TIMES MULTIPLICITY PERLIO_LAYERS
PERL_DONT_CREATE_GVSV PERL_IMPLICIT_CONTEXT
PERL_MALLOC_WRAP PERL_PRESERVE_IVUV USE_64_BIT_ALL
USE_64_BIT_INT USE_ITHREADS USE_LARGE_FILES
USE_LOCALE USE_LOCALE_COLLATE USE_LOCALE_CTYPE
USE_LOCALE_NUMERIC USE_PERLIO USE_PERL_ATOF
USE_REENTRANT_API
Built under netbsd
Compiled at May 9 2014 21:18:05
%ENV:
PERL5LIB="/home/cpan/pit/jail/CkSZJ5lMPd/lib/perl5:/home/cpan/pit/thr/conf/perl-5.16.0/.cpanplus/5.16.0/build/C2wxSWiime/CPAN-SQLite-0.215/blib/lib:/home/cpan/pit/thr/conf/perl-5.16.0/.cpanplus/5.16.0/build/C2wxSWiime/CPAN-SQLite-0.215/blib/arch"
PERL5_CPANPLUS_IS_RUNNING="6521"
PERL5_CPANPLUS_IS_VERSION="0.9176"
PERL5_MINISMOKEBOX="0.68"
PERL5_YACSMOKE_BASE="/home/cpan/pit/thr/conf/perl-5.16.0"
PERL_EXTUTILS_AUTOINSTALL="--defaultdeps"
PERL_LOCAL_LIB_ROOT="/home/cpan/pit/jail/CkSZJ5lMPd"
PERL_MB_OPT="--install_base "/home/cpan/pit/jail/CkSZJ5lMPd""
PERL_MM_OPT="INSTALL_BASE=/home/cpan/pit/jail/CkSZJ5lMPd"
PERL_MM_USE_DEFAULT="1"
@INC:
/home/cpan/pit/jail/CkSZJ5lMPd/lib/perl5/5.16.0/amd64-netbsd-thread-multi
/home/cpan/pit/jail/CkSZJ5lMPd/lib/perl5/5.16.0
/home/cpan/pit/jail/CkSZJ5lMPd/lib/perl5/amd64-netbsd-thread-multi
/home/cpan/pit/jail/CkSZJ5lMPd/lib/perl5
/home/cpan/pit/thr/conf/perl-5.16.0/.cpanplus/5.16.0/build/C2wxSWiime/CPAN-SQLite-0.215/blib/lib
/home/cpan/pit/thr/conf/perl-5.16.0/.cpanplus/5.16.0/build/C2wxSWiime/CPAN-SQLite-0.215/blib/arch
/home/cpan/pit/thr/perl-5.16.0/lib/site_perl/5.16.0/amd64-netbsd-thread-multi
/home/cpan/pit/thr/perl-5.16.0/lib/site_perl/5.16.0
/home/cpan/pit/thr/perl-5.16.0/lib/5.16.0/amd64-netbsd-thread-multi
/home/cpan/pit/thr/perl-5.16.0/lib/5.16.0
.