Catmandu v1.2021 Perl 5 v5.24.0 amd64-freebsd

Status
Pass
From
Slaven Rezić
Dist
Catmandu v1.2021
Platform
Perl 5 v5.24.0 amd64-freebsd
Date
2023-11-08 16:30:25
ID
1f115184-7e54-11ee-b0bd-11536e8775ea
This distribution has been tested as part of the CPAN Testers
project, supporting the Perl programming language.  See
http://wiki.cpantesters.org/ for more information or email
questions to cpan-testers-discuss@perl.org


--
Dear Patrick Hochstenbach,

This is a computer-generated report for Catmandu-1.2021
on perl 5.24.0, created by CPAN-Reporter-1.2019.

Thank you for uploading your work to CPAN.  Congratulations!
All tests were successful.

Sections of this report:

    * Tester comments
    * Program output
    * Prerequisites
    * Environment and other context

------------------------------
TESTER COMMENTS
------------------------------

Additional comments from tester:

none provided

------------------------------
PROGRAM OUTPUT
------------------------------

Output from './Build test':

t/Catmandu-Addable.t ..................... ok
t/Catmandu-ArrayIterator.t ............... ok
t/Catmandu-Bag.t ......................... ok
t/Catmandu-Buffer.t ...................... ok
t/Catmandu-CLI.t ......................... ok
t/Catmandu-CQLSearchable.t ............... ok
t/Catmandu-Cmd-compile.t ................. ok
t/Catmandu-Cmd-config.t .................. ok
t/Catmandu-Cmd-convert.t ................. ok
t/Catmandu-Cmd-copy.t .................... ok
t/Catmandu-Cmd-count.t ................... ok
t/Catmandu-Cmd-delete.t .................. ok
t/Catmandu-Cmd-export.t .................. ok
t/Catmandu-Cmd-help.t .................... ok
t/Catmandu-Cmd-import.t .................. ok
t/Catmandu-Cmd-info.t .................... ok
t/Catmandu-Cmd-run.t ..................... ok
t/Catmandu-Cmd-touch.t ................... ok
t/Catmandu-Cmd.t ......................... ok
t/Catmandu-Counter.t ..................... ok
t/Catmandu-Env.t ......................... ok
t/Catmandu-Error.t ....................... ok
t/Catmandu-Exporter-CSV.t ................ ok
t/Catmandu-Exporter-Count.t .............. ok
t/Catmandu-Exporter-JSON.t ............... ok
t/Catmandu-Exporter-Mock.t ............... ok
t/Catmandu-Exporter-Multi.t .............. ok
t/Catmandu-Exporter-Null.t ............... ok
t/Catmandu-Exporter-TSV.t ................ ok
t/Catmandu-Exporter-Text.t ............... ok
t/Catmandu-Exporter-YAML.t ............... ok
t/Catmandu-Exporter.t .................... ok
t/Catmandu-Fix-Base.t .................... ok
t/Catmandu-Fix-Bind-Group.t .............. ok
t/Catmandu-Fix-Bind-benchmark.t .......... ok
t/Catmandu-Fix-Bind-each.t ............... ok
t/Catmandu-Fix-Bind-hashmap.t ............ ok
t/Catmandu-Fix-Bind-identity.t ........... ok
t/Catmandu-Fix-Bind-importer.t ........... ok
t/Catmandu-Fix-Bind-iterate.t ............ ok
t/Catmandu-Fix-Bind-list.t ............... ok
t/Catmandu-Fix-Bind-maybe.t .............. ok
t/Catmandu-Fix-Bind-timeout.t ............ ok
t/Catmandu-Fix-Bind-visitor.t ............ ok
t/Catmandu-Fix-Bind-with.t ............... ok
t/Catmandu-Fix-Bind.t .................... ok
t/Catmandu-Fix-Condition-all_equal.t ..... ok
t/Catmandu-Fix-Condition-all_match.t ..... ok
t/Catmandu-Fix-Condition-any_equal.t ..... ok
t/Catmandu-Fix-Condition-any_match.t ..... ok
t/Catmandu-Fix-Condition-exists.t ........ ok
t/Catmandu-Fix-Condition-greater_than.t .. ok
t/Catmandu-Fix-Condition-in.t ............ ok
t/Catmandu-Fix-Condition-is_array.t ...... ok
t/Catmandu-Fix-Condition-is_false.t ...... ok
t/Catmandu-Fix-Condition-is_null.t ....... ok
t/Catmandu-Fix-Condition-is_number.t ..... ok
t/Catmandu-Fix-Condition-is_object.t ..... ok
t/Catmandu-Fix-Condition-is_string.t ..... ok
t/Catmandu-Fix-Condition-is_true.t ....... ok
t/Catmandu-Fix-Condition-less_than.t ..... ok
t/Catmandu-Fix-Condition-valid.t ......... ok
t/Catmandu-Fix-Condition.t ............... ok
t/Catmandu-Fix-Inlineable.t .............. ok
t/Catmandu-Fix-Parser.t .................. ok
t/Catmandu-Fix-add_field.t ............... ok
t/Catmandu-Fix-add_to_exporter.t ......... ok
t/Catmandu-Fix-add_to_store.t ............ ok
t/Catmandu-Fix-append.t .................. ok
t/Catmandu-Fix-array.t ................... ok
t/Catmandu-Fix-assoc.t ................... ok
t/Catmandu-Fix-capitalize.t .............. ok
t/Catmandu-Fix-clone.t ................... ok
t/Catmandu-Fix-code.t .................... ok
t/Catmandu-Fix-collapse.t ................ ok
t/Catmandu-Fix-compact.t ................. ok
t/Catmandu-Fix-copy.t .................... ok
t/Catmandu-Fix-copy_field.t .............. ok
t/Catmandu-Fix-count.t ................... ok
t/Catmandu-Fix-cp.t ...................... ok
t/Catmandu-Fix-disassoc.t ................ ok
t/Catmandu-Fix-downcase.t ................ ok
t/Catmandu-Fix-error.t ................... ok
t/Catmandu-Fix-eval.t .................... ok
t/Catmandu-Fix-expand.t .................. ok
t/Catmandu-Fix-expand_date.t ............. ok
t/Catmandu-Fix-export_to_string.t ........ ok
t/Catmandu-Fix-filter.t .................. ok
t/Catmandu-Fix-flatten.t ................. ok
t/Catmandu-Fix-format.t .................. ok
t/Catmandu-Fix-from_json.t ............... ok
t/Catmandu-Fix-hash.t .................... ok
t/Catmandu-Fix-import_from_string.t ...... ok
t/Catmandu-Fix-include.t ................. ok
t/Catmandu-Fix-index.t ................... ok
t/Catmandu-Fix-int.t ..................... ok
t/Catmandu-Fix-join_field.t .............. ok
t/Catmandu-Fix-log.t ..................... ok
t/Catmandu-Fix-lookup.t .................. ok
t/Catmandu-Fix-lookup_in_store.t ......... ok
t/Catmandu-Fix-mapping.t ................. ok
t/Catmandu-Fix-move.t .................... ok
t/Catmandu-Fix-move_field.t .............. ok
t/Catmandu-Fix-mv.t ...................... ok
t/Catmandu-Fix-nothing.t ................. ok
t/Catmandu-Fix-parse_text.t .............. ok
t/Catmandu-Fix-paste.t ................... ok
t/Catmandu-Fix-perlcode.t ................ ok
t/Catmandu-Fix-prepend.t ................. ok
t/Catmandu-Fix-random.t .................. ok
t/Catmandu-Fix-reject.t .................. ok
t/Catmandu-Fix-remove.t .................. ok
t/Catmandu-Fix-remove_field.t ............ ok
t/Catmandu-Fix-rename.t .................. ok
t/Catmandu-Fix-replace_all.t ............. ok
t/Catmandu-Fix-retain.t .................. ok
t/Catmandu-Fix-retain_field.t ............ ok
t/Catmandu-Fix-reverse.t ................. ok
t/Catmandu-Fix-rm.t ...................... ok
t/Catmandu-Fix-search_in_store.t ......... ok
t/Catmandu-Fix-set_array.t ............... ok
t/Catmandu-Fix-set_field.t ............... ok
t/Catmandu-Fix-set_hash.t ................ ok
t/Catmandu-Fix-sleep.t ................... ok
t/Catmandu-Fix-sort_field.t .............. ok
t/Catmandu-Fix-split_field.t ............. ok
t/Catmandu-Fix-string.t .................. ok
t/Catmandu-Fix-substring.t ............... ok
t/Catmandu-Fix-sum.t ..................... ok
t/Catmandu-Fix-to_json.t ................. ok
t/Catmandu-Fix-trim.t .................... ok
t/Catmandu-Fix-uniq.t .................... ok
t/Catmandu-Fix-upcase.t .................. ok
t/Catmandu-Fix-uri_decode.t .............. ok
t/Catmandu-Fix-uri_encode.t .............. ok
t/Catmandu-Fix-uri_encode_decode.t ....... ok
t/Catmandu-Fix-vacuum.t .................. ok
t/Catmandu-Fix-validate.t ................ ok
t/Catmandu-Fix.t ......................... ok
t/Catmandu-Fixable.t ..................... ok
t/Catmandu-Flushable.t ................... ok
t/Catmandu-Hits.t ........................ ok
t/Catmandu-IdGenerator-Mock.t ............ ok
t/Catmandu-IdGenerator-UUID.t ............ ok
t/Catmandu-IdGenerator.t ................. ok
t/Catmandu-Importer-CSV.t ................ ok
t/Catmandu-Importer-JSON.t ............... ok
t/Catmandu-Importer-Mock.t ............... ok
t/Catmandu-Importer-Modules.t ............ ok
t/Catmandu-Importer-Multi.t .............. ok
t/Catmandu-Importer-TSV.t ................ ok
t/Catmandu-Importer-Text.t ............... ok
t/Catmandu-Importer-YAML.t ............... ok
t/Catmandu-Importer.t .................... ok
t/Catmandu-Interactive.t ................. ok
t/Catmandu-Iterable.t .................... ok
t/Catmandu-IterableOnce.t ................ ok
t/Catmandu-Iterator.t .................... ok
t/Catmandu-MultiIterator.t ............... ok
t/Catmandu-Paged.t ....................... ok
t/Catmandu-Path-simple.t ................. ok
t/Catmandu-Pluggable.t ................... ok
t/Catmandu-Plugin-Datestamps.t ........... ok
t/Catmandu-Plugin-Readonly.t ............. ok
t/Catmandu-Plugin-Versioning.t ........... ok
t/Catmandu-Sane.t ........................ ok
t/Catmandu-Searchable.t .................. ok
t/Catmandu-Serializer.t .................. ok
t/Catmandu-Store-Hash.t .................. ok
t/Catmandu-Store-Multi-Bag.t ............. ok
t/Catmandu-Store-Multi.t ................. ok
t/Catmandu-Store.t ....................... ok
t/Catmandu-Util.t ........................ ok
t/Catmandu-Validator-Mock.t .............. ok
t/Catmandu-Validator-Simple.t ............ ok
t/Catmandu-Validator.t ................... ok
t/Catmandu.t ............................. ok
t/author-pod-syntax.t .................... skipped: these tests are for testing by the author
All tests successful.
Files=178, Tests=2144, 55 wallclock secs ( 0.34 usr  0.38 sys + 23.39 cusr 19.41 csys = 43.52 CPU)
Result: PASS

------------------------------
PREREQUISITES
------------------------------

Prerequisite modules loaded:

requires:

    Module                      Need     Have    
    --------------------------- -------- --------
    Any::URI::Escape            0        0.01    
    App::Cmd                    0.33     0.335   
    asa                         0        1.04    
    CGI::Expand                 2.02     2.05    
    Class::Method::Modifiers    0        2.15    
    Clone                       0.31     0.46    
    Config::Onion               1.004    1.006   
    Cpanel::JSON::XS            3.0213   4.36    
    Data::Compare               1.22     1.28    
    Data::Util                  0.66     0.66    
    Hash::Merge::Simple         0        0.051   
    HTTP::Request               0        6.44    
    IO::Handle::Util            0.01     0.01    
    List::MoreUtils             0.401    0.430   
    Log::Any                    0        1.717   
    Log::Any::Adapter           0        1.717   
    LWP::UserAgent              0        6.72    
    MIME::Types                 0        2.23    
    Module::Build               0.4229   0.4234  
    Module::Info                0        0.37    
    Moo                         1.004006 2.005005
    MooX::Aliases               0.001006 0.001006
    namespace::clean            0.24     0.27    
    Package::Stash              0        0.40    
    Parser::MGC                 0.21     0.21    
    Path::Iterator::Rule        0        1.015   
    Path::Tiny                  0        0.144   
    perl                        v5.16.0  5.024000
    Role::Tiny                  0        2.002004
    Role::Tiny::With            0        2.002004
    String::CamelCase           0        0.04    
    Sub::Exporter               0.982    0.989   
    Sub::Quote                  0        2.006008
    Text::CSV                   1.21     2.02    
    Text::Hogan::Compiler       1.02     2.03    
    Throwable                   0.200004 1.001   
    Time::HiRes                 0        1.9764  
    Try::Tiny::ByClass          0.01     0.01    
    Unicode::Normalize          0        1.26    
    URI                         0        5.21    
    URI::Template               0.22     0.24    
    UUID::Tiny                  1.04     1.04    
    YAML::XS                    0.83     0.88    

build_requires:

    Module                      Need     Have    
    --------------------------- -------- --------
    Capture::Tiny               0        0.48    
    Log::Any::Adapter::Log4perl 0        0.08    
    Log::Any::Test              1.03     1.717   
    Log::Log4perl               0        1.57    
    Module::Build               0.4229   0.4234  
    Test::Deep                  0.112    1.204   
    Test::Exception             0.43     0.43    
    Test::LWP::UserAgent        0        0.036   
    Test::More                  0.99     1.302196
    Test::Pod                   0        1.52    

configure_requires:

    Module                      Need     Have    
    --------------------------- -------- --------
    Module::Build               0.28     0.4234  


------------------------------
ENVIRONMENT AND OTHER CONTEXT
------------------------------

Environment variables:

    LC_ALL = de_DE.ISO8859-1
    PATH = /usr/local/bin:/usr/bin:/bin:/usr/local/sbin:/usr/sbin:/sbin:/home/cpansand/bin/freebsd10.3:/home/cpansand/bin/sh:/home/cpansand/bin:/usr/games:/home/cpansand/devel:/home/eserte/src/srezic-misc/scripts
    PERL5LIB = 
    PERL5OPT = 
    PERL5_CPANPLUS_IS_RUNNING = 42817
    PERL5_CPAN_IS_RUNNING = 42817
    PERL5_CPAN_IS_RUNNING_IN_RECURSION = 7100,42817
    PERLDOC = -MPod::Perldoc::ToTextOverstrike
    PERL_BATCH = yes
    PERL_CANARY_STABILITY_NOPROMPT = 1
    PERL_CPAN_REPORTER_CONFIG = /var/tmp/cpansmoker-1023/2023110704/cpanreporter_000_config.ini
    PERL_EXTUTILS_AUTOINSTALL = --defaultdeps
    PERL_USE_UNSAFE_INC = 1
    SHELL = /usr/local/bin/zsh
    TERM = screen
    TMPDIR = /var/tmp/cpansmoker-1023/2023110704

Perl special variables (and OS-specific diagnostics, for MSWin32):

    $^X = /usr/perl5.24.0p/bin/perl
    $UID/$EUID = 1023 / 1023
    $GID = 1023 1023
    $EGID = 1023 1023

Perl module toolchain versions installed:

    Module              Have    
    ------------------- --------
    CPAN                2.34    
    CPAN::Meta          2.150010
    Cwd                 3.75    
    ExtUtils::CBuilder  0.280236
    ExtUtils::Command   7.70    
    ExtUtils::Install   2.22    
    ExtUtils::MakeMaker 7.70    
    ExtUtils::Manifest  1.75    
    ExtUtils::ParseXS   3.51    
    File::Spec          3.75    
    JSON                4.10    
    JSON::PP            4.16    
    Module::Build       0.4234  
    Module::Signature   0.87    
    Parse::CPAN::Meta   2.150010
    Test2               1.302196
    Test::Harness       3.47    
    Test::More          1.302196
    YAML                1.30    
    YAML::Syck          1.34    
    version             0.9930  


--

Summary of my perl5 (revision 5 version 24 subversion 0) configuration:
   
  Platform:
    osname=freebsd, osvers=10.1-release, archname=amd64-freebsd
    uname='freebsd cvrsnica-freebsd-101.herceg.de 10.1-release freebsd 10.1-release #0 r274401: tue nov 11 21:02:49 utc 2014 root@releng1.nyi.freebsd.org:usrobjusrsrcsysgeneric amd64 '
    config_args='-ds -e -Dprefix=/usr/perl5.24.0p -Dcf_email=srezic@cpan.org -Doptimize=-O2 -pipe'
    hint=recommended, useposix=true, d_sigaction=define
    useithreads=undef, usemultiplicity=undef
    use64bitint=define, use64bitall=define, uselongdouble=undef
    usemymalloc=n, bincompat5005=undef
  Compiler:
    cc='cc', ccflags ='-DHAS_FPSETMASK -DHAS_FLOATINGPOINT_H -fno-strict-aliasing -pipe -fstack-protector -I/usr/local/include -D_FORTIFY_SOURCE=2',
    optimize='-O2 -pipe',
    cppflags='-DHAS_FPSETMASK -DHAS_FLOATINGPOINT_H -fno-strict-aliasing -pipe -fstack-protector -I/usr/local/include'
    ccversion='', gccversion='4.2.1 Compatible FreeBSD Clang 3.4.1 (tags/RELEASE_34/dot1-final 208032)', gccosandvers=''
    intsize=4, longsize=8, ptrsize=8, doublesize=8, byteorder=12345678, doublekind=3
    d_longlong=define, longlongsize=8, d_longdbl=define, longdblsize=16, longdblkind=3
    ivtype='long', ivsize=8, nvtype='double', nvsize=8, Off_t='off_t', lseeksize=8
    alignbytes=8, prototype=define
  Linker and Libraries:
    ld='cc', ldflags ='-pthread -Wl,-E  -fstack-protector -L/usr/local/lib'
    libpth=/usr/lib /usr/local/lib /usr/include/clang/3.4.1 /usr/lib
    libs=-lpthread -lgdbm -lm -lcrypt -lutil -lc
    perllibs=-lpthread -lm -lcrypt -lutil -lc
    libc=, so=so, useshrplib=false, libperl=libperl.a
    gnulibc_version=''
  Dynamic Linking:
    dlsrc=dl_dlopen.xs, dlext=so, d_dlsymun=undef, ccdlflags=' '
    cccdlflags='-DPIC -fPIC', lddlflags='-shared  -L/usr/local/lib -fstack-protector'


Characteristics of this binary (from libperl): 
  Compile-time options: HAS_TIMES PERLIO_LAYERS PERL_COPY_ON_WRITE
                        PERL_DONT_CREATE_GVSV
                        PERL_HASH_FUNC_ONE_AT_A_TIME_HARD PERL_MALLOC_WRAP
                        PERL_PRESERVE_IVUV USE_64_BIT_ALL USE_64_BIT_INT
                        USE_LARGE_FILES USE_LOCALE USE_LOCALE_COLLATE
                        USE_LOCALE_CTYPE USE_LOCALE_NUMERIC USE_LOCALE_TIME
                        USE_PERLIO USE_PERL_ATOF
  Built under freebsd
  Compiled at May 10 2016 08:49:38
  %ENV:
    PERL5LIB=""
    PERL5OPT=""
    PERL5_CPANPLUS_IS_RUNNING="42817"
    PERL5_CPAN_IS_RUNNING="42817"
    PERL5_CPAN_IS_RUNNING_IN_RECURSION="7100,42817"
    PERLDOC="-MPod::Perldoc::ToTextOverstrike"
    PERL_BATCH="yes"
    PERL_CANARY_STABILITY_NOPROMPT="1"
    PERL_CPAN_REPORTER_CONFIG="/var/tmp/cpansmoker-1023/2023110704/cpanreporter_000_config.ini"
    PERL_EXTUTILS_AUTOINSTALL="--defaultdeps"
    PERL_USE_UNSAFE_INC="1"
  @INC:
    /usr/perl5.24.0p/lib/site_perl/5.24.0/amd64-freebsd
    /usr/perl5.24.0p/lib/site_perl/5.24.0
    /usr/perl5.24.0p/lib/5.24.0/amd64-freebsd
    /usr/perl5.24.0p/lib/5.24.0
    .