Text-Haml v0.990118 Perl 5 v5.27.3 x86_64-linux

Status
Pass
From
Carlos Guevara
Dist
Text-Haml v0.990118
Platform
Perl 5 v5.27.3 x86_64-linux
Date
2017-08-14 23:55:59
ID
1f1b9af6-814c-11e7-bcfb-9fbab5da7101
This distribution has been tested as part of the CPAN Testers
project, supporting the Perl programming language.  See
http://wiki.cpantesters.org/ for more information or email
questions to cpan-testers-discuss@perl.org


--
Dear Viacheslav Tykhanovskyi,

This is a computer-generated report for Text-Haml-0.990118
on perl 5.27.3, created by CPAN-Reporter-1.2018.

Thank you for uploading your work to CPAN.  Congratulations!
All tests were successful.

Sections of this report:

    * Tester comments
    * Program output
    * Prerequisites
    * Environment and other context

------------------------------
TESTER COMMENTS
------------------------------

Additional comments from tester:

none provided

------------------------------
PROGRAM OUTPUT
------------------------------

Output from './Build test':

t/class-and-id.t ............. ok
t/comments.t ................. ok
t/complete.t ................. ok
t/div.t ...................... ok
t/doctype.t .................. ok
t/escaping.t ................. ok
t/exception.t ................ ok
t/filters.t .................. ok
t/helpers.t .................. ok
t/html-attributes.t .......... ok
t/html-elements.t ............ ok
t/html-escaping.t ............ ok
t/html-unescaping.t .......... ok
t/interpolation.t ............ ok
t/multiline.t ................ ok
t/parse.t .................... ok
t/perl.t ..................... ok
t/plain.t .................... ok
t/pod.t ...................... skipped: set TEST_POD to enable this test
t/pod_coverage.t ............. skipped: set TEST_POD to enable this test
t/render_file.t .............. ok
t/self-closing.t ............. ok
t/unicode.t .................. ok
t/vars.t ..................... ok
t/whitespace-preservation.t .. skipped: Not yet implemented
t/whitespace-removal.t ....... skipped: Not yet implemented
All tests successful.
Files=26, Tests=153,  2 wallclock secs ( 0.12 usr  0.05 sys +  2.29 cusr  0.29 csys =  2.75 CPU)
Result: PASS

------------------------------
PREREQUISITES
------------------------------

Prerequisite modules loaded:

requires:

    Module                Need  Have 
    --------------------- ----- -----
    Carp                  0     1.43 
    Data::Section::Simple 0     0.07 
    Encode                0     2.92 
    File::Basename        0     2.85 
    File::Spec            0     3.68 
    IO::File              0     1.16 
    Scalar::Util          0     1.48 
    URI::Escape           0     3.31 

configure_requires:

    Module                Need  Have 
    --------------------- ----- -----
    Module::Build::Tiny   0.035 0.039


------------------------------
ENVIRONMENT AND OTHER CONTEXT
------------------------------

Environment variables:

    LANG = C
    LC_ALL = C
    NONINTERACTIVE_TESTING = 1
    PATH = /home/cpan/bin:/home/cpan/bin/perl-blead/bin:/home/cpan/bin:/usr/local/sbin:/usr/local/bin:/usr/bin:/usr/bin/site_perl:/usr/bin/vendor_perl:/usr/bin/core_perl
    PERL5LIB = 
    PERL5OPT = 
    PERL5_CPANPLUS_IS_RUNNING = 25522
    PERL5_CPAN_IS_RUNNING = 25522
    PERL_MM_USE_DEFAULT = 1
    PERL_USE_UNSAFE_INC = 1
    SHELL = /bin/bash
    TERM = screen
    TMPDIR = /home/cpan/tmp

Perl special variables (and OS-specific diagnostics, for MSWin32):

    $^X = /home/cpan/bin/perl-blead/bin/perl5.27.3
    $UID/$EUID = 1002 / 1002
    $GID = 1002 1002
    $EGID = 1002 1002

Perl module toolchain versions installed:

    Module              Have    
    ------------------- --------
    CPAN                2.18    
    CPAN::Meta          2.150010
    Cwd                 3.68    
    ExtUtils::CBuilder  0.280228
    ExtUtils::Command   7.30    
    ExtUtils::Install   2.14    
    ExtUtils::MakeMaker 7.30    
    ExtUtils::Manifest  1.70    
    ExtUtils::ParseXS   3.35    
    File::Spec          3.68    
    JSON                2.94    
    JSON::PP            2.94    
    Module::Build       0.4224  
    Module::Signature   0.81    
    Parse::CPAN::Meta   2.150010
    Test::Harness       3.39    
    Test::More          1.302086
    YAML                1.23    
    YAML::Syck          1.30    
    version             0.9918  


--

Summary of my perl5 (revision 5 version 27 subversion 3) configuration:
  Commit id: 7b0b49a788000e00f19945fc6d7f28c1f368ac03
  Platform:
    osname=linux
    osvers=4.12.6-1-arch
    archname=x86_64-linux
    uname='linux cjg-arch 4.12.6-1-arch #1 smp preempt sat aug 12 09:16:22 cest 2017 x86_64 gnulinux '
    config_args='-des -Dprefix=~/bin/perl-blead -Dscriptdir=~/bin/perl-blead/bin -Duse64bitall -Dusedevel'
    hint=recommended
    useposix=true
    d_sigaction=define
    useithreads=undef
    usemultiplicity=undef
    use64bitint=define
    use64bitall=define
    uselongdouble=undef
    usemymalloc=n
    default_inc_excludes_dot=define
    bincompat5005=undef
  Compiler:
    cc='cc'
    ccflags ='-fwrapv -fno-strict-aliasing -pipe -fstack-protector-strong -I/usr/local/include -D_LARGEFILE_SOURCE -D_FILE_OFFSET_BITS=64 -D_FORTIFY_SOURCE=2'
    optimize='-O2'
    cppflags='-fwrapv -fno-strict-aliasing -pipe -fstack-protector-strong -I/usr/local/include'
    ccversion=''
    gccversion='7.1.1 20170630'
    gccosandvers=''
    intsize=4
    longsize=8
    ptrsize=8
    doublesize=8
    byteorder=12345678
    doublekind=3
    d_longlong=define
    longlongsize=8
    d_longdbl=define
    longdblsize=16
    longdblkind=3
    ivtype='long'
    ivsize=8
    nvtype='double'
    nvsize=8
    Off_t='off_t'
    lseeksize=8
    alignbytes=8
    prototype=define
  Linker and Libraries:
    ld='cc'
    ldflags =' -fstack-protector-strong -L/usr/local/lib'
    libpth=/usr/local/lib /usr/lib/gcc/x86_64-pc-linux-gnu/7.1.1/include-fixed /usr/lib /lib/../lib /usr/lib/../lib /lib /lib64 /usr/lib64
    libs=-lpthread -lnsl -lgdbm -ldb -ldl -lm -lcrypt -lutil -lc -lgdbm_compat
    perllibs=-lpthread -lnsl -ldl -lm -lcrypt -lutil -lc
    libc=libc-2.25.so
    so=so
    useshrplib=false
    libperl=libperl.a
    gnulibc_version='2.25'
  Dynamic Linking:
    dlsrc=dl_dlopen.xs
    dlext=so
    d_dlsymun=undef
    ccdlflags='-Wl,-E'
    cccdlflags='-fPIC'
    lddlflags='-shared -O2 -L/usr/local/lib -fstack-protector-strong'


Characteristics of this binary (from libperl): 
  Compile-time options:
    HAS_TIMES
    PERLIO_LAYERS
    PERL_COPY_ON_WRITE
    PERL_DONT_CREATE_GVSV
    PERL_MALLOC_WRAP
    PERL_OP_PARENT
    PERL_PRESERVE_IVUV
    PERL_USE_DEVEL
    USE_64_BIT_ALL
    USE_64_BIT_INT
    USE_LARGE_FILES
    USE_LOCALE
    USE_LOCALE_COLLATE
    USE_LOCALE_CTYPE
    USE_LOCALE_NUMERIC
    USE_LOCALE_TIME
    USE_PERLIO
    USE_PERL_ATOF
  Built under linux
  Compiled at Aug 14 2017 15:58:34
  %ENV:
    PERL5LIB=""
    PERL5OPT=""
    PERL5_CPANPLUS_IS_RUNNING="25522"
    PERL5_CPAN_IS_RUNNING="25522"
    PERL_MM_USE_DEFAULT="1"
    PERL_USE_UNSAFE_INC="1"
  @INC:
    /home/cpan/bin/perl-blead/lib/site_perl/5.27.3/x86_64-linux
    /home/cpan/bin/perl-blead/lib/site_perl/5.27.3
    /home/cpan/bin/perl-blead/lib/5.27.3/x86_64-linux
    /home/cpan/bin/perl-blead/lib/5.27.3
    .