Software-License v0.103014 Perl 5 v5.32.0 x86_64-linux-thread-multi

Status
Pass
From
Arpad Szasz
Dist
Software-License v0.103014
Platform
Perl 5 v5.32.0 x86_64-linux-thread-multi
Date
2020-09-14 11:19:14
ID
1f3cc3d6-f67c-11ea-9bcc-a649b73e0410
This distribution has been tested as part of the CPAN Testers
project, supporting the Perl programming language.  See
http://wiki.cpantesters.org/ for more information or email
questions to cpan-testers-discuss@perl.org


--
Dear LEONT,

This is a computer-generated report for Software-License-0.103014
on perl 5.32.0, created by App::cpanminus::reporter 0.17 (1.7044).

Thank you for uploading your work to CPAN.  Congratulations!
All tests were successful.

Sections of this report:

    * Tester comments
    * Program output
    * Prerequisites
    * Environment and other context

------------------------------
TESTER COMMENTS
------------------------------

Additional comments from tester:

none provided

------------------------------
PROGRAM OUTPUT
------------------------------

Output from '':

Building and testing Software-License-0.103014
cp lib/Software/License/EUPL_1_2.pm blib/lib/Software/License/EUPL_1_2.pm
cp lib/Software/License/GFDL_1_3.pm blib/lib/Software/License/GFDL_1_3.pm
cp lib/Software/License/Mozilla_1_1.pm blib/lib/Software/License/Mozilla_1_1.pm
cp lib/Software/License/Custom.pm blib/lib/Software/License/Custom.pm
cp lib/Software/License/FreeBSD.pm blib/lib/Software/License/FreeBSD.pm
cp lib/Software/License/GPL_2.pm blib/lib/Software/License/GPL_2.pm
cp lib/Software/License/Apache_2_0.pm blib/lib/Software/License/Apache_2_0.pm
cp lib/Software/License/Mozilla_1_0.pm blib/lib/Software/License/Mozilla_1_0.pm
cp lib/Software/License/Artistic_2_0.pm blib/lib/Software/License/Artistic_2_0.pm
cp lib/Software/License/QPL_1_0.pm blib/lib/Software/License/QPL_1_0.pm
cp lib/Software/License/GFDL_1_2.pm blib/lib/Software/License/GFDL_1_2.pm
cp lib/Software/License/Perl_5.pm blib/lib/Software/License/Perl_5.pm
cp lib/Software/License/Apache_1_1.pm blib/lib/Software/License/Apache_1_1.pm
cp lib/Software/License/GPL_3.pm blib/lib/Software/License/GPL_3.pm
cp lib/Software/License/EUPL_1_1.pm blib/lib/Software/License/EUPL_1_1.pm
cp lib/Software/License/LGPL_3_0.pm blib/lib/Software/License/LGPL_3_0.pm
cp lib/Software/License/GPL_1.pm blib/lib/Software/License/GPL_1.pm
cp lib/Software/License/LGPL_2_1.pm blib/lib/Software/License/LGPL_2_1.pm
cp lib/Software/LicenseUtils.pm blib/lib/Software/LicenseUtils.pm
cp lib/Software/License/MIT.pm blib/lib/Software/License/MIT.pm
cp lib/Software/License/None.pm blib/lib/Software/License/None.pm
cp lib/Software/License/Mozilla_2_0.pm blib/lib/Software/License/Mozilla_2_0.pm
cp lib/Software/License/SSLeay.pm blib/lib/Software/License/SSLeay.pm
cp lib/Software/License/CC0_1_0.pm blib/lib/Software/License/CC0_1_0.pm
cp lib/Software/License/AGPL_3.pm blib/lib/Software/License/AGPL_3.pm
cp lib/Software/License/BSD.pm blib/lib/Software/License/BSD.pm
cp lib/Software/License.pm blib/lib/Software/License.pm
cp lib/Software/License/Artistic_1_0.pm blib/lib/Software/License/Artistic_1_0.pm
cp lib/Software/License/PostgreSQL.pm blib/lib/Software/License/PostgreSQL.pm
cp lib/Software/License/Sun.pm blib/lib/Software/License/Sun.pm
cp lib/Software/License/OpenSSL.pm blib/lib/Software/License/OpenSSL.pm
cp lib/Software/License/Zlib.pm blib/lib/Software/License/Zlib.pm
Manifying 31 pod documents
Manifying 1 pod document
PERL_DL_NONLAZY=1 "/home/arpi/opt/perl5/perls/perl-5.32.0/bin/perl" "-MExtUtils::Command::MM" "-MTest::Harness" "-e" "undef *Test::Harness::Switches; test_harness(0, 'blib/lib', 'blib/arch')" t/*.t
# 
# Versions for all modules listed in MYMETA.json (including optional ones):
# 
# === Configure Requires ===
# 
#     Module              Want Have
#     ------------------- ---- ----
#     ExtUtils::MakeMaker  any 7.46
# 
# === Configure Suggests ===
# 
#     Module      Want Have
#     -------- ------- ----
#     JSON::PP 2.27300 4.05
# 
# === Build Requires ===
# 
#     Module              Want Have
#     ------------------- ---- ----
#     ExtUtils::MakeMaker  any 7.46
# 
# === Test Requires ===
# 
#     Module              Want     Have
#     ------------------- ---- --------
#     ExtUtils::MakeMaker  any     7.46
#     File::Spec           any     3.78
#     Test::More          0.96 1.302177
#     Try::Tiny            any     0.30
# 
# === Test Recommends ===
# 
#     Module         Want     Have
#     ---------- -------- --------
#     CPAN::Meta 2.120900 2.150010
# 
# === Runtime Requires ===
# 
#     Module         Want     Have
#     -------------- ---- --------
#     Carp            any     1.50
#     Data::Section   any 0.200007
#     File::Spec      any     3.78
#     IO::Dir         any     1.41
#     Module::Load    any     0.34
#     Text::Template  any     1.59
#     parent          any    0.238
#     strict          any     1.11
#     utf8            any     1.22
#     warnings        any     1.47
# 
t/00-report-prereqs.t ....... ok
t/basic.t ................... ok
t/bsd-url.t ................. ok
t/creative_commons.t ........ skipped: requires Software::License::CCpack to test this
t/custom.t .................. ok
t/from-spdx-expression.t .... ok
t/guess_license_from_pod.t .. ok
t/guess_meta_license.t ...... ok
t/meta-names.t .............. ok
t/round-trip.t .............. ok
t/short_name.t .............. ok
t/spdx-expression.t ......... ok
t/two-dots.t ................ ok
t/utils.t ................... ok
All tests successful.
Files=14, Tests=219,  1 wallclock secs ( 0.04 usr  0.02 sys +  1.18 cusr  0.12 csys =  1.36 CPU)
Result: PASS

------------------------------
PREREQUISITES
------------------------------

Prerequisite modules loaded:

    No requirements found

------------------------------
ENVIRONMENT AND OTHER CONTEXT
------------------------------

Environment variables:

    LANG = en_US.UTF-8
    LC_ADDRESS = ro_RO.UTF-8
    LC_IDENTIFICATION = ro_RO.UTF-8
    LC_MEASUREMENT = ro_RO.UTF-8
    LC_MONETARY = ro_RO.UTF-8
    LC_NAME = ro_RO.UTF-8
    LC_NUMERIC = ro_RO.UTF-8
    LC_PAPER = ro_RO.UTF-8
    LC_TELEPHONE = ro_RO.UTF-8
    LC_TIME = ro_RO.UTF-8
    PATH = /home/arpi/.cargo/bin:/home/arpi/.nvm/versions/node/v12.12.0/bin:/home/arpi/opt/perl5/bin:/home/arpi/opt/perl5/perls/stable/bin:/home/arpi/.cargo/bin:/home/arpi/.local/share/umake/bin:/home/arpi/opt/terraform:/home/arpi/.rakudobrew/bin:/home/arpi/.local/bin:/home/arpi/bin:/usr/local/sbin:/usr/local/bin:/usr/sbin:/usr/bin:/sbin:/bin:/usr/games:/usr/local/games:/snap/bin:/usr/lib/jvm/java-8-oracle/bin:/usr/lib/jvm/java-8-oracle/db/bin:/usr/lib/jvm/java-8-oracle/jre/bin:/home/arpi/.yarn/bin:/home/arpi/.fzf/bin
    PERLBREW_HOME = /home/arpi/.perlbrew
    PERLBREW_MANPATH = /home/arpi/opt/perl5/perls/stable/man
    PERLBREW_PATH = /home/arpi/opt/perl5/bin:/home/arpi/opt/perl5/perls/stable/bin
    PERLBREW_PERL = stable
    PERLBREW_ROOT = /home/arpi/opt/perl5
    PERLBREW_SHELLRC_VERSION = 0.88
    PERLBREW_VERSION = 0.88
    SHELL = /bin/bash
    TERM = xterm-256color

Perl special variables (and OS-specific diagnostics, for MSWin32):

    EGID = 1000 4 20 24 27 29 30 46 108 115 131 132 145 998 1000
    EUID = 1000
    EXECUTABLE_NAME = /home/arpi/opt/perl5/perls/perl-5.32.0/bin/perl
    GID = 1000 4 20 24 27 29 30 46 108 115 131 132 145 998 1000
    UID = 1000

Perl module toolchain versions installed:

    Module              Have    
    ------------------- --------
    CPAN                2.28    
    CPAN::Meta          2.150010
    Cwd                 3.78    
    ExtUtils::CBuilder  0.280234
    ExtUtils::Command   7.46    
    ExtUtils::Install   2.16    
    ExtUtils::MakeMaker 7.46    
    ExtUtils::Manifest  1.72    
    ExtUtils::ParseXS   3.40    
    File::Spec          3.78    
    JSON                4.02    
    JSON::PP            4.05    
    Module::Build       0.4231  
    Module::Signature   n/a     
    Parse::CPAN::Meta   2.150010
    Test::Harness       3.42    
    Test::More          1.302180
    YAML                1.30    
    YAML::Syck          n/a     
    version             0.9927  


--

Summary of my perl5 (revision 5 version 32 subversion 0) configuration:
   
  Platform:
    osname=linux
    osvers=5.4.0-37-generic
    archname=x86_64-linux-thread-multi
    uname='linux guppy 5.4.0-37-generic #41-ubuntu smp wed jun 3 18:57:02 utc 2020 x86_64 x86_64 x86_64 gnulinux '
    config_args='-de -Dprefix=/home/arpi/opt/perl5/perls/perl-5.32.0 -Dusethreads -Duselargefiles -Duse64bitall -Dusesitecustomize -Duseshrplib -Dinc_version_list=none -Dpager=/bin/less -Doptimize=-O2 -Dcf_by=Plenum.ro -Dcf_email=arpad.szasz@plenum.ro -Uuserelocatableinc -UDEBUGGING -Aeval:scriptdir=/home/arpi/opt/perl5/perls/perl-5.32.0/bin'
    hint=recommended
    useposix=true
    d_sigaction=define
    useithreads=define
    usemultiplicity=define
    use64bitint=define
    use64bitall=define
    uselongdouble=undef
    usemymalloc=n
    default_inc_excludes_dot=define
    bincompat5005=undef
  Compiler:
    cc='cc'
    ccflags ='-D_REENTRANT -D_GNU_SOURCE -fwrapv -fno-strict-aliasing -pipe -fstack-protector-strong -I/usr/local/include -D_LARGEFILE_SOURCE -D_FILE_OFFSET_BITS=64'
    optimize='-O2'
    cppflags='-D_REENTRANT -D_GNU_SOURCE -fwrapv -fno-strict-aliasing -pipe -fstack-protector-strong -I/usr/local/include'
    ccversion=''
    gccversion='9.3.0'
    gccosandvers=''
    intsize=4
    longsize=8
    ptrsize=8
    doublesize=8
    byteorder=12345678
    doublekind=3
    d_longlong=define
    longlongsize=8
    d_longdbl=define
    longdblsize=16
    longdblkind=3
    ivtype='long'
    ivsize=8
    nvtype='double'
    nvsize=8
    Off_t='off_t'
    lseeksize=8
    alignbytes=8
    prototype=define
  Linker and Libraries:
    ld='cc'
    ldflags =' -fstack-protector-strong -L/usr/local/lib'
    libpth=/usr/local/lib /usr/include/x86_64-linux-gnu /usr/lib /lib/x86_64-linux-gnu /lib/../lib /usr/lib/x86_64-linux-gnu /usr/lib/../lib /lib /lib64 /usr/lib64
    libs=-lpthread -lnsl -ldl -lm -lcrypt -lutil -lc
    perllibs=-lpthread -lnsl -ldl -lm -lcrypt -lutil -lc
    libc=libc-2.31.so
    so=so
    useshrplib=true
    libperl=libperl.so
    gnulibc_version='2.31'
  Dynamic Linking:
    dlsrc=dl_dlopen.xs
    dlext=so
    d_dlsymun=undef
    ccdlflags='-Wl,-E -Wl,-rpath,/home/arpi/opt/perl5/perls/perl-5.32.0/lib/5.32.0/x86_64-linux-thread-multi/CORE'
    cccdlflags='-fPIC'
    lddlflags='-shared -O2 -L/usr/local/lib -fstack-protector-strong'


Characteristics of this binary (from libperl): 
  Compile-time options:
    HAS_TIMES
    MULTIPLICITY
    PERLIO_LAYERS
    PERL_COPY_ON_WRITE
    PERL_DONT_CREATE_GVSV
    PERL_IMPLICIT_CONTEXT
    PERL_MALLOC_WRAP
    PERL_OP_PARENT
    PERL_PRESERVE_IVUV
    USE_64_BIT_ALL
    USE_64_BIT_INT
    USE_ITHREADS
    USE_LARGE_FILES
    USE_LOCALE
    USE_LOCALE_COLLATE
    USE_LOCALE_CTYPE
    USE_LOCALE_NUMERIC
    USE_LOCALE_TIME
    USE_PERLIO
    USE_PERL_ATOF
    USE_REENTRANT_API
    USE_SITECUSTOMIZE
    USE_THREAD_SAFE_LOCALE
  Built under linux
  Compiled at Jun 21 2020 10:28:55
  %ENV:
    PERLBREW_HOME="/home/arpi/.perlbrew"
    PERLBREW_MANPATH="/home/arpi/opt/perl5/perls/stable/man"
    PERLBREW_PATH="/home/arpi/opt/perl5/bin:/home/arpi/opt/perl5/perls/stable/bin"
    PERLBREW_PERL="stable"
    PERLBREW_ROOT="/home/arpi/opt/perl5"
    PERLBREW_SHELLRC_VERSION="0.88"
    PERLBREW_VERSION="0.88"
  @INC:
    /home/arpi/opt/perl5/perls/perl-5.32.0/lib/site_perl/5.32.0/x86_64-linux-thread-multi
    /home/arpi/opt/perl5/perls/perl-5.32.0/lib/site_perl/5.32.0
    /home/arpi/opt/perl5/perls/perl-5.32.0/lib/5.32.0/x86_64-linux-thread-multi
    /home/arpi/opt/perl5/perls/perl-5.32.0/lib/5.32.0