Astro-Catalog v4.37 Perl 5 v5.26.3 x86_64-linux

Status
Pass
From
Slaven Rezić
Dist
Astro-Catalog v4.37
Platform
Perl 5 v5.26.3 x86_64-linux
Date
2024-10-29 06:57:54
ID
1f3f1100-95c3-11ef-9900-0a496e8775ea
This distribution has been tested as part of the CPAN Testers
project, supporting the Perl programming language.  See
http://wiki.cpantesters.org/ for more information or email
questions to cpan-testers-discuss@perl.org


--
Dear Graham Bell,

This is a computer-generated report for Astro-Catalog-4.37
on perl 5.26.3, created by CPAN-Reporter-1.2019.

Thank you for uploading your work to CPAN.  Congratulations!
All tests were successful.

Sections of this report:

    * Tester comments
    * Program output
    * Prerequisites
    * Environment and other context

------------------------------
TESTER COMMENTS
------------------------------

Additional comments from tester:

none provided

------------------------------
PROGRAM OUTPUT
------------------------------

Output from './Build test':

# Astro::Catalog::IO::VOTable can not locate Astro/VO/VOTable/Document.pm
# Astro::Catalog::IO::VEX can not locate Astro/VEX.pm
t/1_compile.t ..... ok
t/2_astrom.t ...... ok
t/2_cluster.t ..... ok
t/2_findoff.t ..... ok
t/2_fitstable.t ... ok
t/2_gaiapick.t .... ok
t/2_jcmt.t ........ ok
t/2_jcmt_loose.t .. ok
t/2_northstar.t ... ok
t/2_ritmatch.t .... ok
t/2_sextractor.t .. ok
t/2_simple.t ...... ok
t/2_stl.t ......... ok
t/2_tst.t ......... ok
t/2_ukirtbs.t ..... ok
t/2_votable.t ..... skipped: Astro::VO::VOTable not installed
t/2_xy.t .......... ok
t/3_catalog.t ..... ok
t/3_item.t ........ ok
t/3_morphology.t .. ok
t/3_star.t ........ ok
t/4_cmc.t ......... ok
Use of uninitialized value $separated[3] in concatenation (.) or string at /home/cpansand/.cpan/build/2024102903/Astro-Catalog-4.37-3/blib/lib/Astro/Catalog/Query/GSC.pm line 200.
Use of uninitialized value in concatenation (.) or string at /home/cpansand/.cpan/build/2024102903/Astro-Catalog-4.37-3/blib/lib/Astro/Catalog/Query/GSC.pm line 200.
Use of uninitialized value in concatenation (.) or string at /home/cpansand/.cpan/build/2024102903/Astro-Catalog-4.37-3/blib/lib/Astro/Catalog/Query/GSC.pm line 200.
Use of uninitialized value $separated[6] in concatenation (.) or string at /home/cpansand/.cpan/build/2024102903/Astro-Catalog-4.37-3/blib/lib/Astro/Catalog/Query/GSC.pm line 203.
Use of uninitialized value in concatenation (.) or string at /home/cpansand/.cpan/build/2024102903/Astro-Catalog-4.37-3/blib/lib/Astro/Catalog/Query/GSC.pm line 203.
Use of uninitialized value in concatenation (.) or string at /home/cpansand/.cpan/build/2024102903/Astro-Catalog-4.37-3/blib/lib/Astro/Catalog/Query/GSC.pm line 203.
Unable to find plausible coordinate in string '' at /opt/perl-5.26.3/lib/site_perl/5.26.3/Astro/Coords/Equatorial.pm line 149.
Unable to find plausible coordinate in string '' at /opt/perl-5.26.3/lib/site_perl/5.26.3/Astro/Coords/Equatorial.pm line 151.
# Cannot connect to ESO GSC: Coordinates must be an Astro::Coords object at /home/cpansand/.cpan/build/2024102903/Astro-Catalog-4.37-3/blib/lib/Astro/Catalog/Query/GSC.pm line 205.
t/4_gsc.t ......... ok
# Error 500: Failed to establish network connection using url http://scully.harvard.edu/~cgi/MPCheck.COM?which=pos&limit=20&oc=500&month=3&type=p&radius=300&sort=d&year=2004&day=1.87&tmot=s&needed=f&decl=-14+02+00&ra=07+13+42&ps=n&mot=h&TextArea= at t/4_mpc.t line 99.
t/4_mpc.t ......... ok
# Cannot connect to Sesame: Service description 'http://cdsws.u-strasbg.fr/axis/services/Sesame?wsdl' can't be loaded: 500 Can't connect to cdsws.u-strasbg.fr:80 (Name or service not known)
# Cannot connect to Sesame: Service description 'http://cdsws.u-strasbg.fr/axis/services/Sesame?wsdl' can't be loaded: 500 Can't connect to cdsws.u-strasbg.fr:80 (Name or service not known)
t/4_sesame.t ...... ok
# Can not construct Skycat client: unable to find a remote service named gsc@eso at t/4_skycat_gsc.t line 107.
t/4_skycat_gsc.t .. ok
# Cannot connect to USNO-A2: Error 404: Failed to establish network connection using url http://archive.eso.org/skycat/servers/usnoa_res?nout=2000&sort=ra&object=HT Cas&format=1&magbright=0&radmax=1&magfaint=100 at t/4_usnoa2.t line 152.
t/4_usnoa2.t ...... ok
All tests successful.
Files=27, Tests=3471, 14 wallclock secs ( 0.25 usr  0.08 sys + 10.26 cusr  2.42 csys = 13.01 CPU)
Result: PASS

------------------------------
PREREQUISITES
------------------------------

Prerequisite modules loaded:

requires:

    Module                    Need Have    
    ------------------------- ---- --------
    Astro::Coords             0.12 0.21    
    Astro::Flux               0.01 0.01    
    Astro::Telescope          0.5  0.71    
    Carp                      1.01 1.50    
    Class::Struct             0.63 0.65    
    Data::Dumper              2.12 2.183   
    DateTime                  0    1.65    
    DateTime::Format::ISO8601 0    0.16    
    File::Spec                0.84 3.75    
    File::Temp                0.14 0.2311  
    LWP                       5.53 6.77    
    Misc::Quality             0.01 0.01    
    Net::Domain               2.13 3.10    
    Number::Uncertainty       0.01 1.4     
    Pod::Usage                1.14 2.03    
    Scalar::Util              1.14 1.64    
    SOAP::Lite                0    1.27    
    Time::Piece               1.08 1.3401  

build_requires:

    Module                    Need Have    
    ------------------------- ---- --------
    Test::More                0    1.302204

configure_requires:

    Module                    Need Have    
    ------------------------- ---- --------
    Module::Build             0.3  0.4234  


------------------------------
ENVIRONMENT AND OTHER CONTEXT
------------------------------

Environment variables:

    LANG = en_US.UTF-8
    PATH = /usr/local/bin:/usr/bin:/bin:/usr/local/sbin:/usr/sbin:/sbin:/home/cpansand/bin/linux-gnu:/home/cpansand/bin/sh:/home/cpansand/bin:/usr/games:/home/cpansand/devel:/home/eserte/src/srezic-misc/scripts
    PERL5LIB = /home/cpansand/.cpan/build/2024102903/Astro-Flux-0.01-3/blib/arch:/home/cpansand/.cpan/build/2024102903/Astro-Flux-0.01-3/blib/lib:/home/cpansand/.cpan/build/2024102903/Number-Uncertainty-0.1-3/blib/arch:/home/cpansand/.cpan/build/2024102903/Number-Uncertainty-0.1-3/blib/lib:/home/cpansand/.cpan/build/2024102903/Misc-Quality-0.1-3/blib/arch:/home/cpansand/.cpan/build/2024102903/Misc-Quality-0.1-3/blib/lib:/home/cpansand/.cpan/build/2024102903/Astro-WaveBand-0.11-3/blib/arch:/home/cpansand/.cpan/build/2024102903/Astro-WaveBand-0.11-3/blib/lib
    PERL5OPT = 
    PERL5_CPANPLUS_IS_RUNNING = 3735526
    PERL5_CPAN_IS_RUNNING = 3735526
    PERL5_CPAN_IS_RUNNING_IN_RECURSION = 3733749,3735526
    PERLDOC = -MPod::Perldoc::ToTextOverstrike
    PERL_BATCH = yes
    PERL_CANARY_STABILITY_NOPROMPT = 1
    PERL_CPAN_REPORTER_CONFIG = /var/tmp/cpansmoker-1023/2024102903/cpanreporter_000_config.ini
    PERL_EXTUTILS_AUTOINSTALL = --defaultdeps
    PERL_USE_UNSAFE_INC = 1
    SHELL = /usr/bin/zsh
    TERM = screen
    TMPDIR = /var/tmp/cpansmoker-1023/2024102903

Perl special variables (and OS-specific diagnostics, for MSWin32):

    $^X = /opt/perl-5.26.3/bin/perl
    $UID/$EUID = 1023 / 1023
    $GID = 1023 1023
    $EGID = 1023 1023

Perl module toolchain versions installed:

    Module              Have    
    ------------------- --------
    CPAN                2.18    
    CPAN::Meta          2.150010
    Cwd                 3.75    
    ExtUtils::CBuilder  0.280236
    ExtUtils::Command   7.70    
    ExtUtils::Install   2.06    
    ExtUtils::MakeMaker 7.70    
    ExtUtils::Manifest  1.75    
    ExtUtils::ParseXS   3.51    
    File::Spec          3.75    
    JSON                4.10    
    JSON::PP            4.16    
    Module::Build       0.4234  
    Module::Signature   n/a     
    Parse::CPAN::Meta   2.150010
    Test2               1.302204
    Test::Harness       3.50    
    Test::More          1.302204
    YAML                1.31    
    YAML::Syck          1.34    
    version             0.9930  


--

Summary of my perl5 (revision 5 version 26 subversion 3) configuration:
   
  Platform:
    osname=linux
    osvers=6.6.8-100.fc38.x86_64
    archname=x86_64-linux
    uname='linux fedora39-2gb-hil 6.6.8-100.fc38.x86_64 #1 smp preempt_dynamic thu dec 21 04:01:45 utc 2023 x86_64 gnulinux '
    config_args='-ds -e -Dprefix=/opt/perl-5.26.3 -Dcf_email=srezic@cpan.org'
    hint=recommended
    useposix=true
    d_sigaction=define
    useithreads=undef
    usemultiplicity=undef
    use64bitint=define
    use64bitall=define
    uselongdouble=undef
    usemymalloc=n
    default_inc_excludes_dot=define
    bincompat5005=undef
  Compiler:
    cc='cc'
    ccflags ='-fwrapv -fno-strict-aliasing -pipe -fstack-protector-strong -I/usr/local/include -D_LARGEFILE_SOURCE -D_FILE_OFFSET_BITS=64 -D_FORTIFY_SOURCE=2'
    optimize='-O2'
    cppflags='-fwrapv -fno-strict-aliasing -pipe -fstack-protector-strong -I/usr/local/include'
    ccversion=''
    gccversion='13.2.1 20231205 (Red Hat 13.2.1-6)'
    gccosandvers=''
    intsize=4
    longsize=8
    ptrsize=8
    doublesize=8
    byteorder=12345678
    doublekind=3
    d_longlong=define
    longlongsize=8
    d_longdbl=define
    longdblsize=16
    longdblkind=3
    ivtype='long'
    ivsize=8
    nvtype='double'
    nvsize=8
    Off_t='off_t'
    lseeksize=8
    alignbytes=8
    prototype=define
  Linker and Libraries:
    ld='cc'
    ldflags =' -fstack-protector-strong -L/usr/local/lib'
    libpth=/usr/local/lib /usr/lib /lib/../lib64 /usr/lib/../lib64 /lib /lib64 /usr/lib64 /usr/local/lib64
    libs=-lpthread -ldb -ldl -lm -lcrypt -lutil -lc
    perllibs=-lpthread -ldl -lm -lcrypt -lutil -lc
    libc=/lib/../lib64/libc.so.6
    so=so
    useshrplib=false
    libperl=libperl.a
    gnulibc_version='2.38'
  Dynamic Linking:
    dlsrc=dl_dlopen.xs
    dlext=so
    d_dlsymun=undef
    ccdlflags='-Wl,-E'
    cccdlflags='-fPIC'
    lddlflags='-shared -O2 -L/usr/local/lib -fstack-protector-strong'


Characteristics of this binary (from libperl): 
  Compile-time options:
    HAS_TIMES
    PERLIO_LAYERS
    PERL_COPY_ON_WRITE
    PERL_DONT_CREATE_GVSV
    PERL_MALLOC_WRAP
    PERL_OP_PARENT
    PERL_PRESERVE_IVUV
    USE_64_BIT_ALL
    USE_64_BIT_INT
    USE_LARGE_FILES
    USE_LOCALE
    USE_LOCALE_COLLATE
    USE_LOCALE_CTYPE
    USE_LOCALE_NUMERIC
    USE_LOCALE_TIME
    USE_PERLIO
    USE_PERL_ATOF
  Locally applied patches:
    Devel::PatchPerl 2.08
  Built under linux
  Compiled at Dec 27 2023 08:18:18
  %ENV:
    PERL5LIB="/home/cpansand/.cpan/build/2024102903/Astro-Flux-0.01-3/blib/arch:/home/cpansand/.cpan/build/2024102903/Astro-Flux-0.01-3/blib/lib:/home/cpansand/.cpan/build/2024102903/Number-Uncertainty-0.1-3/blib/arch:/home/cpansand/.cpan/build/2024102903/Number-Uncertainty-0.1-3/blib/lib:/home/cpansand/.cpan/build/2024102903/Misc-Quality-0.1-3/blib/arch:/home/cpansand/.cpan/build/2024102903/Misc-Quality-0.1-3/blib/lib:/home/cpansand/.cpan/build/2024102903/Astro-WaveBand-0.11-3/blib/arch:/home/cpansand/.cpan/build/2024102903/Astro-WaveBand-0.11-3/blib/lib"
    PERL5OPT=""
    PERL5_CPANPLUS_IS_RUNNING="3735526"
    PERL5_CPAN_IS_RUNNING="3735526"
    PERL5_CPAN_IS_RUNNING_IN_RECURSION="3733749,3735526"
    PERLDOC="-MPod::Perldoc::ToTextOverstrike"
    PERL_BATCH="yes"
    PERL_CANARY_STABILITY_NOPROMPT="1"
    PERL_CPAN_REPORTER_CONFIG="/var/tmp/cpansmoker-1023/2024102903/cpanreporter_000_config.ini"
    PERL_EXTUTILS_AUTOINSTALL="--defaultdeps"
    PERL_USE_UNSAFE_INC="1"
  @INC:
    /home/cpansand/.cpan/build/2024102903/Astro-Flux-0.01-3/blib/arch
    /home/cpansand/.cpan/build/2024102903/Astro-Flux-0.01-3/blib/lib
    /home/cpansand/.cpan/build/2024102903/Number-Uncertainty-0.1-3/blib/arch
    /home/cpansand/.cpan/build/2024102903/Number-Uncertainty-0.1-3/blib/lib
    /home/cpansand/.cpan/build/2024102903/Misc-Quality-0.1-3/blib/arch
    /home/cpansand/.cpan/build/2024102903/Misc-Quality-0.1-3/blib/lib
    /home/cpansand/.cpan/build/2024102903/Astro-WaveBand-0.11-3/blib/arch
    /home/cpansand/.cpan/build/2024102903/Astro-WaveBand-0.11-3/blib/lib
    /opt/perl-5.26.3/lib/site_perl/5.26.3/x86_64-linux
    /opt/perl-5.26.3/lib/site_perl/5.26.3
    /opt/perl-5.26.3/lib/5.26.3/x86_64-linux
    /opt/perl-5.26.3/lib/5.26.3
    .