Report for WWW-Scripter-0.032

Back
From: metabase:user:a0e144f2-373b-11e6-8edd-c6848980b093
Subject: PASS WWW-Scripter-0.032 v5.25.6 GNU/Linux
Date: 2016-11-09T03:46:40Z

This distribution has been tested as part of the CPAN Testers
project, supporting the Perl programming language.  See
http://wiki.cpantesters.org/ for more information or email
questions to cpan-testers-discuss@perl.org


--
Dear Father Chrysostomos,

This is a computer-generated report for WWW-Scripter-0.032
on perl 5.25.6, created by CPAN-Reporter-1.2018.

Thank you for uploading your work to CPAN.  Congratulations!
All tests were successful.

Sections of this report:

    * Tester comments
    * Program output
    * Prerequisites
    * Environment and other context

------------------------------
TESTER COMMENTS
------------------------------

Additional comments from tester:

this report is from an automated smoke testing program
and was not reviewed by a human for accuracy

------------------------------
PROGRAM OUTPUT
------------------------------

Output from '/usr/bin/make test':

PERL_DL_NONLAZY=1 "/home/cpan1/install/bin/perl" "-MExtUtils::Command::MM" "-MTest::Harness" "-e" "undef *Test::Harness::Switches; test_harness(0, 'blib/lib', 'blib/arch')" t/*.t
t/class-info.t ...... ok
t/credentials.t ..... ok
t/base.t ............ ok
t/clear_history.t ... ok
t/dom.t ............. ok
t/double-colon.t .... ok
t/fragments.t ....... ok
t/dustbin-man.t ..... ok
t/handlers.t ........ ok
t/events.t .......... ok
t/frames.t .......... ok
t/history.t ......... ok
t/images.t .......... ok
t/links.t ........... ok
t/plugin-cloning.t .. ok
t/navigator.t ....... ok
t/rt-84472.t ........ ok
t/plugins.t ......... ok
t/status.t .......... skipped: removed due to conflicts
t/scroll.t .......... ok
t/scripts.t ......... ok
t/target.t .......... ok
t/submit.t .......... ok
# This script (timers.t) pauses a few times.
t/tied-_.t .......... ok
t/title.t ........... ok
t/windows.t ......... ok
t/timers.t .......... ok
t/location.t ........ ok
All tests successful.
Files=28, Tests=412, 384 wallclock secs ( 0.17 usr  0.02 sys + 12.24 cusr  0.60 csys = 13.03 CPU)
Result: PASS

------------------------------
PREREQUISITES
------------------------------

Prerequisite modules loaded:

requires:

    Module                     Need  Have    
    -------------------------- ----- --------
    CSS::DOM::Interface        0     0.16    
    Encode                     0     2.86    
    Exporter                   5.57  5.72    
    HTML::DOM                  0.057 0.057   
    HTML::DOM::Collection      0     0.057   
    HTML::DOM::Element::Form   0.039 0.057   
    HTML::DOM::EventTarget     0.053 0.057   
    HTML::DOM::Interface       0.019 0.057   
    HTML::DOM::NodeList::Magic 0.02  0.057   
    HTML::DOM::View            0.018 0.057   
    HTTP::Headers::Util        0     6.11    
    HTTP::Message              1.34  6.11    
    HTTP::Request              1.29  6.11    
    HTTP::Response             1.35  6.11    
    IO::Uncompress::Gunzip     0     2.069_01
    lib                        0     0.63    
    List::Util                 0     1.46    
    LWP                        5     6.15    
    LWP::Protocol              0     6.15    
    overload                   0     1.27    
    Scalar::Util               1.09  1.46    
    strict                     0     1.11    
    Test::More                 0     1.302061
    Time::HiRes                0     1.9740  
    URI                        0     1.71    
    URI::data                  0     1.71    
    URI::file                  0     4.21    
    utf8                       0     1.19    
    warnings                   0     1.37    
    WWW::Mechanize             1.52  1.83    
    WWW::Mechanize::Image      0     1.83    
    WWW::Mechanize::Link       0     1.83    

build_requires:

    Module                     Need  Have    
    -------------------------- ----- --------
    ExtUtils::MakeMaker        0     7.24    

configure_requires:

    Module                     Need  Have    
    -------------------------- ----- --------
    ExtUtils::MakeMaker        0     7.24    


------------------------------
ENVIRONMENT AND OTHER CONTEXT
------------------------------

Environment variables:

    AUTOMATED_TESTING = 1
    HARNESS_OPTIONS = j5
    LANG = en_US.UTF-8
    PATH = /usr/local/bin:/usr/bin:/bin:/usr/local/games:/usr/games
    PERL5LIB = 
    PERL5OPT = 
    PERL5_CPANPLUS_IS_RUNNING = 25704
    PERL5_CPAN_IS_RUNNING = 25704
    PERL5_CPAN_IS_RUNNING_IN_RECURSION = 870,25704
    PERLBREW_BASHRC_VERSION = 0.76
    PERLBREW_HOME = /home/dcollins/.perlbrew
    PERLBREW_ROOT = /home/dcollins/toolchain/perl5
    PERL_CR_SMOKER_CURRENT = WWW-Scripter-0.032
    PERL_CR_SMOKER_RUNONCE = 1
    PERL_EXTUTILS_AUTOINSTALL = --defaultdeps
    PERL_MM_USE_DEFAULT = 1
    SHELL = /bin/bash
    TERM = putty

Perl special variables (and OS-specific diagnostics, for MSWin32):

    $^X = /home/cpan1/install/bin/perl
    $UID/$EUID = 1002 / 1002
    $GID = 1002 1002
    $EGID = 1002 1002

Perl module toolchain versions installed:

    Module              Have      
    ------------------- ----------
    CPAN                2.14_01   
    CPAN::Meta          2.150010  
    Cwd                 3.65      
    ExtUtils::CBuilder  0.280225  
    ExtUtils::Command   7.24      
    ExtUtils::Install   2.04      
    ExtUtils::MakeMaker 7.24      
    ExtUtils::Manifest  1.70      
    ExtUtils::ParseXS   3.33      
    File::Spec          3.65      
    JSON                2.90      
    JSON::PP            2.27400_01
    Module::Build       0.4220    
    Module::Signature   0.81      
    Parse::CPAN::Meta   2.150010  
    Test::Harness       3.36_01   
    Test::More          1.302061  
    YAML                1.18      
    YAML::Syck          1.29      
    version             0.9917    


--

Summary of my perl5 (revision 5 version 25 subversion 6) configuration:
  Commit id: 11a12be6c2df2fcd9601f9fde8c7df8c7538c956
  Platform:
    osname=linux
    osvers=3.16.0-4-amd64
    archname=x86_64-linux-thread-multi
    uname='linux digitalis 3.16.0-4-amd64 #1 smp debian 3.16.36-1+deb8u1 (2016-09-03) x86_64 gnulinux '
    config_args='-Dusedevel -DDEBUGGING -Dusethreads -Dprefix=/home/cpan1/install -Uversiononly -des'
    hint=recommended
    useposix=true
    d_sigaction=define
    useithreads=define
    usemultiplicity=define
    use64bitint=define
    use64bitall=define
    uselongdouble=undef
    usemymalloc=n
    bincompat5005=undef
  Compiler:
    cc='cc'
    ccflags ='-D_REENTRANT -D_GNU_SOURCE -fwrapv -DDEBUGGING -fno-strict-aliasing -pipe -fstack-protector-strong -I/usr/local/include -D_LARGEFILE_SOURCE -D_FILE_OFFSET_BITS=64 -D_FORTIFY_SOURCE=2'
    optimize='-O2 -g'
    cppflags='-D_REENTRANT -D_GNU_SOURCE -fwrapv -DDEBUGGING -fno-strict-aliasing -pipe -fstack-protector-strong -I/usr/local/include'
    ccversion=''
    gccversion='4.9.2'
    gccosandvers=''
    intsize=4
    longsize=8
    ptrsize=8
    doublesize=8
    byteorder=12345678
    doublekind=3
    d_longlong=define
    longlongsize=8
    d_longdbl=define
    longdblsize=16
    longdblkind=3
    ivtype='long'
    ivsize=8
    nvtype='double'
    nvsize=8
    Off_t='off_t'
    lseeksize=8
    alignbytes=8
    prototype=define
  Linker and Libraries:
    ld='cc'
    ldflags =' -fstack-protector-strong -L/usr/local/lib'
    libpth=/usr/local/lib /usr/lib/gcc/x86_64-linux-gnu/4.9/include-fixed /usr/include/x86_64-linux-gnu /usr/lib /lib/x86_64-linux-gnu /lib/../lib /usr/lib/x86_64-linux-gnu /usr/lib/../lib /lib
    libs=-lpthread -lnsl -ldl -lm -lcrypt -lutil -lc
    perllibs=-lpthread -lnsl -ldl -lm -lcrypt -lutil -lc
    libc=libc-2.19.so
    so=so
    useshrplib=false
    libperl=libperl.a
    gnulibc_version='2.19'
  Dynamic Linking:
    dlsrc=dl_dlopen.xs
    dlext=so
    d_dlsymun=undef
    ccdlflags='-Wl,-E'
    cccdlflags='-fPIC'
    lddlflags='-shared -O2 -g -L/usr/local/lib -fstack-protector-strong'


Characteristics of this binary (from libperl): 
  Compile-time options:
    DEBUGGING
    HAS_TIMES
    MULTIPLICITY
    PERLIO_LAYERS
    PERL_COPY_ON_WRITE
    PERL_DONT_CREATE_GVSV
    PERL_HASH_FUNC_ONE_AT_A_TIME_HARD
    PERL_IMPLICIT_CONTEXT
    PERL_MALLOC_WRAP
    PERL_OP_PARENT
    PERL_PRESERVE_IVUV
    PERL_TRACK_MEMPOOL
    PERL_USE_DEVEL
    USE_64_BIT_ALL
    USE_64_BIT_INT
    USE_ITHREADS
    USE_LARGE_FILES
    USE_LOCALE
    USE_LOCALE_COLLATE
    USE_LOCALE_CTYPE
    USE_LOCALE_NUMERIC
    USE_LOCALE_TIME
    USE_PERLIO
    USE_PERL_ATOF
    USE_REENTRANT_API
  Built under linux
  Compiled at Oct 17 2016 18:50:00
  %ENV:
    PERL5LIB=""
    PERL5OPT=""
    PERL5_CPANPLUS_IS_RUNNING="25704"
    PERL5_CPAN_IS_RUNNING="25704"
    PERL5_CPAN_IS_RUNNING_IN_RECURSION="870,25704"
    PERLBREW_BASHRC_VERSION="0.76"
    PERLBREW_HOME="/home/dcollins/.perlbrew"
    PERLBREW_ROOT="/home/dcollins/toolchain/perl5"
    PERL_CR_SMOKER_CURRENT="WWW-Scripter-0.032"
    PERL_CR_SMOKER_RUNONCE="1"
    PERL_EXTUTILS_AUTOINSTALL="--defaultdeps"
    PERL_MM_USE_DEFAULT="1"
  @INC:
    /home/cpan1/install/lib/perl5/site_perl/5.25.6/x86_64-linux-thread-multi
    /home/cpan1/install/lib/perl5/site_perl/5.25.6
    /home/cpan1/install/lib/perl5/5.25.6/x86_64-linux-thread-multi
    /home/cpan1/install/lib/perl5/5.25.6
    .