Report for DBIx-QueryLog-0.41

Back
From: metabase:user:320bfe00-2aae-11df-837a-5e0a49663a4f
Subject: PASS DBIx-QueryLog-0.41 v5.8.8 GNU/Linux
Date: 2017-07-30T00:43:36Z

This distribution has been tested as part of the CPAN Testers
project, supporting the Perl programming language.  See
http://wiki.cpantesters.org/ for more information or email
questions to cpan-testers-discuss@perl.org


--
Dear Yuji Shimada,

This is a computer-generated report for DBIx-QueryLog-0.41
on perl 5.8.8, created by CPAN-Reporter-1.2018.

Thank you for uploading your work to CPAN.  Congratulations!
All tests were successful.

Sections of this report:

    * Tester comments
    * Program output
    * Prerequisites
    * Environment and other context

------------------------------
TESTER COMMENTS
------------------------------

Additional comments from tester:

this report is from an automated smoke testing program
and was not reviewed by a human for accuracy

------------------------------
PROGRAM OUTPUT
------------------------------

Output from './Build test':

Subroutine Benchmark::mytime redefined at /home/sand/src/perl/repoperls/installed-perls/host/k93msid/perl-5.8.8/89ad/lib/5.8.8/Benchmark.pm line 459.
### starting mysqld...skip.
### starting postgresql...skip.
t/00_compile.t ................ ok
t/01_accessors.t .............. ok
t/10_simple.t ................. ok
t/11_bind.t ................... ok
Use of uninitialized value in open at t/Util.pm line 103.
Use of uninitialized value in open at t/Util.pm line 103.
Use of uninitialized value in open at t/Util.pm line 103.
t/12_skip_bind.t .............. ok
Use of uninitialized value in open at t/Util.pm line 103.
Use of uninitialized value in open at t/Util.pm line 103.
t/13_threshold.t .............. ok
Use of uninitialized value in open at t/Util.pm line 103.
Use of uninitialized value in open at t/Util.pm line 103.
Use of uninitialized value in open at t/Util.pm line 103.
Use of uninitialized value in open at t/Util.pm line 103.
Use of uninitialized value in open at t/Util.pm line 103.
Use of uninitialized value in open at t/Util.pm line 103.
Use of uninitialized value in open at t/Util.pm line 103.
Use of uninitialized value in open at t/Util.pm line 103.
Use of uninitialized value in open at t/Util.pm line 103.
Use of uninitialized value in open at t/Util.pm line 103.
Use of uninitialized value in open at t/Util.pm line 103.
Use of uninitialized value in open at t/Util.pm line 103.
Use of uninitialized value in open at t/Util.pm line 103.
Use of uninitialized value in open at t/Util.pm line 103.
Use of uninitialized value in open at t/Util.pm line 103.
Use of uninitialized value in open at t/Util.pm line 103.
Use of uninitialized value in open at t/Util.pm line 103.
Use of uninitialized value in open at t/Util.pm line 103.
Use of uninitialized value in open at t/Util.pm line 103.
Use of uninitialized value in open at t/Util.pm line 103.
Use of uninitialized value in open at t/Util.pm line 103.
Use of uninitialized value in open at t/Util.pm line 103.
Use of uninitialized value in open at t/Util.pm line 103.
Use of uninitialized value in open at t/Util.pm line 103.
Use of uninitialized value in open at t/Util.pm line 103.
Use of uninitialized value in open at t/Util.pm line 103.
Use of uninitialized value in open at t/Util.pm line 103.
Use of uninitialized value in open at t/Util.pm line 103.
Use of uninitialized value in open at t/Util.pm line 103.
Use of uninitialized value in open at t/Util.pm line 103.
Use of uninitialized value in open at t/Util.pm line 103.
Use of uninitialized value in open at t/Util.pm line 103.
Use of uninitialized value in open at t/Util.pm line 103.
Use of uninitialized value in open at t/Util.pm line 103.
Use of uninitialized value in open at t/Util.pm line 103.
Use of uninitialized value in open at t/Util.pm line 103.
Use of uninitialized value in open at t/Util.pm line 103.
Use of uninitialized value in open at t/Util.pm line 103.
Use of uninitialized value in open at t/Util.pm line 103.
Use of uninitialized value in open at t/Util.pm line 103.
Use of uninitialized value in open at t/Util.pm line 103.
Use of uninitialized value in open at t/Util.pm line 103.
Use of uninitialized value in open at t/Util.pm line 103.
Use of uninitialized value in open at t/Util.pm line 103.
Use of uninitialized value in open at t/Util.pm line 103.
Use of uninitialized value in open at t/Util.pm line 103.
Use of uninitialized value in open at t/Util.pm line 103.
Use of uninitialized value in open at t/Util.pm line 103.
Use of uninitialized value in open at t/Util.pm line 103.
Use of uninitialized value in open at t/Util.pm line 103.
Use of uninitialized value in open at t/Util.pm line 103.
Use of uninitialized value in open at t/Util.pm line 103.
Use of uninitialized value in open at t/Util.pm line 103.
Use of uninitialized value in open at t/Util.pm line 103.
Use of uninitialized value in open at t/Util.pm line 103.
Use of uninitialized value in open at t/Util.pm line 103.
Use of uninitialized value in open at t/Util.pm line 103.
Use of uninitialized value in open at t/Util.pm line 103.
Use of uninitialized value in open at t/Util.pm line 103.
Use of uninitialized value in open at t/Util.pm line 103.
Use of uninitialized value in open at t/Util.pm line 103.
Use of uninitialized value in open at t/Util.pm line 103.
Use of uninitialized value in open at t/Util.pm line 103.
Use of uninitialized value in open at t/Util.pm line 103.
Use of uninitialized value in open at t/Util.pm line 103.
Use of uninitialized value in open at t/Util.pm line 103.
Use of uninitialized value in open at t/Util.pm line 103.
Use of uninitialized value in open at t/Util.pm line 103.
Use of uninitialized value in open at t/Util.pm line 103.
Use of uninitialized value in open at t/Util.pm line 103.
Use of uninitialized value in open at t/Util.pm line 103.
Use of uninitialized value in open at t/Util.pm line 103.
Use of uninitialized value in open at t/Util.pm line 103.
Use of uninitialized value in open at t/Util.pm line 103.
Use of uninitialized value in open at t/Util.pm line 103.
Use of uninitialized value in open at t/Util.pm line 103.
Use of uninitialized value in open at t/Util.pm line 103.
Use of uninitialized value in open at t/Util.pm line 103.
Use of uninitialized value in open at t/Util.pm line 103.
Use of uninitialized value in open at t/Util.pm line 103.
Use of uninitialized value in open at t/Util.pm line 103.
Use of uninitialized value in open at t/Util.pm line 103.
Use of uninitialized value in open at t/Util.pm line 103.
Use of uninitialized value in open at t/Util.pm line 103.
Use of uninitialized value in open at t/Util.pm line 103.
Use of uninitialized value in open at t/Util.pm line 103.
Use of uninitialized value in open at t/Util.pm line 103.
Use of uninitialized value in open at t/Util.pm line 103.
Use of uninitialized value in open at t/Util.pm line 103.
Use of uninitialized value in open at t/Util.pm line 103.
Use of uninitialized value in open at t/Util.pm line 103.
Use of uninitialized value in open at t/Util.pm line 103.
Use of uninitialized value in open at t/Util.pm line 103.
Use of uninitialized value in open at t/Util.pm line 103.
Use of uninitialized value in open at t/Util.pm line 103.
Use of uninitialized value in open at t/Util.pm line 103.
Use of uninitialized value in open at t/Util.pm line 103.
Use of uninitialized value in open at t/Util.pm line 103.
Use of uninitialized value in open at t/Util.pm line 103.
Use of uninitialized value in open at t/Util.pm line 103.
Use of uninitialized value in open at t/Util.pm line 103.
Use of uninitialized value in open at t/Util.pm line 103.
Use of uninitialized value in open at t/Util.pm line 103.
Use of uninitialized value in open at t/Util.pm line 103.
Use of uninitialized value in open at t/Util.pm line 103.
Use of uninitialized value in open at t/Util.pm line 103.
Use of uninitialized value in open at t/Util.pm line 103.
Use of uninitialized value in open at t/Util.pm line 103.
Use of uninitialized value in open at t/Util.pm line 103.
Use of uninitialized value in open at t/Util.pm line 103.
Use of uninitialized value in open at t/Util.pm line 103.
Use of uninitialized value in open at t/Util.pm line 103.
Use of uninitialized value in open at t/Util.pm line 103.
Use of uninitialized value in open at t/Util.pm line 103.
Use of uninitialized value in open at t/Util.pm line 103.
Use of uninitialized value in open at t/Util.pm line 103.
Use of uninitialized value in open at t/Util.pm line 103.
Use of uninitialized value in open at t/Util.pm line 103.
Use of uninitialized value in open at t/Util.pm line 103.
Use of uninitialized value in open at t/Util.pm line 103.
Use of uninitialized value in open at t/Util.pm line 103.
Use of uninitialized value in open at t/Util.pm line 103.
Use of uninitialized value in open at t/Util.pm line 103.
Use of uninitialized value in open at t/Util.pm line 103.
Use of uninitialized value in open at t/Util.pm line 103.
Use of uninitialized value in open at t/Util.pm line 103.
Use of uninitialized value in open at t/Util.pm line 103.
Use of uninitialized value in open at t/Util.pm line 103.
Use of uninitialized value in open at t/Util.pm line 103.
Use of uninitialized value in open at t/Util.pm line 103.
Use of uninitialized value in open at t/Util.pm line 103.
Use of uninitialized value in open at t/Util.pm line 103.
Use of uninitialized value in open at t/Util.pm line 103.
Use of uninitialized value in open at t/Util.pm line 103.
Use of uninitialized value in open at t/Util.pm line 103.
Use of uninitialized value in open at t/Util.pm line 103.
Use of uninitialized value in open at t/Util.pm line 103.
Use of uninitialized value in open at t/Util.pm line 103.
Use of uninitialized value in open at t/Util.pm line 103.
Use of uninitialized value in open at t/Util.pm line 103.
Use of uninitialized value in open at t/Util.pm line 103.
Use of uninitialized value in open at t/Util.pm line 103.
Use of uninitialized value in open at t/Util.pm line 103.
Use of uninitialized value in open at t/Util.pm line 103.
Use of uninitialized value in open at t/Util.pm line 103.
Use of uninitialized value in open at t/Util.pm line 103.
Use of uninitialized value in open at t/Util.pm line 103.
Use of uninitialized value in open at t/Util.pm line 103.
Use of uninitialized value in open at t/Util.pm line 103.
Use of uninitialized value in open at t/Util.pm line 103.
Use of uninitialized value in open at t/Util.pm line 103.
Use of uninitialized value in open at t/Util.pm line 103.
Use of uninitialized value in open at t/Util.pm line 103.
Use of uninitialized value in open at t/Util.pm line 103.
Use of uninitialized value in open at t/Util.pm line 103.
Use of uninitialized value in open at t/Util.pm line 103.
Use of uninitialized value in open at t/Util.pm line 103.
Use of uninitialized value in open at t/Util.pm line 103.
Use of uninitialized value in open at t/Util.pm line 103.
Use of uninitialized value in open at t/Util.pm line 103.
Use of uninitialized value in open at t/Util.pm line 103.
Use of uninitialized value in open at t/Util.pm line 103.
Use of uninitialized value in open at t/Util.pm line 103.
Use of uninitialized value in open at t/Util.pm line 103.
Use of uninitialized value in open at t/Util.pm line 103.
Use of uninitialized value in open at t/Util.pm line 103.
Use of uninitialized value in open at t/Util.pm line 103.
Use of uninitialized value in open at t/Util.pm line 103.
Use of uninitialized value in open at t/Util.pm line 103.
Use of uninitialized value in open at t/Util.pm line 103.
Use of uninitialized value in open at t/Util.pm line 103.
Use of uninitialized value in open at t/Util.pm line 103.
Use of uninitialized value in open at t/Util.pm line 103.
Use of uninitialized value in open at t/Util.pm line 103.
Use of uninitialized value in open at t/Util.pm line 103.
Use of uninitialized value in open at t/Util.pm line 103.
Use of uninitialized value in open at t/Util.pm line 103.
Use of uninitialized value in open at t/Util.pm line 103.
Use of uninitialized value in open at t/Util.pm line 103.
Use of uninitialized value in open at t/Util.pm line 103.
Use of uninitialized value in open at t/Util.pm line 103.
Use of uninitialized value in open at t/Util.pm line 103.
Use of uninitialized value in open at t/Util.pm line 103.
Use of uninitialized value in open at t/Util.pm line 103.
Use of uninitialized value in open at t/Util.pm line 103.
Use of uninitialized value in open at t/Util.pm line 103.
Use of uninitialized value in open at t/Util.pm line 103.
Use of uninitialized value in open at t/Util.pm line 103.
Use of uninitialized value in open at t/Util.pm line 103.
Use of uninitialized value in open at t/Util.pm line 103.
Use of uninitialized value in open at t/Util.pm line 103.
Use of uninitialized value in open at t/Util.pm line 103.
Use of uninitialized value in open at t/Util.pm line 103.
Use of uninitialized value in open at t/Util.pm line 103.
Use of uninitialized value in open at t/Util.pm line 103.
Use of uninitialized value in open at t/Util.pm line 103.
Use of uninitialized value in open at t/Util.pm line 103.
Use of uninitialized value in open at t/Util.pm line 103.
Use of uninitialized value in open at t/Util.pm line 103.
Use of uninitialized value in open at t/Util.pm line 103.
Use of uninitialized value in open at t/Util.pm line 103.
Use of uninitialized value in open at t/Util.pm line 103.
Use of uninitialized value in open at t/Util.pm line 103.
Use of uninitialized value in open at t/Util.pm line 103.
Use of uninitialized value in open at t/Util.pm line 103.
Use of uninitialized value in open at t/Util.pm line 103.
Use of uninitialized value in open at t/Util.pm line 103.
Use of uninitialized value in open at t/Util.pm line 103.
Use of uninitialized value in open at t/Util.pm line 103.
Use of uninitialized value in open at t/Util.pm line 103.
Use of uninitialized value in open at t/Util.pm line 103.
Use of uninitialized value in open at t/Util.pm line 103.
Use of uninitialized value in open at t/Util.pm line 103.
Use of uninitialized value in open at t/Util.pm line 103.
Use of uninitialized value in open at t/Util.pm line 103.
Use of uninitialized value in open at t/Util.pm line 103.
Use of uninitialized value in open at t/Util.pm line 103.
Use of uninitialized value in open at t/Util.pm line 103.
Use of uninitialized value in open at t/Util.pm line 103.
Use of uninitialized value in open at t/Util.pm line 103.
Use of uninitialized value in open at t/Util.pm line 103.
Use of uninitialized value in open at t/Util.pm line 103.
Use of uninitialized value in open at t/Util.pm line 103.
Use of uninitialized value in open at t/Util.pm line 103.
Use of uninitialized value in open at t/Util.pm line 103.
Use of uninitialized value in open at t/Util.pm line 103.
Use of uninitialized value in open at t/Util.pm line 103.
Use of uninitialized value in open at t/Util.pm line 103.
Use of uninitialized value in open at t/Util.pm line 103.
Use of uninitialized value in open at t/Util.pm line 103.
Use of uninitialized value in open at t/Util.pm line 103.
Use of uninitialized value in open at t/Util.pm line 103.
Use of uninitialized value in open at t/Util.pm line 103.
Use of uninitialized value in open at t/Util.pm line 103.
Use of uninitialized value in open at t/Util.pm line 103.
Use of uninitialized value in open at t/Util.pm line 103.
Use of uninitialized value in open at t/Util.pm line 103.
Use of uninitialized value in open at t/Util.pm line 103.
Use of uninitialized value in open at t/Util.pm line 103.
Use of uninitialized value in open at t/Util.pm line 103.
Use of uninitialized value in open at t/Util.pm line 103.
Use of uninitialized value in open at t/Util.pm line 103.
Use of uninitialized value in open at t/Util.pm line 103.
Use of uninitialized value in open at t/Util.pm line 103.
Use of uninitialized value in open at t/Util.pm line 103.
Use of uninitialized value in open at t/Util.pm line 103.
Use of uninitialized value in open at t/Util.pm line 103.
Use of uninitialized value in open at t/Util.pm line 103.
Use of uninitialized value in open at t/Util.pm line 103.
Use of uninitialized value in open at t/Util.pm line 103.
Use of uninitialized value in open at t/Util.pm line 103.
Use of uninitialized value in open at t/Util.pm line 103.
Use of uninitialized value in open at t/Util.pm line 103.
Use of uninitialized value in open at t/Util.pm line 103.
Use of uninitialized value in open at t/Util.pm line 103.
Use of uninitialized value in open at t/Util.pm line 103.
Use of uninitialized value in open at t/Util.pm line 103.
Use of uninitialized value in open at t/Util.pm line 103.
Use of uninitialized value in open at t/Util.pm line 103.
Use of uninitialized value in open at t/Util.pm line 103.
Use of uninitialized value in open at t/Util.pm line 103.
Use of uninitialized value in open at t/Util.pm line 103.
Use of uninitialized value in open at t/Util.pm line 103.
Use of uninitialized value in open at t/Util.pm line 103.
Use of uninitialized value in open at t/Util.pm line 103.
Use of uninitialized value in open at t/Util.pm line 103.
Use of uninitialized value in open at t/Util.pm line 103.
Use of uninitialized value in open at t/Util.pm line 103.
Use of uninitialized value in open at t/Util.pm line 103.
Use of uninitialized value in open at t/Util.pm line 103.
Use of uninitialized value in open at t/Util.pm line 103.
Use of uninitialized value in open at t/Util.pm line 103.
Use of uninitialized value in open at t/Util.pm line 103.
Use of uninitialized value in open at t/Util.pm line 103.
Use of uninitialized value in open at t/Util.pm line 103.
Use of uninitialized value in open at t/Util.pm line 103.
Use of uninitialized value in open at t/Util.pm line 103.
Use of uninitialized value in open at t/Util.pm line 103.
Use of uninitialized value in open at t/Util.pm line 103.
Use of uninitialized value in open at t/Util.pm line 103.
Use of uninitialized value in open at t/Util.pm line 103.
Use of uninitialized value in open at t/Util.pm line 103.
Use of uninitialized value in open at t/Util.pm line 103.
Use of uninitialized value in open at t/Util.pm line 103.
Use of uninitialized value in open at t/Util.pm line 103.
Use of uninitialized value in open at t/Util.pm line 103.
Use of uninitialized value in open at t/Util.pm line 103.
Use of uninitialized value in open at t/Util.pm line 103.
Use of uninitialized value in open at t/Util.pm line 103.
Use of uninitialized value in open at t/Util.pm line 103.
Use of uninitialized value in open at t/Util.pm line 103.
Use of uninitialized value in open at t/Util.pm line 103.
Use of uninitialized value in open at t/Util.pm line 103.
Use of uninitialized value in open at t/Util.pm line 103.
Use of uninitialized value in open at t/Util.pm line 103.
Use of uninitialized value in open at t/Util.pm line 103.
Use of uninitialized value in open at t/Util.pm line 103.
Use of uninitialized value in open at t/Util.pm line 103.
Use of uninitialized value in open at t/Util.pm line 103.
t/14_probability.t ............ ok
Use of uninitialized value in open at t/Util.pm line 103.
Use of uninitialized value in open at t/Util.pm line 103.
t/15_selectrow_array.t ........ ok
t/16_multi_line.t ............. ok
t/18_bind_param.t ............. ok
Use of uninitialized value in open at t/Util.pm line 103.
t/20_localizetion.t ........... ok
Use of uninitialized value in open at t/Util.pm line 103.
t/21_guard.t .................. ok
Use of uninitialized value in open at t/Util.pm line 103.
t/22_ignore_trace.t ........... ok
Use of uninitialized value in open at t/Util.pm line 103.
Use of uninitialized value in open at t/Util.pm line 103.
Use of uninitialized value in open at t/Util.pm line 103.
Use of uninitialized value in open at t/Util.pm line 103.
Use of uninitialized value in open at t/Util.pm line 103.
Use of uninitialized value in open at t/Util.pm line 103.
Use of uninitialized value in open at t/Util.pm line 103.
Use of uninitialized value in open at t/Util.pm line 103.
Use of uninitialized value in open at t/Util.pm line 103.
t/23_do_explain.t ............. ok
t/30_logger.t ................. ok
t/31_output.t ................. ok
t/32_color.t .................. ok
t/33_useqq.t .................. ok
t/34_compact.t ................ ok
t/35_useqq_and_compact.t ...... ok
t/36_show_data_srouce.t ....... ok
t/90_alias.t .................. ok
Use of uninitialized value in open at t/Util.pm line 103.
Use of uninitialized value in open at t/Util.pm line 103.
t/99_regression_sqlite_148.t .. ok
t/mysql/01_simple.t ........... skipped: could not find mysqld, please set appropriate PATH
t/mysql/02_bind.t ............. skipped: could not find mysqld, please set appropriate PATH
t/mysql/10_do.t ............... skipped: could not find mysqld, please set appropriate PATH
t/mysql/11_do_dind.t .......... skipped: could not find mysqld, please set appropriate PATH
t/mysql/12_do_skip_bind.t ..... skipped: could not find mysqld, please set appropriate PATH
t/mysql/13_do_probability.t ... skipped: could not find mysqld, please set appropriate PATH
t/mysql/14_do_logger.t ........ skipped: could not find mysqld, please set appropriate PATH
t/mysql/15_selectrow_array.t .. skipped: could not find mysqld, please set appropriate PATH
t/mysql/16_multi_line.t ....... skipped: could not find mysqld, please set appropriate PATH
t/mysql/17_limit.t ............ skipped: could not find mysqld, please set appropriate PATH
t/mysql/18_bind_param.t ....... skipped: could not find mysqld, please set appropriate PATH
t/mysql/19_bind_with_type.t ... skipped: could not find mysqld, please set appropriate PATH
t/mysql/20_reuse_sql_type.t ... skipped: could not find mysqld, please set appropriate PATH
t/mysql/21_do_explain.t ....... skipped: could not find mysqld, please set appropriate PATH
t/pg/01_simple.t .............. skipped: Test requires module 'Test::PostgreSQL' but it's not found
t/pg/02_bind.t ................ skipped: Test requires module 'Test::PostgreSQL' but it's not found
t/pg/10_do.t .................. skipped: Test requires module 'Test::PostgreSQL' but it's not found
t/pg/11_do_dind.t ............. skipped: Test requires module 'Test::PostgreSQL' but it's not found
t/pg/12_do_skip_bind.t ........ skipped: Test requires module 'Test::PostgreSQL' but it's not found
t/pg/13_do_probability.t ...... skipped: Test requires module 'Test::PostgreSQL' but it's not found
t/pg/14_do_logger.t ........... skipped: Test requires module 'Test::PostgreSQL' but it's not found
t/pg/15_selectrow_array.t ..... skipped: Test requires module 'Test::PostgreSQL' but it's not found
t/pg/16_multi_line.t .......... skipped: Test requires module 'Test::PostgreSQL' but it's not found
t/pg/17_limit.t ............... skipped: Test requires module 'Test::PostgreSQL' but it's not found
t/pg/18_bind_param.t .......... skipped: Test requires module 'Test::PostgreSQL' but it's not found
t/pg/19_bind_with_type.t ...... skipped: Test requires module 'Test::PostgreSQL' but it's not found
t/pg/20_reuse_sql_type.t ...... skipped: Test requires module 'Test::PostgreSQL' but it's not found
t/pg/21_do_explain.t .......... skipped: Test requires module 'Test::PostgreSQL' but it's not found
All tests successful.
Files=51, Tests=77, 16.8408 wallclock secs ( 0.10 usr  0.39 sys +  4.50 cusr  1.50 csys =  6.49 CPU)
Result: PASS

------------------------------
PREREQUISITES
------------------------------

Prerequisite modules loaded:

requires:

    Module              Need     Have    
    ------------------- -------- --------
    Data::Dumper        0        2.161   
    DBI                 0        1.636   
    perl                5.008001 5.008008
    Term::ANSIColor     0        4.06    
    Text::ASCIITable    0        0.22    
    Time::HiRes         0        1.9744  

build_requires:

    Module              Need     Have    
    ------------------- -------- --------
    ExtUtils::MakeMaker 6.59     7.31_01 
    Test::More          0.96     1.302090
    Test::Requires      0        0.10    

configure_requires:

    Module              Need     Have    
    ------------------- -------- --------
    Module::Build       0.38     0.4224  


------------------------------
ENVIRONMENT AND OTHER CONTEXT
------------------------------

Environment variables:

    AUTOMATED_TESTING = 1
    LANG = en_US.UTF-8
    PATH = /home/sand/bin:/usr/local/bin:/usr/bin:/bin:/usr/games:/usr/local/perl/bin:/usr/X11/bin:/sbin:/usr/sbin
    PERL5LIB = 
    PERL5OPT = 
    PERL5_CPANPLUS_IS_RUNNING = 19214
    PERL5_CPAN_IS_RUNNING = 19214
    PERL_CANARY_STABILITY_NOPROMPT = 1
    PERL_MM_USE_DEFAULT = 1
    PERL_USE_UNSAFE_INC = 1
    SHELL = /usr/bin/zsh
    TERM = screen

Perl special variables (and OS-specific diagnostics, for MSWin32):

    $^X = /home/sand/src/perl/repoperls/installed-perls/host/k93msid/perl-5.8.8/89ad/bin/perl
    $UID/$EUID = 1005 / 1005
    $GID = 1005 1005
    $EGID = 1005 1005

Perl module toolchain versions installed:

    Module              Have    
    ------------------- --------
    CPAN                2.18    
    CPAN::Meta          2.150010
    Cwd                 3.62    
    ExtUtils::CBuilder  0.280224
    ExtUtils::Command   7.31_01 
    ExtUtils::Install   2.14    
    ExtUtils::MakeMaker 7.31_01 
    ExtUtils::Manifest  1.70    
    ExtUtils::ParseXS   3.30    
    File::Spec          3.62    
    JSON                2.90    
    JSON::PP            2.94    
    Module::Build       0.4224  
    Module::Signature   0.81    
    Parse::CPAN::Meta   1.4422  
    Test::Harness       3.40_01 
    Test::More          1.302090
    YAML                1.23    
    YAML::Syck          1.30    
    version             0.9918  


--

Summary of my perl5 (revision 5 version 8 subversion 8) configuration:
  Platform:
    osname=linux, osvers=4.9.0-2-amd64, archname=x86_64-linux
    uname='linux k93msid 4.9.0-2-amd64 #1 smp debian 4.9.18-1 (2017-03-30) x86_64 gnulinux '
    config_args='-Dprefix=/home/sand/src/perl/repoperls/installed-perls/host/k93msid/perl-5.8.8/89ad -Dmyhostname=k93msid -Dinstallusrbinperl=n -Uversiononly -Dusedevel -des -Ui_db -Dlibswanted=cl pthread socket inet nsl gdbm dbm malloc dl ld sun m crypt sec util c cposix posix ucb BSD gdbm_compat -Uuseithreads -Uuselongdouble -DDEBUGGING=-g'
    hint=recommended, useposix=true, d_sigaction=define
    usethreads=undef use5005threads=undef useithreads=undef usemultiplicity=undef
    useperlio=define d_sfio=undef uselargefiles=define usesocks=undef
    use64bitint=define use64bitall=define uselongdouble=undef
    usemymalloc=n, bincompat5005=undef
  Compiler:
    cc='cc', ccflags ='-fno-strict-aliasing -pipe -Wdeclaration-after-statement -I/usr/local/include -D_LARGEFILE_SOURCE -D_FILE_OFFSET_BITS=64',
    optimize='-O2',
    cppflags='-fno-strict-aliasing -pipe -Wdeclaration-after-statement -I/usr/local/include'
    ccversion='', gccversion='6.3.0 20170406', gccosandvers=''
    intsize=4, longsize=8, ptrsize=8, doublesize=8, byteorder=12345678
    d_longlong=define, longlongsize=8, d_longdbl=define, longdblsize=16
    ivtype='long', ivsize=8, nvtype='double', nvsize=8, Off_t='off_t', lseeksize=8
    alignbytes=8, prototype=define
  Linker and Libraries:
    ld='cc', ldflags =' -L/usr/local/lib'
    libpth=/usr/local/lib /lib/x86_64-linux-gnu /lib/../lib /usr/lib/x86_64-linux-gnu /usr/lib/../lib /lib /usr/lib
    libs=-lpthread -lnsl -ldl -lm -lcrypt -lutil -lc
    perllibs=-lpthread -lnsl -ldl -lm -lcrypt -lutil -lc
    libc=libc-2.24.so, so=so, useshrplib=false, libperl=libperl.a
    gnulibc_version='2.24'
  Dynamic Linking:
    dlsrc=dl_dlopen.xs, dlext=so, d_dlsymun=undef, ccdlflags='-Wl,-E'
    cccdlflags='-fpic', lddlflags='-shared -L/usr/local/lib'


Characteristics of this binary (from libperl): 
  Compile-time options: PERL_MALLOC_WRAP USE_64_BIT_ALL USE_64_BIT_INT
                        USE_LARGE_FILES USE_PERLIO
  Built under linux
  Compiled at Apr 17 2017 10:26:05
  %ENV:
    PERL5LIB=""
    PERL5OPT=""
    PERL5_CPANPLUS_IS_RUNNING="19214"
    PERL5_CPAN_IS_RUNNING="19214"
    PERL_CANARY_STABILITY_NOPROMPT="1"
    PERL_MM_USE_DEFAULT="1"
    PERL_USE_UNSAFE_INC="1"
  @INC:
    /home/sand/src/perl/repoperls/installed-perls/host/k93msid/perl-5.8.8/89ad/lib/5.8.8/x86_64-linux
    /home/sand/src/perl/repoperls/installed-perls/host/k93msid/perl-5.8.8/89ad/lib/5.8.8
    /home/sand/src/perl/repoperls/installed-perls/host/k93msid/perl-5.8.8/89ad/lib/site_perl/5.8.8/x86_64-linux
    /home/sand/src/perl/repoperls/installed-perls/host/k93msid/perl-5.8.8/89ad/lib/site_perl/5.8.8
    /home/sand/src/perl/repoperls/installed-perls/host/k93msid/perl-5.8.8/89ad/lib/site_perl
    .