Report for Gtk2-Ex-WidgetBits-48

Back
From: metabase:user:314402c4-2aae-11df-837a-5e0a49663a4f
Subject: PASS Gtk2-Ex-WidgetBits-48 v5.22.3 RC4 FreeBSD
Date: 2016-11-01T20:16:50Z

This distribution has been tested as part of the CPAN Testers
project, supporting the Perl programming language.  See
http://wiki.cpantesters.org/ for more information or email
questions to cpan-testers-discuss@perl.org


--
Dear Kevin Ryde,

This is a computer-generated report for Gtk2-Ex-WidgetBits-48
on perl 5.22.3, created by CPAN-Reporter-1.2018.

Thank you for uploading your work to CPAN.  Congratulations!
All tests were successful.

Sections of this report:

    * Tester comments
    * Program output
    * Prerequisites
    * Environment and other context

------------------------------
TESTER COMMENTS
------------------------------

Additional comments from tester:

none provided

------------------------------
PROGRAM OUTPUT
------------------------------

Output from '/usr/bin/make test':

PERL_DL_NONLAZY=1 "/usr/perl5.22.3-RC4p/bin/perl" "-MExtUtils::Command::MM" "-MTest::Harness" "-e" "undef *Test::Harness::Switches; test_harness(0, 'blib/lib', 'blib/arch')" t/*.t
# Perl-Gtk2    version 1.2499
# Perl-Glib    version 1.323
# Compiled against Glib version 2.44.1.
# Running on       Glib version 2.44.1.
# Compiled against Gtk version 2.24.29.
# Running on       Gtk version 2.24.29.
t/ActionTooltips-import.t .............. ok
Xlib:  extension "RANDR" missing on display ":63".
# Perl-Gtk2    version 1.2499
# Perl-Glib    version 1.323
# Compiled against Glib version 2.44.1.
# Running on       Glib version 2.44.1.
# Compiled against Gtk version 2.24.29.
# Running on       Gtk version 2.24.29.
t/ActionTooltips.t ..................... ok
# Perl-Gtk2    version 1.2499
# Perl-Glib    version 1.323
# Compiled against Glib version 2.44.1.
# Running on       Glib version 2.44.1.
# Compiled against Gtk version 2.24.29.
# Running on       Gtk version 2.24.29.
# notify page_size
# changed
# value_changed
# notify value
# notify upper
# notify lower
# changed
# value_changed
# notify value
# notify lower
# changed
# value_changed
# notify value
# notify lower
# notify page_size
# notify upper
# notify page_increment
# notify step_increment
# changed
t/AdjustmentBits.t ..................... ok
t/ContainerBits-import.t ............... ok
t/ContainerBits-subclass.t ............. ok
# Perl-Gtk2    version 1.2499
# Perl-Glib    version 1.323
# Compiled against Glib version 2.44.1.
# Running on       Glib version 2.44.1.
# Compiled against Gtk version 2.24.29.
# Running on       Gtk version 2.24.29.
t/ContainerBits.t ...................... ok
Xlib:  extension "RANDR" missing on display ":63".
# Perl-Gtk2    version 1.2499
# Perl-Glib    version 1.323
# Compiled against Glib version 2.44.1.
# Running on       Glib version 2.44.1.
# Compiled against Gtk version 2.24.29.
# Running on       Gtk version 2.24.29.
# [ sensitive parent-sensitive can-focus double-buffered ]
# [ sensitive parent-sensitive double-buffered ]
t/EntryBits.t .......................... ok
# Perl-Gtk2    version 1.2499
# Perl-Glib    version 1.323
# Compiled against Glib version 2.44.1.
# Running on       Glib version 2.44.1.
# Compiled against Gtk version 2.24.29.
# Running on       Gtk version 2.24.29.
t/FreezeChildNotify.t .................. ok
Xlib:  extension "RANDR" missing on display ":63".
t/GdkBits-import.t ..................... ok
Xlib:  extension "RANDR" missing on display ":63".
# Perl-Gtk2    version 1.2499
# Perl-Glib    version 1.323
# Compiled against Glib version 2.44.1.
# Running on       Glib version 2.44.1.
# Compiled against Gtk version 2.24.29.
# Running on       Gtk version 2.24.29.
t/GdkBits.t ............................ ok
Xlib:  extension "RANDR" missing on display ":63".
# Perl-Gtk2    version 1.2499
# Perl-Glib    version 1.323
# Compiled against Glib version 2.44.1.
# Running on       Glib version 2.44.1.
# Compiled against Gtk version 2.24.29.
# Running on       Gtk version 2.24.29.
t/KeySnooper.t ......................... ok
Xlib:  extension "RANDR" missing on display ":63".
t/LayoutBits.t ......................... ok
Xlib:  extension "RANDR" missing on display ":63".
t/MenuBits-import.t .................... ok
t/MenuBits-load.t ...................... ok
Xlib:  extension "RANDR" missing on display ":63".
t/MenuBits.t ........................... ok
Xlib:  extension "RANDR" missing on display ":63".
# Gtk2::Ex::MenuItem::Subclass Glib::Object::Subclass Gtk2::CheckMenuItem Glib::Object::_Unregistered::AtkImplementorIface Gtk2::Buildable Gtk2::Activatable
# subclass CODE(0x4b947780)
# gobject  CODE(0x4260a9d8)
# testwidg CODE(0x4b947780)
t/MenuItem-Subclass.t .................. ok
t/PixbufBits-load.t .................... ok
# Perl-Gtk2    version 1.2499
# Perl-Glib    version 1.323
# Compiled against Glib version 2.44.1.
# Running on       Glib version 2.44.1.
# Compiled against Gtk version 2.24.29.
# Running on       Gtk version 2.24.29.
t/PixbufBits.t ......................... ok
# re-create id 2 str Gtk2::Ex::Statusbar::DynamicContext.2
t/Statusbar-DynamicContext.t ........... ok
Xlib:  extension "RANDR" missing on display ":63".
# Perl-Gtk2    version 1.2499
# Perl-Glib    version 1.323
# Compiled against Glib version 2.44.1.
# Running on       Glib version 2.44.1.
# Compiled against Gtk version 2.24.29.
# Running on       Gtk version 2.24.29.
# main_iterations(): ran 7 events/iterations
t/Statusbar-Message.t .................. ok
Xlib:  extension "RANDR" missing on display ":63".
t/Statusbar-MessageUntilKey.t .......... ok
Xlib:  extension "RANDR" missing on display ":63".
# Perl-Gtk2    version 1.2499
# Perl-Glib    version 1.323
# Compiled against Glib version 2.44.1.
# Running on       Glib version 2.44.1.
# Compiled against Gtk version 2.24.29.
# Running on       Gtk version 2.24.29.
t/SyncCall.t ........................... ok
# Perl-Gtk2    version 1.2499
# Perl-Glib    version 1.323
# Compiled against Glib version 2.44.1.
# Running on       Glib version 2.44.1.
# Compiled against Gtk version 2.24.29.
# Running on       Gtk version 2.24.29.
t/TableBits.t .......................... ok
Xlib:  extension "RANDR" missing on display ":63".
t/Test-Weaken-Gtk2-ignore-display.t .... ok
Xlib:  extension "RANDR" missing on display ":63".
t/Test-Weaken-Gtk2-ignore-root.t ....... ok
Xlib:  extension "RANDR" missing on display ":63".
t/Test-Weaken-Gtk2-ignore-screen.t ..... ok
t/Test-Weaken-Gtk2-load.t .............. ok
# Perl-Gtk2    version 1.2499
# Perl-Glib    version 1.323
# Compiled against Glib version 2.44.1.
# Running on       Glib version 2.44.1.
# Compiled against Gtk version 2.24.29.
# Running on       Gtk version 2.24.29.
Xlib:  extension "RANDR" missing on display ":63".
t/Test-Weaken-Gtk2.t ................... ok
Test::Without::Gtk2Things -- without ListStore,TreeStore insert_with_values(), per Gtk before 2.6
Test::Without::Gtk2Things -- without Gtk2::Gdk::Display warp_pointer() method, per Gtk before 2.8
Test::Without::Gtk2Things -- without CursorType blank-cursor, per Gtk before 2.16
Test::Without::Gtk2Things -- without Gdk2::Gdk::Display and Gtk2::Gdk::Screen, per Gtk 2.0.x
Test::Without::Gtk2Things -- without Gtk2::CheckMenuItem/ToggleAction draw-as-radio property, per Gtk before 2.4
Test::Without::Gtk2Things -- without Gtk2::Widget tooltips, per Gtk before 2.12
Test::Without::Gtk2Things -- without Gtk2::CellLayout get_cells() method, per Gtk before 2.12
Test::Without::Gtk2Things -- without Gtk2::Builder and Buildable interface, per Gtk before 2.12
Test::Without::Gtk2Things -- without Gtk2::MenuItem label and use-underline properties, per Gtk before 2.16
Test::Without::Gtk2Things -- count without 9 things
t/Test-Without-Gtk2Things.t ............ ok
t/TextBufferBits.t ..................... ok
t/ToolbarBits-load.t ................... ok
# Perl-Gtk2    version 1.2499
# Perl-Glib    version 1.323
# Compiled against Glib version 2.44.1.
# Running on       Glib version 2.44.1.
# Compiled against Gtk version 2.24.29.
# Running on       Gtk version 2.24.29.
t/ToolItem-CheckButton-builder.t ....... ok
t/ToolItem-CheckButton-load.t .......... ok
Xlib:  extension "RANDR" missing on display ":63".
t/ToolItem-CheckButton-weaken.t ........ skipped: due to Test::Weaken 3 not available -- Can't locate Test/Weaken.pm in @INC (you may need to install the Test::Weaken module) (@INC contains: t /home/cpansand/.cpan/build/2016110118/Gtk2-Ex-WidgetBits-48-4uIUyz/blib/lib /home/cpansand/.cpan/build/2016110118/Gtk2-Ex-WidgetBits-48-4uIUyz/blib/arch /home/cpansand/.cpan/build/2016110118/Gtk2-1.2499-vLFJqY/blib/arch /home/cpansand/.cpan/build/2016110118/Gtk2-1.2499-vLFJqY/blib/lib /home/cpansand/.cpan/build/2016110118/Glib-Ex-ObjectBits-16-FwierB/blib/arch /home/cpansand/.cpan/build/2016110118/Glib-Ex-ObjectBits-16-FwierB/blib/lib /usr/perl5.22.3-RC4p/lib/site_perl/5.22.3/amd64-freebsd /usr/perl5.22.3-RC4p/lib/site_perl/5.22.3 /usr/perl5.22.3-RC4p/lib/5.22.3/amd64-freebsd /usr/perl5.22.3-RC4p/lib/5.22.3 .) at (eval 9) line 1.
Xlib:  extension "RANDR" missing on display ":63".
# Perl-Gtk2    version 1.2499
# Perl-Glib    version 1.323
# Compiled against Glib version 2.44.1.
# Running on       Glib version 2.44.1.
# Compiled against Gtk version 2.24.29.
# Running on       Gtk version 2.24.29.
t/ToolItem-CheckButton.t ............... ok
Xlib:  extension "RANDR" missing on display ":63".
t/ToolItem-OverflowToDialog-builder.t .. ok
Xlib:  extension "RANDR" missing on display ":63".
t/ToolItem-OverflowToDialog-weaken.t ... skipped: due to Test::Weaken 3 not available -- Can't locate Test/Weaken.pm in @INC (you may need to install the Test::Weaken module) (@INC contains: t /home/cpansand/.cpan/build/2016110118/Gtk2-Ex-WidgetBits-48-4uIUyz/blib/lib /home/cpansand/.cpan/build/2016110118/Gtk2-Ex-WidgetBits-48-4uIUyz/blib/arch /home/cpansand/.cpan/build/2016110118/Gtk2-1.2499-vLFJqY/blib/arch /home/cpansand/.cpan/build/2016110118/Gtk2-1.2499-vLFJqY/blib/lib /home/cpansand/.cpan/build/2016110118/Glib-Ex-ObjectBits-16-FwierB/blib/arch /home/cpansand/.cpan/build/2016110118/Glib-Ex-ObjectBits-16-FwierB/blib/lib /usr/perl5.22.3-RC4p/lib/site_perl/5.22.3/amd64-freebsd /usr/perl5.22.3-RC4p/lib/site_perl/5.22.3 /usr/perl5.22.3-RC4p/lib/5.22.3/amd64-freebsd /usr/perl5.22.3-RC4p/lib/5.22.3 .) at (eval 9) line 1.
Xlib:  extension "RANDR" missing on display ":63".
# main_iterations(): ran 2 events/iterations
# main_iterations(): ran 1 events/iterations
# main_iterations(): ran 1 events/iterations
# main_iterations(): ran 13 events/iterations
t/ToolItem-OverflowToDialog.t .......... ok
t/TreeModel-ImplBits-import.t .......... ok
t/TreeModel-ImplBits.t ................. ok
t/TreeModelBits-import.t ............... ok
# Perl-Gtk2    version 1.2499
# Perl-Glib    version 1.323
# Compiled against Glib version 2.44.1.
# Running on       Glib version 2.44.1.
# Compiled against Gtk version 2.24.29.
# Running on       Gtk version 2.24.29.
t/TreeModelBits.t ...................... ok
# MyOneRemovesAll remove() all
t/TreeModelFilter-Change.t ............. ok
t/TreeViewBits.t ....................... ok
Xlib:  extension "RANDR" missing on display ":63".
t/Units-import.t ....................... ok
Xlib:  extension "RANDR" missing on display ":63".
# Perl-Gtk2    version 1.2499
# Perl-Glib    version 1.323
# Compiled against Glib version 2.44.1.
# Running on       Glib version 2.44.1.
# Compiled against Gtk version 2.24.29.
# Running on       Gtk version 2.24.29.
# em=9, ex=5, char=5.03125, digit=6
t/Units.t .............................. ok
Xlib:  extension "RANDR" missing on display ":63".
# Perl-Gtk2    version 1.2499
# Perl-Glib    version 1.323
# Compiled against Glib version 2.44.1.
# Running on       Glib version 2.44.1.
# Compiled against Gtk version 2.24.29.
# Running on       Gtk version 2.24.29.
# wait_for_event(): 'map-event' ran 2 events/iterations
# toplevel at 0, 0
# wait_for_event(): 'size-allocate' ran 3 events/iterations
# layout win relative position 0,0
# toplevel at 0, 0
# layout   at 0, 0
# main_iterations(): ran 3 events/iterations
# toplevel at 0, 0
# label   at 20, 30
# wait_for_event(): 'map-event' ran 7 events/iterations
t/WidgetBits.t ......................... ok
# Perl-Gtk2    version 1.2499
# Perl-Glib    version 1.323
# Compiled against Glib version 2.44.1.
# Running on       Glib version 2.44.1.
# Compiled against Gtk version 2.24.29.
# Running on       Gtk version 2.24.29.
Xlib:  extension "RANDR" missing on display ":63".
t/WidgetEvents.t ....................... ok
All tests successful.
Files=48, Tests=783,  5 wallclock secs ( 0.05 usr  0.16 sys +  3.48 cusr  0.66 csys =  4.34 CPU)
Result: PASS

------------------------------
PREREQUISITES
------------------------------

Prerequisite modules loaded:

requires:

    Module                 Need  Have    
    ---------------------- ----- --------
    Glib                   0     1.323   
    Glib::Ex::FreezeNotify 1     16      
    Glib::Ex::SignalIds    1     16      
    Glib::Object::Subclass 0     1.323   
    Gtk2                   1.200 1.2499  
    Gtk2::Pango            0     0.01    
    perl                   5.008 5.022003
    Scope::Guard           0     0.21    

build_requires:

    Module                 Need  Have    
    ---------------------- ----- --------
    ExtUtils::MakeMaker    0     7.04_02 

configure_requires:

    Module                 Need  Have    
    ---------------------- ----- --------
    ExtUtils::MakeMaker    0     7.04_02 


------------------------------
ENVIRONMENT AND OTHER CONTEXT
------------------------------

Environment variables:

    LC_ALL = de_DE.ISO8859-1
    PATH = /usr/local/bin:/usr/bin:/bin:/usr/local/sbin:/usr/sbin:/sbin:/home/cpansand/bin/freebsd10.1:/home/cpansand/bin/sh:/home/cpansand/bin:/usr/games:/home/cpansand/devel:/home/eserte/src/srezic-misc/scripts
    PERL5LIB = /home/cpansand/.cpan/build/2016110118/Gtk2-1.2499-vLFJqY/blib/arch:/home/cpansand/.cpan/build/2016110118/Gtk2-1.2499-vLFJqY/blib/lib:/home/cpansand/.cpan/build/2016110118/Glib-Ex-ObjectBits-16-FwierB/blib/arch:/home/cpansand/.cpan/build/2016110118/Glib-Ex-ObjectBits-16-FwierB/blib/lib
    PERL5OPT = 
    PERL5_CPANPLUS_IS_RUNNING = 83985
    PERL5_CPAN_IS_RUNNING = 83985
    PERL5_CPAN_IS_RUNNING_IN_RECURSION = 76793,83985
    PERLDOC = -MPod::Perldoc::ToTextOverstrike
    PERL_BATCH = yes
    PERL_CANARY_STABILITY_NOPROMPT = 1
    PERL_CPAN_REPORTER_CONFIG = /var/tmp/cpansmoker-1023/2016110118/cpanreporter_002_config.ini
    PERL_EXTUTILS_AUTOINSTALL = --defaultdeps
    SHELL = /usr/local/bin/zsh
    TERM = screen
    TMPDIR = /var/tmp/cpansmoker-1023/2016110118

Perl special variables (and OS-specific diagnostics, for MSWin32):

    $^X = /usr/perl5.22.3-RC4p/bin/perl
    $UID/$EUID = 1023 / 1023
    $GID = 1023 1023
    $EGID = 1023 1023

Perl module toolchain versions installed:

    Module              Have      
    ------------------- ----------
    CPAN                2.11_01   
    CPAN::Meta          2.150001  
    Cwd                 3.56_02   
    ExtUtils::CBuilder  0.280221  
    ExtUtils::Command   1.20_01   
    ExtUtils::Install   2.04      
    ExtUtils::MakeMaker 7.04_02   
    ExtUtils::Manifest  1.70      
    ExtUtils::ParseXS   3.28      
    File::Spec          3.56_02   
    JSON                2.90      
    JSON::PP            2.27300_01
    Module::Build       0.4220    
    Module::Signature   n/a       
    Parse::CPAN::Meta   1.4414_001
    Test::Harness       3.35_01   
    Test::More          1.302059  
    YAML                1.18      
    YAML::Syck          1.29      
    version             0.9909    


--

Summary of my perl5 (revision 5 version 22 subversion 3) configuration:
   
  Platform:
    osname=freebsd, osvers=10.1-release, archname=amd64-freebsd
    uname='freebsd cvrsnica-freebsd-101.herceg.de 10.1-release freebsd 10.1-release #0 r274401: tue nov 11 21:02:49 utc 2014 root@releng1.nyi.freebsd.org:usrobjusrsrcsysgeneric amd64 '
    config_args='-ds -e -Dprefix=/usr/perl5.22.3-RC4p -Dcf_email=srezic@cpan.org -Doptimize=-O2 -pipe'
    hint=recommended, useposix=true, d_sigaction=define
    useithreads=undef, usemultiplicity=undef
    use64bitint=define, use64bitall=define, uselongdouble=undef
    usemymalloc=n, bincompat5005=undef
  Compiler:
    cc='cc', ccflags ='-DHAS_FPSETMASK -DHAS_FLOATINGPOINT_H -fno-strict-aliasing -pipe -fstack-protector -I/usr/local/include -D_FORTIFY_SOURCE=2',
    optimize='-O2 -pipe',
    cppflags='-DHAS_FPSETMASK -DHAS_FLOATINGPOINT_H -fno-strict-aliasing -pipe -fstack-protector -I/usr/local/include'
    ccversion='', gccversion='4.2.1 Compatible FreeBSD Clang 3.4.1 (tags/RELEASE_34/dot1-final 208032)', gccosandvers=''
    intsize=4, longsize=8, ptrsize=8, doublesize=8, byteorder=12345678, doublekind=3
    d_longlong=define, longlongsize=8, d_longdbl=define, longdblsize=16, longdblkind=3
    ivtype='long', ivsize=8, nvtype='double', nvsize=8, Off_t='off_t', lseeksize=8
    alignbytes=8, prototype=define
  Linker and Libraries:
    ld='cc', ldflags ='-pthread -Wl,-E  -fstack-protector -L/usr/local/lib'
    libpth=/usr/lib /usr/local/lib /usr/include/clang/3.4.1 /usr/lib
    libs=-lpthread -lgdbm -lm -lcrypt -lutil -lc
    perllibs=-lpthread -lm -lcrypt -lutil -lc
    libc=, so=so, useshrplib=false, libperl=libperl.a
    gnulibc_version=''
  Dynamic Linking:
    dlsrc=dl_dlopen.xs, dlext=so, d_dlsymun=undef, ccdlflags=' '
    cccdlflags='-DPIC -fPIC', lddlflags='-shared  -L/usr/local/lib -fstack-protector'


Characteristics of this binary (from libperl): 
  Compile-time options: HAS_TIMES PERLIO_LAYERS PERL_DONT_CREATE_GVSV
                        PERL_HASH_FUNC_ONE_AT_A_TIME_HARD PERL_MALLOC_WRAP
                        PERL_NEW_COPY_ON_WRITE PERL_PRESERVE_IVUV
                        USE_64_BIT_ALL USE_64_BIT_INT USE_LARGE_FILES
                        USE_LOCALE USE_LOCALE_COLLATE USE_LOCALE_CTYPE
                        USE_LOCALE_NUMERIC USE_LOCALE_TIME USE_PERLIO
                        USE_PERL_ATOF
  Locally applied patches:
	RC4
  Built under freebsd
  Compiled at Oct 13 2016 19:50:47
  %ENV:
    PERL5LIB="/home/cpansand/.cpan/build/2016110118/Gtk2-1.2499-vLFJqY/blib/arch:/home/cpansand/.cpan/build/2016110118/Gtk2-1.2499-vLFJqY/blib/lib:/home/cpansand/.cpan/build/2016110118/Glib-Ex-ObjectBits-16-FwierB/blib/arch:/home/cpansand/.cpan/build/2016110118/Glib-Ex-ObjectBits-16-FwierB/blib/lib"
    PERL5OPT=""
    PERL5_CPANPLUS_IS_RUNNING="83985"
    PERL5_CPAN_IS_RUNNING="83985"
    PERL5_CPAN_IS_RUNNING_IN_RECURSION="76793,83985"
    PERLDOC="-MPod::Perldoc::ToTextOverstrike"
    PERL_BATCH="yes"
    PERL_CANARY_STABILITY_NOPROMPT="1"
    PERL_CPAN_REPORTER_CONFIG="/var/tmp/cpansmoker-1023/2016110118/cpanreporter_002_config.ini"
    PERL_EXTUTILS_AUTOINSTALL="--defaultdeps"
  @INC:
    /home/cpansand/.cpan/build/2016110118/Gtk2-1.2499-vLFJqY/blib/arch
    /home/cpansand/.cpan/build/2016110118/Gtk2-1.2499-vLFJqY/blib/lib
    /home/cpansand/.cpan/build/2016110118/Glib-Ex-ObjectBits-16-FwierB/blib/arch
    /home/cpansand/.cpan/build/2016110118/Glib-Ex-ObjectBits-16-FwierB/blib/lib
    /usr/perl5.22.3-RC4p/lib/site_perl/5.22.3/amd64-freebsd
    /usr/perl5.22.3-RC4p/lib/site_perl/5.22.3
    /usr/perl5.22.3-RC4p/lib/5.22.3/amd64-freebsd
    /usr/perl5.22.3-RC4p/lib/5.22.3
    .