Benchmark-Perl-Formance v0.53 Perl 5 v5.22.2 x86_64-linux
- Status
- Pass
- From
- Slaven Rezić (SREZIC)
- Dist
-
Benchmark-Perl-Formance v0.53
- Platform
- Perl 5 v5.22.2 x86_64-linux
- Date
- 2018-04-22 09:04:11
- ID
- 1f94ce8c-460c-11e8-b65e-f14d06330c6e
This distribution has been tested as part of the CPAN Testers
project, supporting the Perl programming language. See
http://wiki.cpantesters.org/ for more information or email
questions to cpan-testers-discuss@perl.org
--
Dear Steffen Schwigon,
This is a computer-generated report for Benchmark-Perl-Formance-0.53
on perl 5.22.2, created by CPAN-Reporter-1.2018.
Thank you for uploading your work to CPAN. Congratulations!
All tests were successful.
Sections of this report:
* Tester comments
* Program output
* Prerequisites
* Environment and other context
------------------------------
TESTER COMMENTS
------------------------------
Additional comments from tester:
none provided
------------------------------
PROGRAM OUTPUT
------------------------------
Output from 'make test':
PERL_DL_NONLAZY=1 "/opt/perl-5.22.2/bin/perl" "-MExtUtils::Command::MM" "-MTest::Harness" "-e" "undef *Test::Harness::Switches; test_harness(0, 'blib/lib', 'blib/arch')" t/*.t
t/00-compile.t ......... ok
#
# Testing Benchmark::Perl::Formance 0.53, Perl 5.022002, /opt/perl-5.22.2/bin/perl
t/00-load.t ............ ok
t/author-eol.t ......... skipped: these tests are for testing by the author
t/author-pod-syntax.t .. skipped: these tests are for testing by the author
t/basic.t .............. ok
#
# Sample run. May take some seconds...
# Run DPath...
# Run Fib...
# Run FibOO...
# Run Mem...
# Run MatrixReal...
# Run Prime...
# Run Rx...
# Run RxMicro...
# Run Shootout::fasta...
# Run Shootout::regexdna...
# Run Shootout::binarytrees...
# Run Shootout::revcomp...
# Run Shootout::nbody...
# Run Shootout::spectralnorm...
#
# perlformance.perl5.DPath.dpath : 0.046784
# perlformance.perl5.Fib : 0.018275
# perlformance.perl5.FibOO : 0.024354
# perlformance.perl5.MatrixReal.det.005 : 0.081046
# perlformance.perl5.MatrixReal.det_LR.005 : 0.074561
# perlformance.perl5.MatrixReal.inverse.005 : 0.262189
# perlformance.perl5.MatrixReal.invert_LR.005 : 0.262630
# perlformance.perl5.MatrixReal.matrix_squared.005 : 0.073208
# perlformance.perl5.MatrixReal.matrix_times_itself.005 : 0.055585
# perlformance.perl5.MatrixReal.to_negative_one.005 : 0.315555
# perlformance.perl5.Mem.allocate : 0.185990
# perlformance.perl5.Mem.copy : 0.280528
# perlformance.perl5.Prime.math_primality : 0.002151
# perlformance.perl5.Rx.regexes.fieldsplit1 : 0.303361
# perlformance.perl5.Rx.regexes.fieldsplit2 : 0.094687
# perlformance.perl5.Rx.regexes.pathological : 0.164441
# perlformance.perl5.RxMicro.code-literal : 0.256911
# perlformance.perl5.RxMicro.code-runtime : 0.130520
# perlformance.perl5.RxMicro.precompile-access : 0.350813
# perlformance.perl5.RxMicro.runtime-compile : 0.407953
# perlformance.perl5.RxMicro.runtime-compile-nocache : 0.223985
# perlformance.perl5.Shootout.binarytrees : 0.114493
# perlformance.perl5.Shootout.fasta : 0.076657
# perlformance.perl5.Shootout.nbody : 0.044765
# perlformance.perl5.Shootout.spectralnorm : 0.751328
t/samplerun.t .......... ok
All tests successful.
Files=6, Tests=21, 6 wallclock secs ( 0.01 usr 0.03 sys + 5.45 cusr 1.65 csys = 7.14 CPU)
Result: PASS
------------------------------
PREREQUISITES
------------------------------
Prerequisite modules loaded:
requires:
Module Need Have
--------------------- ---- --------
Config::Perl::V 0 0.24
Data::DPath 0 0.56
Data::Structure::Util 0 0.16
Data::YAML::Writer 0 0.0.7
Devel::Platform::Info 0 0.16
JSON 0 2.97001
List::Util 0 1.50
Math::MatrixReal 0 2.13
Math::Primality 0 0.08
Sys::Hostname 0 1.20
Sys::Info 0 0.78
build_requires:
Module Need Have
--------------------- ---- --------
Data::YAML::Reader 0 0.0.7
ExtUtils::MakeMaker 0 7.34
File::Spec 0 3.74
IO::Handle 0 1.35
IPC::Open3 0 1.18
Test::More 0.88 1.302136
configure_requires:
Module Need Have
--------------------- ---- --------
ExtUtils::MakeMaker 0 7.34
------------------------------
ENVIRONMENT AND OTHER CONTEXT
------------------------------
Environment variables:
LANG = en_US.UTF-8
PATH = /usr/local/bin:/usr/bin:/bin:/usr/local/sbin:/usr/sbin:/sbin:/home/cpansand/bin/linux-gnu:/home/cpansand/bin/sh:/home/cpansand/bin:/usr/games:/home/cpansand/devel:/home/eserte/src/srezic-misc/scripts
PERL5LIB =
PERL5OPT =
PERL5_CPANPLUS_IS_RUNNING = 26971
PERL5_CPAN_IS_RUNNING = 26971
PERL5_CPAN_IS_RUNNING_IN_RECURSION = 23698,26971
PERLDOC = -MPod::Perldoc::ToTextOverstrike
PERL_BATCH = yes
PERL_CANARY_STABILITY_NOPROMPT = 1
PERL_CPAN_REPORTER_CONFIG = /var/tmp/cpansmoker-1023/2018042203/cpanreporter_002_config.ini
PERL_EXTUTILS_AUTOINSTALL = --defaultdeps
SHELL = /bin/zsh
TERM = screen
TMPDIR = /var/tmp/cpansmoker-1023/2018042203
Perl special variables (and OS-specific diagnostics, for MSWin32):
$^X = /opt/perl-5.22.2/bin/perl
$UID/$EUID = 1023 / 1023
$GID = 1023 1023
$EGID = 1023 1023
Perl module toolchain versions installed:
Module Have
------------------- --------
CPAN 2.16
CPAN::Meta 2.150010
Cwd 3.74
ExtUtils::CBuilder 0.280230
ExtUtils::Command 7.34
ExtUtils::Install 2.06
ExtUtils::MakeMaker 7.34
ExtUtils::Manifest 1.70
ExtUtils::ParseXS 3.35
File::Spec 3.74
JSON 2.97001
JSON::PP 2.97001
Module::Build 0.4224
Module::Signature 0.81
Parse::CPAN::Meta 2.150010
Test::Harness 3.42
Test::More 1.302136
YAML 1.24
YAML::Syck 1.30
version 0.9923
--
Summary of my perl5 (revision 5 version 22 subversion 2) configuration:
Platform:
osname=linux, osvers=2.6.32-696.3.1.el6.x86_64, archname=x86_64-linux
uname='linux centos6 2.6.32-696.3.1.el6.x86_64 #1 smp tue may 30 19:52:55 utc 2017 x86_64 x86_64 x86_64 gnulinux '
config_args='-ds -e -Dprefix=/opt/perl-5.22.2 -Dcf_email=srezic@cpan.org'
hint=recommended, useposix=true, d_sigaction=define
useithreads=undef, usemultiplicity=undef
use64bitint=define, use64bitall=define, uselongdouble=undef
usemymalloc=n, bincompat5005=undef
Compiler:
cc='cc', ccflags ='-fwrapv -fno-strict-aliasing -pipe -fstack-protector -I/usr/local/include -D_LARGEFILE_SOURCE -D_FILE_OFFSET_BITS=64 -D_FORTIFY_SOURCE=2',
optimize='-O2',
cppflags='-fwrapv -fno-strict-aliasing -pipe -fstack-protector -I/usr/local/include'
ccversion='', gccversion='4.4.7 20120313 (Red Hat 4.4.7-18)', gccosandvers=''
intsize=4, longsize=8, ptrsize=8, doublesize=8, byteorder=12345678, doublekind=3
d_longlong=define, longlongsize=8, d_longdbl=define, longdblsize=16, longdblkind=3
ivtype='long', ivsize=8, nvtype='double', nvsize=8, Off_t='off_t', lseeksize=8
alignbytes=8, prototype=define
Linker and Libraries:
ld='cc', ldflags =' -fstack-protector -L/usr/local/lib'
libpth=/usr/local/lib /usr/lib /lib/../lib64 /usr/lib/../lib64 /lib /lib64 /usr/lib64 /usr/local/lib64
libs=-lpthread -lnsl -lgdbm -ldb -ldl -lm -lcrypt -lutil -lc
perllibs=-lpthread -lnsl -ldl -lm -lcrypt -lutil -lc
libc=libc-2.12.so, so=so, useshrplib=false, libperl=libperl.a
gnulibc_version='2.12'
Dynamic Linking:
dlsrc=dl_dlopen.xs, dlext=so, d_dlsymun=undef, ccdlflags='-Wl,-E'
cccdlflags='-fPIC', lddlflags='-shared -O2 -L/usr/local/lib -fstack-protector'
Characteristics of this binary (from libperl):
Compile-time options: HAS_TIMES PERLIO_LAYERS PERL_DONT_CREATE_GVSV
PERL_HASH_FUNC_ONE_AT_A_TIME_HARD PERL_MALLOC_WRAP
PERL_NEW_COPY_ON_WRITE PERL_PRESERVE_IVUV
USE_64_BIT_ALL USE_64_BIT_INT USE_LARGE_FILES
USE_LOCALE USE_LOCALE_COLLATE USE_LOCALE_CTYPE
USE_LOCALE_NUMERIC USE_LOCALE_TIME USE_PERLIO
USE_PERL_ATOF
Built under linux
Compiled at Jun 21 2017 19:08:23
%ENV:
PERL5LIB=""
PERL5OPT=""
PERL5_CPANPLUS_IS_RUNNING="26971"
PERL5_CPAN_IS_RUNNING="26971"
PERL5_CPAN_IS_RUNNING_IN_RECURSION="23698,26971"
PERLDOC="-MPod::Perldoc::ToTextOverstrike"
PERL_BATCH="yes"
PERL_CANARY_STABILITY_NOPROMPT="1"
PERL_CPAN_REPORTER_CONFIG="/var/tmp/cpansmoker-1023/2018042203/cpanreporter_002_config.ini"
PERL_EXTUTILS_AUTOINSTALL="--defaultdeps"
@INC:
/opt/perl-5.22.2/lib/site_perl/5.22.2/x86_64-linux
/opt/perl-5.22.2/lib/site_perl/5.22.2
/opt/perl-5.22.2/lib/5.22.2/x86_64-linux
/opt/perl-5.22.2/lib/5.22.2
.