Back
From: metabase:user:30977d10-2aae-11df-837a-5e0a49663a4f
Subject: PASS Data-Comparable-1.100840 v5.14.3 GNU/Linux
Date: 2012-11-22T12:42:49Z
This distribution has been tested as part of the CPAN Testers
project, supporting the Perl programming language. See
http://wiki.cpantesters.org/ for more information or email
questions to cpan-testers-discuss@perl.org
--
Dear Marcel Gruenauer,
This is a computer-generated report for Data-Comparable-1.100840
on perl 5.14.3, created by CPAN-Reporter-1.2006.
Thank you for uploading your work to CPAN. Congratulations!
All tests were successful.
Sections of this report:
* Tester comments
* Program output
* Prerequisites
* Environment and other context
------------------------------
TESTER COMMENTS
------------------------------
Additional comments from tester:
this report is from an automated smoke testing program
and was not reviewed by a human for accuracy
------------------------------
PROGRAM OUTPUT
------------------------------
Output from '/usr/bin/make test':
PERL_DL_NONLAZY=1 /home/stro/perl/perl5143/bin/perl "-MExtUtils::Command::MM" "-e" "test_harness(0, 'blib/lib', 'blib/arch')" t/*.t
t/00-compile.t ............... ok
# Testing with Perl 5.014003, /home/stro/perl/perl5143/bin/perl
# Carp version is 1.26
# Data::Dumper version is 2.136
# Data::Inherited version is 1.100860
# English version is 1.04
# ExtUtils::MakeMaker version is 6.62
# File::Find version is 1.19
# File::Temp version is 0.22
# FindBin version is 1.50
# Scalar::Util version is 1.23
# Test::More version is 0.98
# UNIVERSAL::require version is 0.13
# YAML version is 0.84
# constant version is 1.21
# parent version is 0.225
t/000-report-versions.t ...... ok
t/01_all.t ................... ok
t/author-critic.t ............ skipped: these tests are for testing by the author
t/release-check-changes.t .... skipped: these tests are for release candidate testing
t/release-dist-manifest.t .... skipped: these tests are for release candidate testing
t/release-has-version.t ...... skipped: these tests are for release candidate testing
t/release-kwalitee.t ......... skipped: these tests are for release candidate testing
t/release-meta-yaml.t ........ skipped: these tests are for release candidate testing
t/release-minimum-version.t .. skipped: these tests are for release candidate testing
t/release-pod-coverage.t ..... skipped: these tests are for release candidate testing
t/release-pod-spell.t ........ skipped: these tests are for release candidate testing
t/release-pod-syntax.t ....... skipped: these tests are for release candidate testing
t/release-portability.t ...... skipped: these tests are for release candidate testing
t/release-synopsis.t ......... skipped: these tests are for release candidate testing
All tests successful.
Files=15, Tests=19, 2 wallclock secs ( 0.10 usr 0.11 sys + 0.72 cusr 0.45 csys = 1.38 CPU)
Result: PASS
------------------------------
PREREQUISITES
------------------------------
Prerequisite modules loaded:
requires:
Module Need Have
------------------- ---- --------
Carp 0 1.26
constant 0 1.21
Data::Dumper 0 2.136
Data::Inherited 0 1.100860
English 0 1.04
File::Find 0 1.19
File::Temp 0 0.22
FindBin 0 1.50
parent 0 0.225
Scalar::Util 0 1.23
Test::More 0.88 0.98
UNIVERSAL::require 0 0.13
YAML 0 0.84
configure_requires:
Module Need Have
------------------- ---- --------
ExtUtils::MakeMaker 6.11 6.62
------------------------------
ENVIRONMENT AND OTHER CONTEXT
------------------------------
Environment variables:
AUTOMATED_TESTING = 1
LANG = en_US.UTF-8
PATH = /usr/local/bin:/usr/bin:/bin:/usr/local/games:/usr/games
PERL5LIB =
PERL5OPT =
PERL5_CPANPLUS_IS_RUNNING = 25309
PERL5_CPAN_IS_RUNNING = 25309
PERL5_CPAN_IS_RUNNING_IN_RECURSION = 31216,25309
PERL_CR_SMOKER_CURRENT = Data-Comparable-1.100840
PERL_EXTUTILS_AUTOINSTALL = --defaultdeps
PERL_MM_USE_DEFAULT = 1
SHELL = /bin/bash
TERM = xterm
Perl special variables (and OS-specific diagnostics, for MSWin32):
$^X = /home/stro/perl/perl5143/bin/perl
$UID/$EUID = 1000 / 1000
$GID = 1000 24 25 29 30 44 46 1000
$EGID = 1000 24 25 29 30 44 46 1000
Perl module toolchain versions installed:
Module Have
------------------- --------
CPAN 1.9800
CPAN::Meta 2.120921
Cwd 3.36
ExtUtils::CBuilder 0.280205
ExtUtils::Command 1.17
ExtUtils::Install 1.54
ExtUtils::MakeMaker 6.62
ExtUtils::Manifest 1.58
ExtUtils::ParseXS 3.18
File::Spec 3.33
JSON 2.53
JSON::PP 2.27200
Module::Build 0.4003
Module::Signature 0.69
Parse::CPAN::Meta 1.4404
Test::Harness 3.23
Test::More 0.98
YAML 0.84
YAML::Syck 1.21
version 0.88
--
Summary of my perl5 (revision 5 version 14 subversion 3) configuration:
Platform:
osname=linux, osvers=2.6.32-5-686, archname=i686-linux
uname='linux vm-debian001 2.6.32-5-686 #1 smp sun sep 23 09:49:36 utc 2012 i686 gnulinux '
config_args=''
hint=recommended, useposix=true, d_sigaction=define
useithreads=undef, usemultiplicity=undef
useperlio=define, d_sfio=undef, uselargefiles=define, usesocks=undef
use64bitint=undef, use64bitall=undef, uselongdouble=undef
usemymalloc=n, bincompat5005=undef
Compiler:
cc='cc', ccflags ='-fno-strict-aliasing -pipe -fstack-protector -I/usr/local/include -D_LARGEFILE_SOURCE -D_FILE_OFFSET_BITS=64',
optimize='-O2',
cppflags='-fno-strict-aliasing -pipe -fstack-protector -I/usr/local/include'
ccversion='', gccversion='4.4.5', gccosandvers=''
intsize=4, longsize=4, ptrsize=4, doublesize=8, byteorder=1234
d_longlong=define, longlongsize=8, d_longdbl=define, longdblsize=12
ivtype='long', ivsize=4, nvtype='double', nvsize=8, Off_t='off_t', lseeksize=8
alignbytes=4, prototype=define
Linker and Libraries:
ld='cc', ldflags =' -fstack-protector -L/usr/local/lib'
libpth=/usr/local/lib /lib/../lib /usr/lib/../lib /lib /usr/lib
libs=-lnsl -ldl -lm -lcrypt -lutil -lc
perllibs=-lnsl -ldl -lm -lcrypt -lutil -lc
libc=/lib/libc-2.11.3.so, so=so, useshrplib=false, libperl=libperl.a
gnulibc_version='2.11.3'
Dynamic Linking:
dlsrc=dl_dlopen.xs, dlext=so, d_dlsymun=undef, ccdlflags='-Wl,-E'
cccdlflags='-fPIC', lddlflags='-shared -O2 -L/usr/local/lib -fstack-protector'
Characteristics of this binary (from libperl):
Compile-time options: PERL_DONT_CREATE_GVSV PERL_MALLOC_WRAP
PERL_PRESERVE_IVUV USE_LARGE_FILES USE_PERLIO
USE_PERL_ATOF
Built under linux
Compiled at Oct 27 2012 03:27:35
%ENV:
PERL5LIB=""
PERL5OPT=""
PERL5_CPANPLUS_IS_RUNNING="25309"
PERL5_CPAN_IS_RUNNING="25309"
PERL5_CPAN_IS_RUNNING_IN_RECURSION="31216,25309"
PERL_CR_SMOKER_CURRENT="Data-Comparable-1.100840"
PERL_EXTUTILS_AUTOINSTALL="--defaultdeps"
PERL_MM_USE_DEFAULT="1"
@INC:
/home/stro/perl/perl5143/lib/site_perl/5.14.3/i686-linux
/home/stro/perl/perl5143/lib/site_perl/5.14.3
/home/stro/perl/perl5143/lib/5.14.3/i686-linux
/home/stro/perl/perl5143/lib/5.14.3
.